Workbook

Sheet CHECK LIST PPTPKH
A1: DAFTAR DESA TENTATIF PPTPKH KABUPATEN NGANJUK
A2: No. | B2: Desa/PD | C2: Kecamatan | D2: Status Kawasan | E2: Instansi | F2: Status Usulan | G2: Tahun Usulan | H2: Dikunjungi | J2: Berkenan Mengajukan | L2: Hard Copy Berkas | M2: Soft Copy Berkas | N2: SHP Sketsa Tanah | O2: Upload Berkas ke Timdu | P2: Koordinat | Q2: Diterima Tanggal | R2: Status Berkas | V2: Formulir Permohonan Inventarisasi dan verifikasi | W2: Rekapitulasi Daftar Pemohon | X2: Sketsa Tanah | Y2: Surat Pernyataan Penguasaan Fisik Bidang | Z2: Pakta Integritas | AA2: Fc. KK & KTP | AB2: Permohonan Kepada Bupati | AC2: Pengusulan PPTPKH | AG2: Luas Total (m2) | AH2: keterangan | AI2: KONTROL WARNA
H3: sudah | I3: belum | J3: ya | K3: tidak | R3: Lengkap | S3: Belum Lengkap | T3: Revisi | U3: Diluar Dinas | AC3: Pemukiman | AE3: Fasum / Fasos
AC4: unit | AD4: luas (m2) | AE4: unit | AF4: luas (m2)
A5: 1 | B5: BAJULAN | C5: LOCERET | D5: INDIKATIF | E5: PEMERINTAH DESA | F5: TAHAP 1 | G5: =IF($F5="Tahap 1",2022,IF($F5="Tahap 2",2023,"-")) -> 2022 | I5: 1 | J5: 1 | L5: 1 | M5: 1 | N5: cdk | O5: 44890 | P5: 7°46'20.98"S, 111°50'56.37"T | Q5: 44889 | R5: 1 | V5: 1 | W5: 1 | X5: 1 | Y5: 1 | Z5: 1 | AA5: 1 | AB5: 1 | AC5: 126 | AD5: 85762 | AE5: 7 | AF5: =282+204+372+135+7453+5694+2512 -> 16652 | AG5: =AD5+AF5 -> 102414
A6: =A5+1 -> 2 | B6: MACANAN | C6: LOCERET | D6: INDIKATIF | E6: PEMERINTAH DESA | F6: - | G6: =IF($F6="Tahap 1",2022,IF($F6="Tahap 2",2023,"-")) -> - | I6: 1 | K6: 1 | L6: 0 | M6: 0 | N6: 0 | P6: - | AH6: tidak ada permukiman, fasum, dan fasos yang masuk kawasan hutan | AI6: TIDAK ADA PERMUKIMAN DAN FASUM/FASOS
A7: =A6+1 -> 3 | B7: MAGUAN | C7: BERBEK | D7: INDIKATIF | E7: PEMERINTAH DESA | F7: TAHAP 1 | G7: =IF($F7="Tahap 1",2022,IF($F7="Tahap 2",2023,"-")) -> 2022 | H7: 1 | J7: 1 | L7: 1 | M7: 1 | N7: timdu | O7: 44895 | P7: 7°40'21.27"S, 111°49'28.93"T | Q7: 44890 | R7: 1 | V7: 1 | W7: 1 | X7: 1 | Y7: 1 | Z7: 1 | AA7: 1 | AB7: 1 | AC7: 35 | AD7: 1100 | AE7: 2 | AF7: 823 | AG7: =AD7+AF7 -> 1923 | AH7: tambahan data dari gema
B8: MAGUAN | C8: BERBEK | D8: INDIKATIF | E8: PEMERINTAH DESA | F8: TAHAP 2 | G8: =IF($F8="Tahap 1",2022,IF($F8="Tahap 2",2023,"-")) -> 2023 | I8: 0 | J8: 1 | L8: 1 | M8: 1 | N8: timdu | Q8: 45051 | R8: 1 | V8: 1 | W8: 1 | X8: 1 | Y8: 1 | Z8: 1 | AA8: 1 | AB8: 1 | AC8: 57 | AE8: 5 | AG8: 104992 | AH8: total permukiman 92, total fasum fasos 7, total luas 106.915
A9: =A7+1 -> 4 | B9: CEPOKO | C9: BERBEK | D9: INDIKATIF | E9: PEMERINTAH DESA | F9: - | G9: =IF($F9="Tahap 1",2022,IF($F9="Tahap 2",2023,"-")) -> - | H9: 1 | K9: 1 | L9: 0 | M9: 0 | N9: 0 | P9: - | AH9: tidak ada permukiman, fasum, dan fasos yang masuk kawasan hutan | AI9: TIDAK ADA PERMUKIMAN DAN FASUM/FASOS
A10: =A9+1 -> 5 | B10: SIDOREJO | C10: SAWAHAN | D10: INDIKATIF | E10: PEMERINTAH DESA | F10: - | G10: =IF($F10="Tahap 1",2022,IF($F10="Tahap 2",2023,"-")) -> - | I10: 1 | K10: 1 | P10: 7°42'55.54"S, 111°46'25.29"T | AI10: TIDAK ADA PERMUKIMAN DAN FASUM/FASOS
A11: =A10+1 -> 6 | B11: MARGOPATUT | C11: SAWAHAN | D11: INDIKATIF | E11: PEMERINTAH DESA | F11: TAHAP 1 | G11: =IF($F11="Tahap 1",2022,IF($F11="Tahap 2",2023,"-")) -> 2022 | H11: 1 | J11: 1 | L11: 1 | M11: 1 | N11: cdk | O11: 44890 | P11: 7°45'11.63"S, 111°47'53.00"T | Q11: 44890 | R11: 1 | V11: 1 | W11: 1 | X11: 1 | Y11: 1 | Z11: 1 | AA11: 1 | AB11: 1 | AC11: 35 | AD11: 27609 | AE11: 2 | AF11: =311+2135 -> 2446 | AG11: =AD11+AF11 -> 30055
A12: =A11+1 -> 7 | B12: SURU | C12: NGETOS | D12: INDIKATIF | E12: PEMERINTAH DESA | F12: - | G12: =IF($F12="Tahap 1",2022,IF($F12="Tahap 2",2023,"-")) -> - | H12: 1 | K12: 1 | L12: 0 | M12: 0 | N12: 0 | P12: - | AH12: tidak ada permukiman, fasum, dan fasos yang masuk kawasan hutan | AI12: TIDAK ADA PERMUKIMAN DAN FASUM/FASOS
A13: =A12+1 -> 8 | B13: MOJODUWUR | C13: NGETOS | D13: INDIKATIF | E13: PEMERINTAH DESA | F13: TAHAP 2 | G13: =IF($F13="Tahap 1",2022,IF($F13="Tahap 2",2023,"-")) -> 2023 | H13: 1 | J13: 1 | M13: 1 | N13: timdu | P13: 7°41'22.16"S, 111°51'28.66"T | Q13: 45051 | R13: 1 | U13: 1 | AC13: 262 | AE13: 11 | AG13: 540400 | AH13: Mengajukan melalui LSM GEMA-PS | AI13: USULAN TIDAK MELALUI DINAS
A14: =A13+1 -> 9 | B14: NGETOS | C14: NGETOS | D14: INDIKATIF | E14: PEMERINTAH DESA | F14: TAHAP 1 | G14: =IF($F14="Tahap 1",2022,IF($F14="Tahap 2",2023,"-")) -> 2022 | H14: 1 | J14: 1 | L14: 1 | M14: 1 | N14: 1 | O14: 44890 | P14: 7°41'16.27"S, 111°50'8.71"T | Q14: 44890 | R14: 1 | V14: 1 | W14: 1 | X14: 1 | Y14: 1 | Z14: 1 | AA14: 1 | AB14: 1 | AC14: 32 | AD14: 3779 | AE14: 4 | AF14: =976+199+370+7100 -> 8645 | AG14: =AD14+AF14 -> 12424
A15: =A14+1 -> 10 | B15: SUDIMOROHARJO | C15: WILANGAN | D15: INDIKATIF | E15: PEMERINTAH DESA | F15: TAHAP 1 | G15: =IF($F15="Tahap 1",2022,IF($F15="Tahap 2",2023,"-")) -> 2022 | H15: 1 | J15: 1 | L15: 1 | M15: 1 | N15: timdu | O15: 44895 | P15: 7°39'21.70"S, 111°47'52.26"T | Q15: 44889 | R15: 1 | V15: 1 | W15: 1 | X15: 1 | Y15: 1 | Z15: 1 | AA15: 1 | AB15: 1 | AC15: 33 | AD15: 22000 | AE15: 3 | AF15: 8000 | AG15: =AD15+AF15 -> 30000 | AH15: tambahan data dari gema
B16: SUDIMOROHARJO | C16: WILANGAN | D16: INDIKATIF | E16: PEMERINTAH DESA | F16: TAHAP 2 | G16: =IF($F16="Tahap 1",2022,IF($F16="Tahap 2",2023,"-")) -> 2023 | H16: 1 | J16: 1 | L16: 1 | M16: 1 | N16: timdu | P16: 7°39'21.70"S, 111°47'52.26"T | R16: 1 | V16: 1 | W16: 1 | X16: 1 | Y16: 1 | Z16: 1 | AA16: 1 | AB16: 1 | AC16: 176 | AE16: 10 | AG16: 242061 | AH16: total permukiman 209, total fasum fasos 13, total luas 272.061
A17: =A15+1 -> 11 | B17: NGADIPIRO | C17: WILANGAN | D17: INDIKATIF | E17: PEMERINTAH DESA | F17: TAHAP 1 | G17: =IF($F17="Tahap 1",2022,IF($F17="Tahap 2",2023,"-")) -> 2022 | H17: 1 | J17: 1 | L17: 1 | M17: 1 | N17: 1 | O17: 44890 | P17: 7°36'31.33"S, 111°47'36.24"T | Q17: 44889 | R17: 1 | V17: 1 | W17: 1 | X17: 1 | Y17: 1 | Z17: 1 | AA17: 1 | AC17: 5 | AD17: 6933 | AG17: =AD17+AF17 -> 6933
A18: =A17+1 -> 12 | B18: DAWUHAN | C18: JATIKALEN | D18: INDIKATIF | E18: PEMERINTAH DESA | F18: TAHAP 1 | G18: =IF($F18="Tahap 1",2022,IF($F18="Tahap 2",2023,"-")) -> 2022 | I18: 1 | J18: 1 | L18: 1 | M18: 1 | O18: 44904 | P18: 7°29'29.60"S, 112° 8'15.50"T | Q18: 44922 | R18: 1 | V18: 1 | W18: 1 | X18: 1 | Y18: 1 | Z18: 1 | AA18: 1 | AB18: 1 | AE18: 1 | AF18: 10000 | AG18: =AD18+AF18 -> 10000 | AH18: tidak ada permukiman, fasum, dan fasos yang masuk kawasan hutan
A19: =A18+1 -> 13 | B19: PULOWETAN | C19: JATIKALEN | D19: INDIKATIF | E19: PEMERINTAH DESA | F19: TAHAP 1 | G19: =IF($F19="Tahap 1",2022,IF($F19="Tahap 2",2023,"-")) -> 2022 | I19: 1 | J19: 1 | L19: 1 | M19: 1 | N19: 1 | O19: 44904 | P19: 7°29'00.0"S, 112°09'33.0"E | Q19: 44903 | R19: 1 | V19: 1 | W19: 1 | X19: 1 | Y19: 1 | Z19: 1 | AA19: 1 | AB19: 1 | AE19: 3 | AF19: 2100 | AG19: =AD19+AF19 -> 2100 | AH19: tidak ada permukiman, fasum, dan fasos yang masuk kawasan hutan
A20: =A19+1 -> 14 | B20: NGEPUNG | C20: LENGKONG | D20: INDIKATIF | E20: PEMERINTAH DESA | F20: TAHAP 1 | G20: =IF($F20="Tahap 1",2022,IF($F20="Tahap 2",2023,"-")) -> 2022 | H20: 1 | J20: 1 | L20: 1 | M20: 1 | N20: 1 | O20: 44890 | P20: 7°26'25.37"S, 112° 3'57.88"T | Q20: 44890 | R20: 1 | V20: 1 | W20: 1 | X20: 1 | Y20: 1 | Z20: 1 | AA20: 1 | AC20: 3 | AD20: 2600 | AE20: 6 | AF20: 56100 | AG20: =AD20+AF20 -> 58700
A21: =A20+1 -> 15 | B21: KETANDAN | C21: LENGKONG | D21: INDIKATIF | E21: PEMERINTAH DESA | F21: TAHAP 1 | G21: =IF($F21="Tahap 1",2022,IF($F21="Tahap 2",2023,"-")) -> 2022 | H21: 1 | J21: 1 | L21: 1 | M21: 1 | N21: 1 | O21: 44890 | P21: 7°29'44.90"S, 112° 3'47.61"T | Q21: 44890 | R21: 1 | V21: 1 | W21: 1 | X21: 1 | Y21: 1 | Z21: 1 | AA21: 1 | AE21: 1 | AF21: 2305 | AG21: =AD21+AF21 -> 2305
A22: =A21+1 -> 16 | B22: SUMBERKEPUH | C22: LENGKONG | D22: INDIKATIF | E22: PEMERINTAH DESA | F22: - | G22: =IF($F22="Tahap 1",2022,IF($F22="Tahap 2",2023,"-")) -> - | H22: 1 | K22: 1 | L22: 0 | M22: 0 | N22: 0 | P22: - | AH22: tidak ada permukiman, fasum, dan fasos yang masuk kawasan hutan | AI22: TIDAK ADA PERMUKIMAN DAN FASUM/FASOS
A23: =A22+1 -> 17 | B23: BANJARDOWO | C23: LENGKONG | D23: INDIKATIF | E23: PEMERINTAH DESA | F23: TAHAP 1 | G23: =IF($F23="Tahap 1",2022,IF($F23="Tahap 2",2023,"-")) -> 2022 | H23: 1 | J23: 1 | L23: 1 | M23: 1 | N23: cdk | O23: 44890 | P23: 7°32'11.44"S, 112° 3'2.37"T | Q23: 44890 | R23: 1 | V23: 1 | W23: 1 | X23: 1 | Y23: 1 | Z23: 1 | AA23: 1 | AB23: 1 | AC23: 15 | AD23: 13152 | AG23: =AD23+AF23 -> 13152
A24: =A23+1 -> 18 | B24: PINGGIR | C24: LENGKONG | D24: LUAR INDIKATIF | E24: PEMERINTAH DESA | F24: TAHAP 1 | G24: =IF($F24="Tahap 1",2022,IF($F24="Tahap 2",2023,"-")) -> 2022 | H24: 1 | J24: 1 | L24: 1 | M24: 1 | N24: cdk | O24: 44895 | P24: 7°28'23.20"S, 112° 4'40.64"T | Q24: 44890 | R24: 1 | V24: 1 | W24: 1 | X24: 1 | Y24: 1 | Z24: 1 | AA24: 1 | AB24: 1 | AE24: 8 | AF24: 10900 | AG24: =AD24+AF24 -> 10900
A25: =A24+1 -> 19 | B25: SUMBERMIRI | C25: LENGKONG | D25: LUAR INDIKATIF | E25: PEMERINTAH DESA | F25: TAHAP 1 | G25: =IF($F25="Tahap 1",2022,IF($F25="Tahap 2",2023,"-")) -> 2022 | H25: 1 | J25: 1 | L25: 1 | M25: 1 | N25: 1 | O25: 44890 | P25: 7°27'37.54"S, 112° 2'20.26"T | Q25: 44890 | R25: 1 | V25: 1 | W25: 1 | X25: 1 | Y25: 1 | Z25: 1 | AA25: 1 | AB25: 1 | AC25: 16 | AD25: 8738 | AE25: 9 | AF25: =1199+10000+201+596.75+1131+1351+200+500+1798 -> 16976.75 | AG25: =AD25+AF25 -> 25714.75
A26: =A25+1 -> 20 | B26: BALONGGEBANG | C26: GONDANG | D26: INDIKATIF | E26: PEMERINTAH DESA | F26: - | G26: =IF($F26="Tahap 1",2022,IF($F26="Tahap 2",2023,"-")) -> - | I26: 1 | K26: 1 | L26: 0 | M26: 0 | N26: 0 | P26: - | AH26: tidak ada permukiman, fasum, dan fasos yang masuk kawasan hutan | AI26: TIDAK ADA PERMUKIMAN DAN FASUM/FASOS
A27: =A26+1 -> 21 | B27: SUMBERAGUNG | C27: GONDANG | D27: INDIKATIF | E27: PEMERINTAH DESA | F27: TAHAP 1 | G27: =IF($F27="Tahap 1",2022,IF($F27="Tahap 2",2023,"-")) -> 2022 | I27: 1 | J27: 1 | L27: 1 | M27: 1 | N27: 1 | O27: 44895 | P27: 7°31'28.00"S, 112° 0'56.00"T | Q27: 44890 | R27: 1 | V27: 1 | W27: 1 | X27: 1 | Y27: 1 | Z27: 1 | AA27: 1 | AB27: 1 | AE27: 1 | AF27: 10000 | AG27: =AD27+AF27 -> 10000
A28: =A27+1 -> 22 | B28: TRITIK | C28: REJOSO | D28: INDIKATIF | E28: PEMERINTAH DESA | F28: TAHAP 2 | G28: =IF($F28="Tahap 1",2022,IF($F28="Tahap 2",2023,"-")) -> 2023 | H28: 1 | J28: 1 | L28: 1 | M28: 1 | N28: 1 | O28: 44923 | P28: 7°28'49.68"S, 111°51'5.06"T | Q28: 44910 | R28: 1 | V28: 1 | W28: 1 | X28: 1 | Y28: 1 | Z28: 1 | AA28: 1 | AB28: 1 | AC28: 9 | AD28: 180000 | AE28: 7 | AF28: 140000 | AG28: =AD28+AF28 -> 320000 | AH28: Upload Ulang Tahap 2
A29: =A28+1 -> 23 | B29: SAMBIKEREP | C29: REJOSO | D29: INDIKATIF | E29: PEMERINTAH DESA | F29: TAHAP 1 | G29: =IF($F29="Tahap 1",2022,IF($F29="Tahap 2",2023,"-")) -> 2022 | H29: 1 | J29: 1 | L29: 1 | M29: 1 | N29: 1 | O29: 44904 | P29: 7°27'24.70"S, 111°53'43.01"T | Q29: 44902 | R29: 1 | V29: 1 | W29: 1 | X29: 1 | Y29: 1 | Z29: 1 | AA29: 1 | AB29: 1 | AC29: 22 | AD29: 5522 | AG29: =AD29+AF29 -> 5522
A30: =A29+1 -> 24 | B30: MUSIRLOR | C30: REJOSO | D30: INDIKATIF | E30: PEMERINTAH DESA | F30: - | G30: =IF($F30="Tahap 1",2022,IF($F30="Tahap 2",2023,"-")) -> - | H30: 1 | K30: 1 | L30: 0 | M30: 0 | N30: 0 | P30: - | AH30: tidak ada permukiman, fasum, dan fasos yang masuk kawasan hutan | AI30: TIDAK ADA PERMUKIMAN DAN FASUM/FASOS
A31: =A30+1 -> 25 | B31: WENGKAL | C31: REJOSO | D31: INDIKATIF | E31: PEMERINTAH DESA | F31: - | G31: =IF($F31="Tahap 1",2022,IF($F31="Tahap 2",2023,"-")) -> - | H31: 1 | K31: 1 | L31: 0 | M31: 0 | N31: 0 | P31: - | AH31: tidak ada permukiman, fasum, dan fasos yang masuk kawasan hutan | AI31: TIDAK ADA PERMUKIMAN DAN FASUM/FASOS
A32: =A31+1 -> 26 | B32: KEDUNGPADANG | C32: REJOSO | D32: INDIKATIF | E32: PEMERINTAH DESA | F32: TAHAP 2 | G32: =IF($F32="Tahap 1",2022,IF($F32="Tahap 2",2023,"-")) -> 2023 | H32: 1 | K32: 1 | N32: cdk | P32: 7°29'37.82"S, 111°56'20.90"T | Q32: 45016 | R32: 1 | V32: 1 | W32: 1 | X32: 1 | Y32: 1 | Z32: 1 | AA32: 1 | AB32: 1 | AC32: 1 | AD32: 105 | AE32: 3 | AF32: 2052.5 | AG32: =SUM(AD32+AF32) -> 2157.5
A33: =A32+1 -> 27 | B33: NGADIBOYO | C33: REJOSO | D33: INDIKATIF | E33: PEMERINTAH DESA | F33: TAHAP 2 | G33: =IF($F33="Tahap 1",2022,IF($F33="Tahap 2",2023,"-")) -> 2023 | H33: 1 | J33: 1 | L33: 1 | M33: 1 | N33: cdk | P33: 7°31'27.13"S, 111°51'27.22"T | Q33: 45015 | R33: 1 | V33: 1 | W33: 1 | X33: 1 | Y33: 1 | Z33: 1 | AA33: 1 | AB33: 1 | AC33: 34 | AD33: 3176 | AE33: 4 | AF33: 8080 | AG33: =SUM(AD33+AF33) -> 11256
A34: =A33+1 -> 28 | B34: BENDOASRI | C34: REJOSO | D34: LUAR INDIKATIF | E34: PEMERINTAH DESA | F34: TAHAP 2 | G34: =IF($F34="Tahap 1",2022,IF($F34="Tahap 2",2023,"-")) -> 2023 | I34: 1 | J34: 1 | L34: 1 | M34: 1 | O34: 44904 | P34: 7°27'49.05"S, 111°49'12.25"T | Q34: 44902 | R34: 1 | V34: 1 | W34: 1 | X34: 1 | Y34: 1 | Z34: 1 | AA34: 1 | AB34: 1 | AE34: 8 | AF34: =5000+3000+2500+2500+6000+2500+1000+1000 -> 23500 | AG34: =AD34+AF34 -> 23500 | AH34: Upload Ulang Tahap 2
A35: =A34+1 -> 29 | B35: GAMPENG | C35: NGLUYU | D35: INDIKATIF | E35: PEMERINTAH DESA | F35: TAHAP 1 | G35: =IF($F35="Tahap 1",2022,IF($F35="Tahap 2",2023,"-")) -> 2022 | I35: 1 | J35: 1 | L35: 1 | M35: 1 | N35: 1 | O35: 44890 | P35: 7°24'40.0896"S, 111°58'47.7264"T | Q35: 44890 | R35: 1 | V35: 1 | W35: 1 | X35: 1 | Y35: 1 | Z35: 1 | AA35: 1 | AE35: 7 | AF35: 19000 | AG35: =AD35+AF35 -> 19000
A36: =A35+1 -> 30 | B36: BAJANG | C36: NGLUYU | D36: INDIKATIF | E36: PEMERINTAH DESA | F36: TAHAP 2 | G36: =IF($F36="Tahap 1",2022,IF($F36="Tahap 2",2023,"-")) -> 2023 | H36: 1 | J36: 1 | L36: 1 | M36: 1 | N36: 0 | O36: 44923 | P36: 7°24'40.8"S, 112°00'36.9"E | Q36: 44910 | R36: 1 | V36: 1 | W36: 1 | X36: 1 | Y36: 1 | Z36: 1 | AA36: 1 | AC36: 1 | AD36: 35 | AE36: 5 | AF36: =3100+3500+140+225+1500 -> 8465 | AG36: =AD36+AF36 -> 8500 | AH36: Upload Ulang Tahap 2
A37: =A36+1 -> 31 | B37: LENGKONGLOR | C37: NGLUYU | D37: INDIKATIF | E37: PEMERINTAH DESA | F37: TAHAP 1 | G37: =IF($F37="Tahap 1",2022,IF($F37="Tahap 2",2023,"-")) -> 2022 | I37: 1 | J37: 1 | L37: 1 | M37: 1 | O37: 44895 | P37: 7°26'17.83"S, 111°59'33.73"T | Q37: 44890 | R37: 1 | V37: 1 | W37: 1 | X37: 1 | Y37: 1 | Z37: 1 | AA37: 1 | AC37: 1 | AD37: 5000 | AE37: 7 | AF37: =3000+1600+100+1500+3200+3000+100 -> 12500 | AG37: =AD37+AF37 -> 17500
A38: =A37+1 -> 32 | B38: NGUMPUL | C38: BAGOR | D38: INDIKATIF | E38: PEMERINTAH DESA | F38: TAHAP 2 | G38: =IF($F38="Tahap 1",2022,IF($F38="Tahap 2",2023,"-")) -> 2023 | H38: 1 | J38: 1 | L38: 1 | M38: 1 | N38: cdk | O38: 44895 | P38: 7°35'15.75"S, 111°49'42.10"T | Q38: 44890 | R38: 1 | V38: 1 | W38: 1 | X38: 1 | Y38: 1 | Z38: 1 | AA38: 1 | AB38: 1 | AE38: 7 | AF38: 136753 | AG38: =AD38+AF38 -> 136753 | AH38: Upload Ulang Tahap 2
A39: =A38+1 -> 33 | B39: BANARANKULON | C39: BAGOR | D39: INDIKATIF | E39: PEMERINTAH DESA | F39: TAHAP 1 | G39: =IF($F39="Tahap 1",2022,IF($F39="Tahap 2",2023,"-")) -> 2022 | H39: 1 | J39: 1 | L39: 1 | M39: 1 | N39: cdk | O39: 44890 | P39: 7°31'26.78"S, 111°50'50.23"T | Q39: 44890 | R39: 1 | V39: 1 | W39: 1 | X39: 1 | Y39: 1 | Z39: 1 | AA39: 1 | AB39: 1 | AE39: 1 | AF39: 50000 | AG39: =AD39+AF39 -> 50000
A40: =A39+1 -> 34 | B40: SALAMROJO | C40: BERBEK | D40: LUAR INDIKATIF | E40: PEMERINTAH DESA | F40: TAHAP 2 | G40: =IF($F40="Tahap 1",2022,IF($F40="Tahap 2",2023,"-")) -> 2023 | I40: 1 | J40: 1 | L40: 1 | M40: 1 | N40: 1 | O40: 44972 | Q40: 44956 | R40: 1 | V40: 1 | W40: 1 | X40: 1 | Y40: 1 | Z40: 1 | AA40: 1 | AC40: 3 | AD40: 15000 | AG40: =SUM(AD40) -> 15000
...

Sheet REKAP USULAN PPTPKH
A1: REKAPITULASI USULAN PPTPKH KABUPATEN NGANJUK
A3: No. | B3: Kecamatan | C3: Desa | D3: Status Kawasan | E3: Instansi | F3: Status Usulan | G3: Tahun Usulan | H3: Jumlah Bidang | K3: Luas | L3: Keterangan | M3: KPH
H4: Permukiman | I4: Fasum/Fasos | J4: Jumlah | K4: (m2)
A5: 1 | B5: ='CHECK LIST PPTPKH'!B5 -> BAJULAN | C5: ='CHECK LIST PPTPKH'!C5 -> LOCERET | D5: ='CHECK LIST PPTPKH'!D5 -> INDIKATIF | E5: ='CHECK LIST PPTPKH'!E5 -> PEMERINTAH DESA | F5: ='CHECK LIST PPTPKH'!F5 -> TAHAP 1 | G5: ='CHECK LIST PPTPKH'!G5 -> 2022 | H5: ='CHECK LIST PPTPKH'!AC5 -> 126 | I5: ='CHECK LIST PPTPKH'!AE5 -> 7 | J5: =H5+I5 -> 133 | K5: ='CHECK LIST PPTPKH'!AG5 -> 102414 | L5: ='CHECK LIST PPTPKH'!AH5 -> 0 | M5: KEDIRI
A6: =A5+1 -> 2 | B6: ='CHECK LIST PPTPKH'!B6 -> MACANAN | C6: ='CHECK LIST PPTPKH'!C6 -> LOCERET | D6: ='CHECK LIST PPTPKH'!D6 -> INDIKATIF | E6: ='CHECK LIST PPTPKH'!E6 -> PEMERINTAH DESA | F6: ='CHECK LIST PPTPKH'!F6 -> - | G6: ='CHECK LIST PPTPKH'!G6 -> - | H6: ='CHECK LIST PPTPKH'!AC6 -> 0 | I6: ='CHECK LIST PPTPKH'!AE6 -> 0 | J6: =H6+I6 -> 0 | K6: ='CHECK LIST PPTPKH'!AG6 -> 0 | L6: ='CHECK LIST PPTPKH'!AH6 -> tidak ada permukiman, fasum, dan fasos yang masuk kawasan hutan | M6: -
A7: =A6+1 -> 3 | B7: ='CHECK LIST PPTPKH'!B7 -> MAGUAN | C7: ='CHECK LIST PPTPKH'!C7 -> BERBEK | D7: ='CHECK LIST PPTPKH'!D7 -> INDIKATIF | E7: ='CHECK LIST PPTPKH'!E7 -> PEMERINTAH DESA | F7: ='CHECK LIST PPTPKH'!F7 -> TAHAP 1 | G7: ='CHECK LIST PPTPKH'!G7 -> 2022 | H7: 92 | I7: 7 | J7: =H7+I7 -> 99 | K7: 106915 | L7: ='CHECK LIST PPTPKH'!AH7 -> tambahan data dari gema
A8: =A7+1 -> 4 | B8: ='CHECK LIST PPTPKH'!B9 -> CEPOKO | C8: ='CHECK LIST PPTPKH'!C9 -> BERBEK | D8: ='CHECK LIST PPTPKH'!D9 -> INDIKATIF | E8: ='CHECK LIST PPTPKH'!E9 -> PEMERINTAH DESA | F8: ='CHECK LIST PPTPKH'!F9 -> - | G8: ='CHECK LIST PPTPKH'!G9 -> - | H8: ='CHECK LIST PPTPKH'!AC9 -> 0 | I8: ='CHECK LIST PPTPKH'!AE9 -> 0 | J8: =H8+I8 -> 0 | K8: ='CHECK LIST PPTPKH'!AG9 -> 0 | L8: ='CHECK LIST PPTPKH'!AH9 -> tidak ada permukiman, fasum, dan fasos yang masuk kawasan hutan | M8: -
A9: =A8+1 -> 5 | B9: ='CHECK LIST PPTPKH'!B10 -> SIDOREJO | C9: ='CHECK LIST PPTPKH'!C10 -> SAWAHAN | D9: ='CHECK LIST PPTPKH'!D10 -> INDIKATIF | E9: ='CHECK LIST PPTPKH'!E10 -> PEMERINTAH DESA | F9: ='CHECK LIST PPTPKH'!F10 -> - | G9: ='CHECK LIST PPTPKH'!G10 -> - | H9: ='CHECK LIST PPTPKH'!AC10 -> 0 | I9: ='CHECK LIST PPTPKH'!AE10 -> 0 | J9: =H9+I9 -> 0 | K9: ='CHECK LIST PPTPKH'!AG10 -> 0 | L9: ='CHECK LIST PPTPKH'!AH10 -> 0 | M9: -
A10: =A9+1 -> 6 | B10: ='CHECK LIST PPTPKH'!B11 -> MARGOPATUT | C10: ='CHECK LIST PPTPKH'!C11 -> SAWAHAN | D10: ='CHECK LIST PPTPKH'!D11 -> INDIKATIF | E10: ='CHECK LIST PPTPKH'!E11 -> PEMERINTAH DESA | F10: ='CHECK LIST PPTPKH'!F11 -> TAHAP 1 | G10: ='CHECK LIST PPTPKH'!G11 -> 2022 | H10: ='CHECK LIST PPTPKH'!AC11 -> 35 | I10: ='CHECK LIST PPTPKH'!AE11 -> 2 | J10: =H10+I10 -> 37 | K10: ='CHECK LIST PPTPKH'!AG11 -> 30055 | L10: ='CHECK LIST PPTPKH'!AH11 -> 0 | M10: NGANJUK & KEDIRI
A11: =A10+1 -> 7 | B11: ='CHECK LIST PPTPKH'!B12 -> SURU | C11: ='CHECK LIST PPTPKH'!C12 -> NGETOS | D11: ='CHECK LIST PPTPKH'!D12 -> INDIKATIF | E11: ='CHECK LIST PPTPKH'!E12 -> PEMERINTAH DESA | F11: ='CHECK LIST PPTPKH'!F12 -> - | G11: ='CHECK LIST PPTPKH'!G12 -> - | H11: ='CHECK LIST PPTPKH'!AC12 -> 0 | I11: ='CHECK LIST PPTPKH'!AE12 -> 0 | J11: =H11+I11 -> 0 | K11: ='CHECK LIST PPTPKH'!AG12 -> 0 | L11: ='CHECK LIST PPTPKH'!AH12 -> tidak ada permukiman, fasum, dan fasos yang masuk kawasan hutan | M11: -
A12: 8 | B12: ='CHECK LIST PPTPKH'!B13 -> MOJODUWUR | C12: ='CHECK LIST PPTPKH'!C13 -> NGETOS | D12: ='CHECK LIST PPTPKH'!D13 -> INDIKATIF | E12: ='CHECK LIST PPTPKH'!E13 -> PEMERINTAH DESA | F12: ='CHECK LIST PPTPKH'!F13 -> TAHAP 2 | G12: ='CHECK LIST PPTPKH'!G13 -> 2023 | H12: ='CHECK LIST PPTPKH'!AC13 -> 262 | I12: ='CHECK LIST PPTPKH'!AE13 -> 11 | J12: =H12+I12 -> 273 | K12: ='CHECK LIST PPTPKH'!AG13 -> 540400 | L12: ='CHECK LIST PPTPKH'!AH13 -> Mengajukan melalui LSM GEMA-PS
A13: =A12+1 -> 9 | B13: ='CHECK LIST PPTPKH'!B14 -> NGETOS | C13: ='CHECK LIST PPTPKH'!C14 -> NGETOS | D13: ='CHECK LIST PPTPKH'!D14 -> INDIKATIF | E13: ='CHECK LIST PPTPKH'!E14 -> PEMERINTAH DESA | F13: ='CHECK LIST PPTPKH'!F14 -> TAHAP 1 | G13: ='CHECK LIST PPTPKH'!G14 -> 2022 | H13: ='CHECK LIST PPTPKH'!AC14 -> 32 | I13: ='CHECK LIST PPTPKH'!AE14 -> 4 | J13: =H13+I13 -> 36 | K13: ='CHECK LIST PPTPKH'!AG14 -> 12424 | L13: ='CHECK LIST PPTPKH'!AH14 -> 0 | M13: NGANJUK
A14: =A13+1 -> 10 | B14: ='CHECK LIST PPTPKH'!B15 -> SUDIMOROHARJO | C14: ='CHECK LIST PPTPKH'!C15 -> WILANGAN | D14: ='CHECK LIST PPTPKH'!D15 -> INDIKATIF | E14: ='CHECK LIST PPTPKH'!E15 -> PEMERINTAH DESA | F14: ='CHECK LIST PPTPKH'!F15 -> TAHAP 1 | G14: ='CHECK LIST PPTPKH'!G15 -> 2022 | H14: 209 | I14: 13 | J14: =H14+I14 -> 222 | K14: 272061 | L14: ='CHECK LIST PPTPKH'!AH15 -> tambahan data dari gema
A15: =A14+1 -> 11 | B15: ='CHECK LIST PPTPKH'!B17 -> NGADIPIRO | C15: ='CHECK LIST PPTPKH'!C17 -> WILANGAN | D15: ='CHECK LIST PPTPKH'!D17 -> INDIKATIF | E15: ='CHECK LIST PPTPKH'!E17 -> PEMERINTAH DESA | F15: ='CHECK LIST PPTPKH'!F17 -> TAHAP 1 | G15: ='CHECK LIST PPTPKH'!G17 -> 2022 | H15: ='CHECK LIST PPTPKH'!AC17 -> 5 | I15: ='CHECK LIST PPTPKH'!AE17 -> 0 | J15: =H15+I15 -> 5 | K15: ='CHECK LIST PPTPKH'!AG17 -> 6933 | L15: ='CHECK LIST PPTPKH'!AH17 -> 0
A16: =A15+1 -> 12 | B16: ='CHECK LIST PPTPKH'!B18 -> DAWUHAN | C16: ='CHECK LIST PPTPKH'!C18 -> JATIKALEN | D16: ='CHECK LIST PPTPKH'!D18 -> INDIKATIF | E16: ='CHECK LIST PPTPKH'!E18 -> PEMERINTAH DESA | F16: ='CHECK LIST PPTPKH'!F18 -> TAHAP 1 | G16: ='CHECK LIST PPTPKH'!G18 -> 2022 | H16: ='CHECK LIST PPTPKH'!AC18 -> 0 | I16: ='CHECK LIST PPTPKH'!AE18 -> 1 | J16: =H16+I16 -> 1 | K16: ='CHECK LIST PPTPKH'!AG18 -> 10000 | M16: JOMBANG
A17: =A16+1 -> 13 | B17: ='CHECK LIST PPTPKH'!B19 -> PULOWETAN | C17: ='CHECK LIST PPTPKH'!C19 -> JATIKALEN | D17: ='CHECK LIST PPTPKH'!D19 -> INDIKATIF | E17: ='CHECK LIST PPTPKH'!E19 -> PEMERINTAH DESA | F17: ='CHECK LIST PPTPKH'!F19 -> TAHAP 1 | G17: ='CHECK LIST PPTPKH'!G19 -> 2022 | H17: ='CHECK LIST PPTPKH'!AC19 -> 0 | I17: ='CHECK LIST PPTPKH'!AE19 -> 3 | J17: =H17+I17 -> 3 | K17: ='CHECK LIST PPTPKH'!AG19 -> 2100 | M17: JOMBANG
A18: =A17+1 -> 14 | B18: ='CHECK LIST PPTPKH'!B20 -> NGEPUNG | C18: ='CHECK LIST PPTPKH'!C20 -> LENGKONG | D18: ='CHECK LIST PPTPKH'!D20 -> INDIKATIF | E18: ='CHECK LIST PPTPKH'!E20 -> PEMERINTAH DESA | F18: ='CHECK LIST PPTPKH'!F20 -> TAHAP 1 | G18: ='CHECK LIST PPTPKH'!G20 -> 2022 | H18: ='CHECK LIST PPTPKH'!AC20 -> 3 | I18: ='CHECK LIST PPTPKH'!AE20 -> 6 | J18: =H18+I18 -> 9 | K18: ='CHECK LIST PPTPKH'!AG20 -> 58700 | L18: ='CHECK LIST PPTPKH'!AH20 -> 0
A19: =A18+1 -> 15 | B19: ='CHECK LIST PPTPKH'!B21 -> KETANDAN | C19: ='CHECK LIST PPTPKH'!C21 -> LENGKONG | D19: ='CHECK LIST PPTPKH'!D21 -> INDIKATIF | E19: ='CHECK LIST PPTPKH'!E21 -> PEMERINTAH DESA | F19: ='CHECK LIST PPTPKH'!F21 -> TAHAP 1 | G19: ='CHECK LIST PPTPKH'!G21 -> 2022 | H19: ='CHECK LIST PPTPKH'!AC21 -> 0 | I19: ='CHECK LIST PPTPKH'!AE21 -> 1 | J19: =H19+I19 -> 1 | K19: ='CHECK LIST PPTPKH'!AG21 -> 2305 | L19: ='CHECK LIST PPTPKH'!AH21 -> 0
A20: =A19+1 -> 16 | B20: ='CHECK LIST PPTPKH'!B22 -> SUMBERKEPUH | C20: ='CHECK LIST PPTPKH'!C22 -> LENGKONG | D20: ='CHECK LIST PPTPKH'!D22 -> INDIKATIF | E20: ='CHECK LIST PPTPKH'!E22 -> PEMERINTAH DESA | F20: ='CHECK LIST PPTPKH'!F22 -> - | G20: ='CHECK LIST PPTPKH'!G22 -> - | H20: ='CHECK LIST PPTPKH'!AC22 -> 0 | I20: ='CHECK LIST PPTPKH'!AE22 -> 0 | J20: =H20+I20 -> 0 | K20: ='CHECK LIST PPTPKH'!AG22 -> 0 | L20: ='CHECK LIST PPTPKH'!AH22 -> tidak ada permukiman, fasum, dan fasos yang masuk kawasan hutan | M20: -
A21: =A20+1 -> 17 | B21: ='CHECK LIST PPTPKH'!B23 -> BANJARDOWO | C21: ='CHECK LIST PPTPKH'!C23 -> LENGKONG | D21: ='CHECK LIST PPTPKH'!D23 -> INDIKATIF | E21: ='CHECK LIST PPTPKH'!E23 -> PEMERINTAH DESA | F21: ='CHECK LIST PPTPKH'!F23 -> TAHAP 1 | G21: ='CHECK LIST PPTPKH'!G23 -> 2022 | H21: ='CHECK LIST PPTPKH'!AC23 -> 15 | I21: ='CHECK LIST PPTPKH'!AE23 -> 0 | J21: =H21+I21 -> 15 | K21: ='CHECK LIST PPTPKH'!AG23 -> 13152 | L21: ='CHECK LIST PPTPKH'!AH23 -> 0 | M21: JOMBANG
A22: =A21+1 -> 18 | B22: ='CHECK LIST PPTPKH'!B24 -> PINGGIR | C22: ='CHECK LIST PPTPKH'!C24 -> LENGKONG | D22: ='CHECK LIST PPTPKH'!D24 -> LUAR INDIKATIF | E22: ='CHECK LIST PPTPKH'!E24 -> PEMERINTAH DESA | F22: ='CHECK LIST PPTPKH'!F24 -> TAHAP 1 | G22: ='CHECK LIST PPTPKH'!G24 -> 2022 | H22: ='CHECK LIST PPTPKH'!AC24 -> 0 | I22: ='CHECK LIST PPTPKH'!AE24 -> 8 | J22: =H22+I22 -> 8 | K22: ='CHECK LIST PPTPKH'!AG24 -> 10900 | L22: ='CHECK LIST PPTPKH'!AH24 -> 0 | M22: JOMBANG
A23: =A22+1 -> 19 | B23: ='CHECK LIST PPTPKH'!B25 -> SUMBERMIRI | C23: ='CHECK LIST PPTPKH'!C25 -> LENGKONG | D23: ='CHECK LIST PPTPKH'!D25 -> LUAR INDIKATIF | E23: ='CHECK LIST PPTPKH'!E25 -> PEMERINTAH DESA | F23: ='CHECK LIST PPTPKH'!F25 -> TAHAP 1 | G23: ='CHECK LIST PPTPKH'!G25 -> 2022 | H23: ='CHECK LIST PPTPKH'!AC25 -> 16 | I23: ='CHECK LIST PPTPKH'!AE25 -> 9 | J23: =H23+I23 -> 25 | K23: ='CHECK LIST PPTPKH'!AG25 -> 25714.75 | L23: ='CHECK LIST PPTPKH'!AH25 -> 0 | M23: KEDIRI
A24: =A23+1 -> 20 | B24: ='CHECK LIST PPTPKH'!B26 -> BALONGGEBANG | C24: ='CHECK LIST PPTPKH'!C26 -> GONDANG | D24: ='CHECK LIST PPTPKH'!D26 -> INDIKATIF | E24: ='CHECK LIST PPTPKH'!E26 -> PEMERINTAH DESA | F24: ='CHECK LIST PPTPKH'!F26 -> - | G24: ='CHECK LIST PPTPKH'!G26 -> - | H24: ='CHECK LIST PPTPKH'!AC26 -> 0 | I24: ='CHECK LIST PPTPKH'!AE26 -> 0 | J24: =H24+I24 -> 0 | K24: ='CHECK LIST PPTPKH'!AG26 -> 0 | L24: ='CHECK LIST PPTPKH'!AH26 -> tidak ada permukiman, fasum, dan fasos yang masuk kawasan hutan | M24: -
A25: =A24+1 -> 21 | B25: ='CHECK LIST PPTPKH'!B27 -> SUMBERAGUNG | C25: ='CHECK LIST PPTPKH'!C27 -> GONDANG | D25: ='CHECK LIST PPTPKH'!D27 -> INDIKATIF | E25: ='CHECK LIST PPTPKH'!E27 -> PEMERINTAH DESA | F25: ='CHECK LIST PPTPKH'!F27 -> TAHAP 1 | G25: ='CHECK LIST PPTPKH'!G27 -> 2022 | H25: ='CHECK LIST PPTPKH'!AC27 -> 0 | I25: ='CHECK LIST PPTPKH'!AE27 -> 1 | J25: =H25+I25 -> 1 | K25: ='CHECK LIST PPTPKH'!AG27 -> 10000 | L25: ='CHECK LIST PPTPKH'!AH27 -> 0 | M25: JOMBANG
A26: =A25+1 -> 22 | B26: ='CHECK LIST PPTPKH'!B28 -> TRITIK | C26: ='CHECK LIST PPTPKH'!C28 -> REJOSO | D26: ='CHECK LIST PPTPKH'!D28 -> INDIKATIF | E26: ='CHECK LIST PPTPKH'!E28 -> PEMERINTAH DESA | F26: ='CHECK LIST PPTPKH'!F28 -> TAHAP 2 | G26: ='CHECK LIST PPTPKH'!G28 -> 2023 | H26: ='CHECK LIST PPTPKH'!AC28 -> 9 | I26: ='CHECK LIST PPTPKH'!AE28 -> 7 | J26: =H26+I26 -> 16 | K26: ='CHECK LIST PPTPKH'!AG28 -> 320000 | L26: ='CHECK LIST PPTPKH'!AH28 -> Upload Ulang Tahap 2 | M26: NGANJUK
A27: =A26+1 -> 23 | B27: ='CHECK LIST PPTPKH'!B29 -> SAMBIKEREP | C27: ='CHECK LIST PPTPKH'!C29 -> REJOSO | D27: ='CHECK LIST PPTPKH'!D29 -> INDIKATIF | E27: ='CHECK LIST PPTPKH'!E29 -> PEMERINTAH DESA | F27: ='CHECK LIST PPTPKH'!F29 -> TAHAP 1 | G27: ='CHECK LIST PPTPKH'!G29 -> 2022 | H27: ='CHECK LIST PPTPKH'!AC29 -> 22 | I27: ='CHECK LIST PPTPKH'!AE29 -> 0 | J27: =H27+I27 -> 22 | K27: ='CHECK LIST PPTPKH'!AG29 -> 5522 | L27: ='CHECK LIST PPTPKH'!AH29 -> 0 | M27: NGANJUK
A28: =A27+1 -> 24 | B28: ='CHECK LIST PPTPKH'!B30 -> MUSIRLOR | C28: ='CHECK LIST PPTPKH'!C30 -> REJOSO | D28: ='CHECK LIST PPTPKH'!D30 -> INDIKATIF | E28: ='CHECK LIST PPTPKH'!E30 -> PEMERINTAH DESA | F28: ='CHECK LIST PPTPKH'!F30 -> - | G28: ='CHECK LIST PPTPKH'!G30 -> - | H28: ='CHECK LIST PPTPKH'!AC30 -> 0 | I28: ='CHECK LIST PPTPKH'!AE30 -> 0 | J28: =H28+I28 -> 0 | K28: ='CHECK LIST PPTPKH'!AG30 -> 0 | L28: ='CHECK LIST PPTPKH'!AH30 -> tidak ada permukiman, fasum, dan fasos yang masuk kawasan hutan | M28: -
A29: =A28+1 -> 25 | B29: ='CHECK LIST PPTPKH'!B31 -> WENGKAL | C29: ='CHECK LIST PPTPKH'!C31 -> REJOSO | D29: ='CHECK LIST PPTPKH'!D31 -> INDIKATIF | E29: ='CHECK LIST PPTPKH'!E31 -> PEMERINTAH DESA | F29: ='CHECK LIST PPTPKH'!F31 -> - | G29: ='CHECK LIST PPTPKH'!G31 -> - | H29: ='CHECK LIST PPTPKH'!AC31 -> 0 | I29: ='CHECK LIST PPTPKH'!AE31 -> 0 | J29: =H29+I29 -> 0 | K29: ='CHECK LIST PPTPKH'!AG31 -> 0 | L29: ='CHECK LIST PPTPKH'!AH31 -> tidak ada permukiman, fasum, dan fasos yang masuk kawasan hutan | M29: -
A30: =A29+1 -> 26 | B30: ='CHECK LIST PPTPKH'!B32 -> KEDUNGPADANG | C30: ='CHECK LIST PPTPKH'!C32 -> REJOSO | D30: ='CHECK LIST PPTPKH'!D32 -> INDIKATIF | E30: ='CHECK LIST PPTPKH'!E32 -> PEMERINTAH DESA | F30: ='CHECK LIST PPTPKH'!F32 -> TAHAP 2 | G30: ='CHECK LIST PPTPKH'!G32 -> 2023 | H30: ='CHECK LIST PPTPKH'!AC32 -> 1 | I30: ='CHECK LIST PPTPKH'!AE32 -> 3 | J30: =H30+I30 -> 4 | K30: ='CHECK LIST PPTPKH'!AG32 -> 2157.5 | M30: NGANJUK
A31: =A30+1 -> 27 | B31: ='CHECK LIST PPTPKH'!B33 -> NGADIBOYO | C31: ='CHECK LIST PPTPKH'!C33 -> REJOSO | D31: ='CHECK LIST PPTPKH'!D33 -> INDIKATIF | E31: ='CHECK LIST PPTPKH'!E33 -> PEMERINTAH DESA | F31: ='CHECK LIST PPTPKH'!F33 -> TAHAP 2 | G31: ='CHECK LIST PPTPKH'!G33 -> 2023 | H31: ='CHECK LIST PPTPKH'!AC33 -> 34 | I31: ='CHECK LIST PPTPKH'!AE33 -> 4 | J31: =H31+I31 -> 38 | K31: ='CHECK LIST PPTPKH'!AG33 -> 11256 | M31: NGANJUK
A32: =A31+1 -> 28 | B32: ='CHECK LIST PPTPKH'!B34 -> BENDOASRI | C32: ='CHECK LIST PPTPKH'!C34 -> REJOSO | D32: ='CHECK LIST PPTPKH'!D34 -> LUAR INDIKATIF | E32: ='CHECK LIST PPTPKH'!E34 -> PEMERINTAH DESA | F32: ='CHECK LIST PPTPKH'!F34 -> TAHAP 2 | G32: ='CHECK LIST PPTPKH'!G34 -> 2023 | H32: ='CHECK LIST PPTPKH'!AC34 -> 0 | I32: ='CHECK LIST PPTPKH'!AE34 -> 8 | J32: =H32+I32 -> 8 | K32: ='CHECK LIST PPTPKH'!AG34 -> 23500 | L32: ='CHECK LIST PPTPKH'!AH34 -> Upload Ulang Tahap 2
A33: =A32+1 -> 29 | B33: ='CHECK LIST PPTPKH'!B35 -> GAMPENG | C33: ='CHECK LIST PPTPKH'!C35 -> NGLUYU | D33: ='CHECK LIST PPTPKH'!D35 -> INDIKATIF | E33: ='CHECK LIST PPTPKH'!E35 -> PEMERINTAH DESA | F33: ='CHECK LIST PPTPKH'!F35 -> TAHAP 1 | G33: ='CHECK LIST PPTPKH'!G35 -> 2022 | H33: ='CHECK LIST PPTPKH'!AC35 -> 0 | I33: ='CHECK LIST PPTPKH'!AE35 -> 7 | J33: =H33+I33 -> 7 | K33: ='CHECK LIST PPTPKH'!AG35 -> 19000 | L33: ='CHECK LIST PPTPKH'!AH35 -> 0
A34: =A33+1 -> 30 | B34: ='CHECK LIST PPTPKH'!B36 -> BAJANG | C34: ='CHECK LIST PPTPKH'!C36 -> NGLUYU | D34: ='CHECK LIST PPTPKH'!D36 -> INDIKATIF | E34: ='CHECK LIST PPTPKH'!E36 -> PEMERINTAH DESA | F34: ='CHECK LIST PPTPKH'!F36 -> TAHAP 2 | G34: ='CHECK LIST PPTPKH'!G36 -> 2023 | H34: ='CHECK LIST PPTPKH'!AC36 -> 1 | I34: ='CHECK LIST PPTPKH'!AE36 -> 5 | J34: =H34+I34 -> 6 | K34: ='CHECK LIST PPTPKH'!AG36 -> 8500 | L34: ='CHECK LIST PPTPKH'!AH36 -> Upload Ulang Tahap 2 | M34: JOMBANG
A35: =A34+1 -> 31 | B35: ='CHECK LIST PPTPKH'!B37 -> LENGKONGLOR | C35: ='CHECK LIST PPTPKH'!C37 -> NGLUYU | D35: ='CHECK LIST PPTPKH'!D37 -> INDIKATIF | E35: ='CHECK LIST PPTPKH'!E37 -> PEMERINTAH DESA | F35: ='CHECK LIST PPTPKH'!F37 -> TAHAP 1 | G35: ='CHECK LIST PPTPKH'!G37 -> 2022 | H35: ='CHECK LIST PPTPKH'!AC37 -> 1 | I35: ='CHECK LIST PPTPKH'!AE37 -> 7 | J35: =H35+I35 -> 8 | K35: ='CHECK LIST PPTPKH'!AG37 -> 17500 | L35: ='CHECK LIST PPTPKH'!AH37 -> 0
A36: =A35+1 -> 32 | B36: ='CHECK LIST PPTPKH'!B38 -> NGUMPUL | C36: ='CHECK LIST PPTPKH'!C38 -> BAGOR | D36: ='CHECK LIST PPTPKH'!D38 -> INDIKATIF | E36: ='CHECK LIST PPTPKH'!E38 -> PEMERINTAH DESA | F36: ='CHECK LIST PPTPKH'!F38 -> TAHAP 2 | G36: ='CHECK LIST PPTPKH'!G38 -> 2023 | H36: ='CHECK LIST PPTPKH'!AC38 -> 0 | I36: ='CHECK LIST PPTPKH'!AE38 -> 7 | J36: =H36+I36 -> 7 | K36: ='CHECK LIST PPTPKH'!AG38 -> 136753 | L36: ='CHECK LIST PPTPKH'!AH38 -> Upload Ulang Tahap 2 | M36: NGANJUK
A37: =A36+1 -> 33 | B37: ='CHECK LIST PPTPKH'!B39 -> BANARANKULON | C37: ='CHECK LIST PPTPKH'!C39 -> BAGOR | D37: ='CHECK LIST PPTPKH'!D39 -> INDIKATIF | E37: ='CHECK LIST PPTPKH'!E39 -> PEMERINTAH DESA | F37: ='CHECK LIST PPTPKH'!F39 -> TAHAP 1 | G37: ='CHECK LIST PPTPKH'!G39 -> 2022 | H37: ='CHECK LIST PPTPKH'!AC39 -> 0 | I37: ='CHECK LIST PPTPKH'!AE39 -> 1 | J37: =H37+I37 -> 1 | K37: ='CHECK LIST PPTPKH'!AG39 -> 50000 | L37: ='CHECK LIST PPTPKH'!AH39 -> 0 | M37: NGANJUK | N37: 1
A38: =A37+1 -> 34 | B38: ='CHECK LIST PPTPKH'!B40 -> SALAMROJO | C38: ='CHECK LIST PPTPKH'!C40 -> BERBEK | D38: ='CHECK LIST PPTPKH'!D40 -> LUAR INDIKATIF | E38: ='CHECK LIST PPTPKH'!E40 -> PEMERINTAH DESA | F38: ='CHECK LIST PPTPKH'!F40 -> TAHAP 2 | G38: ='CHECK LIST PPTPKH'!G40 -> 2023 | H38: ='CHECK LIST PPTPKH'!AC40 -> 3 | I38: ='CHECK LIST PPTPKH'!AE40 -> 0 | J38: =H38+I38 -> 3 | K38: ='CHECK LIST PPTPKH'!AG40 -> 15000 | L38: ='CHECK LIST PPTPKH'!AH40 -> 0 | M38: NGANJUK
A39: =A38+1 -> 35 | B39: ='CHECK LIST PPTPKH'!B41 -> BAGOR KULON | C39: ='CHECK LIST PPTPKH'!C41 -> BAGOR | D39: ='CHECK LIST PPTPKH'!D41 -> LUAR INDIKATIF | E39: ='CHECK LIST PPTPKH'!E41 -> PEMERINTAH DESA | F39: ='CHECK LIST PPTPKH'!F41 -> TAHAP 2 | G39: ='CHECK LIST PPTPKH'!G41 -> 2023 | H39: ='CHECK LIST PPTPKH'!AC41 -> 31 | I39: ='CHECK LIST PPTPKH'!AE41 -> 0 | J39: =H39+I39 -> 31 | K39: ='CHECK LIST PPTPKH'!AG41 -> 20083 | L39: ='CHECK LIST PPTPKH'!AH41 -> 0 | M39: NGANJUK
A40: =A39+1 -> 36 | B40: ='CHECK LIST PPTPKH'!B42 -> SIWALAN | C40: ='CHECK LIST PPTPKH'!C42 -> SAWAHAN | D40: ='CHECK LIST PPTPKH'!D42 -> LUAR INDIKATIF | E40: ='CHECK LIST PPTPKH'!E42 -> PEMERINTAH DESA | F40: ='CHECK LIST PPTPKH'!F42 -> TAHAP 2 | G40: ='CHECK LIST PPTPKH'!G42 -> 2023 | H40: ='CHECK LIST PPTPKH'!AC42 -> 0 | I40: ='CHECK LIST PPTPKH'!AE42 -> 7 | J40: =H40+I40 -> 7 | K40: ='CHECK LIST PPTPKH'!AG42 -> 106850 | L40: ='CHECK LIST PPTPKH'!AH42 -> 0 | M40: NGANJUK
A41: =A40+1 -> 37 | B41: ='CHECK LIST PPTPKH'!B43 -> DUREN | C41: ='CHECK LIST PPTPKH'!C43 -> SAWAHAN | D41: ='CHECK LIST PPTPKH'!D43 -> LUAR INDIKATIF | E41: ='CHECK LIST PPTPKH'!E43 -> PEMERINTAH DESA | F41: ='CHECK LIST PPTPKH'!F43 -> TAHAP 2 | G41: ='CHECK LIST PPTPKH'!G43 -> 2023 | H41: ='CHECK LIST PPTPKH'!AC43 -> 3 | I41: ='CHECK LIST PPTPKH'!AE43 -> 4 | J41: =H41+I41 -> 7 | K41: ='CHECK LIST PPTPKH'!AG43 -> 9325 | L41: ='CHECK LIST PPTPKH'!AH43 -> 0
...

Sheet TAHAP 2 DESA
A1: REKAPITULASI USULAN PPTPKH KABUPATEN NGANJUK
A3: No. | B3: Kecamatan | C3: Desa | D3: Status Kawasan | E3: Instansi | F3: Status Usulan | G3: Tahun Usulan | H3: Jumlah Bidang | K3: Luas | L3: Keterangan | M3: KPH
H4: Permukiman | I4: Fasum/Fasos | J4: Jumlah | K4: (m2)
A5: 1 | B5: ='CHECK LIST PPTPKH'!B13 -> MOJODUWUR | C5: ='CHECK LIST PPTPKH'!C13 -> NGETOS | D5: ='CHECK LIST PPTPKH'!D13 -> INDIKATIF | E5: ='CHECK LIST PPTPKH'!E13 -> PEMERINTAH DESA | F5: ='CHECK LIST PPTPKH'!F13 -> TAHAP 2 | G5: ='CHECK LIST PPTPKH'!G13 -> 2023 | H5: ='CHECK LIST PPTPKH'!AC13 -> 262 | I5: ='CHECK LIST PPTPKH'!AE13 -> 11 | J5: =H5+I5 -> 273 | K5: ='CHECK LIST PPTPKH'!AG13 -> 540400 | L5: ='CHECK LIST PPTPKH'!AH13 -> Mengajukan melalui LSM GEMA-PS
A6: =A5+1 -> 2 | B6: ='CHECK LIST PPTPKH'!B28 -> TRITIK | C6: ='CHECK LIST PPTPKH'!C28 -> REJOSO | D6: ='CHECK LIST PPTPKH'!D28 -> INDIKATIF | E6: ='CHECK LIST PPTPKH'!E28 -> PEMERINTAH DESA | F6: ='CHECK LIST PPTPKH'!F28 -> TAHAP 2 | G6: ='CHECK LIST PPTPKH'!G28 -> 2023 | H6: ='CHECK LIST PPTPKH'!AC28 -> 9 | I6: ='CHECK LIST PPTPKH'!AE28 -> 7 | J6: =H6+I6 -> 16 | K6: ='CHECK LIST PPTPKH'!AG28 -> 320000 | L6: ='CHECK LIST PPTPKH'!AH28 -> Upload Ulang Tahap 2 | M6: NGANJUK
A7: =A6+1 -> 3 | B7: ='CHECK LIST PPTPKH'!B32 -> KEDUNGPADANG | C7: ='CHECK LIST PPTPKH'!C32 -> REJOSO | D7: ='CHECK LIST PPTPKH'!D32 -> INDIKATIF | E7: ='CHECK LIST PPTPKH'!E32 -> PEMERINTAH DESA | F7: ='CHECK LIST PPTPKH'!F32 -> TAHAP 2 | G7: ='CHECK LIST PPTPKH'!G32 -> 2023 | H7: ='CHECK LIST PPTPKH'!AC32 -> 1 | I7: ='CHECK LIST PPTPKH'!AE32 -> 3 | J7: =H7+I7 -> 4 | K7: ='CHECK LIST PPTPKH'!AG32 -> 2157.5 | M7: NGANJUK
A8: =A7+1 -> 4 | B8: ='CHECK LIST PPTPKH'!B33 -> NGADIBOYO | C8: ='CHECK LIST PPTPKH'!C33 -> REJOSO | D8: ='CHECK LIST PPTPKH'!D33 -> INDIKATIF | E8: ='CHECK LIST PPTPKH'!E33 -> PEMERINTAH DESA | F8: ='CHECK LIST PPTPKH'!F33 -> TAHAP 2 | G8: ='CHECK LIST PPTPKH'!G33 -> 2023 | H8: ='CHECK LIST PPTPKH'!AC33 -> 34 | I8: ='CHECK LIST PPTPKH'!AE33 -> 4 | J8: =H8+I8 -> 38 | K8: ='CHECK LIST PPTPKH'!AG33 -> 11256 | M8: NGANJUK
A9: =A8+1 -> 5 | B9: ='CHECK LIST PPTPKH'!B34 -> BENDOASRI | C9: ='CHECK LIST PPTPKH'!C34 -> REJOSO | D9: ='CHECK LIST PPTPKH'!D34 -> LUAR INDIKATIF | E9: ='CHECK LIST PPTPKH'!E34 -> PEMERINTAH DESA | F9: ='CHECK LIST PPTPKH'!F34 -> TAHAP 2 | G9: ='CHECK LIST PPTPKH'!G34 -> 2023 | H9: ='CHECK LIST PPTPKH'!AC34 -> 0 | I9: ='CHECK LIST PPTPKH'!AE34 -> 8 | J9: =H9+I9 -> 8 | K9: ='CHECK LIST PPTPKH'!AG34 -> 23500 | L9: ='CHECK LIST PPTPKH'!AH34 -> Upload Ulang Tahap 2
A10: =A9+1 -> 6 | B10: ='CHECK LIST PPTPKH'!B36 -> BAJANG | C10: ='CHECK LIST PPTPKH'!C36 -> NGLUYU | D10: ='CHECK LIST PPTPKH'!D36 -> INDIKATIF | E10: ='CHECK LIST PPTPKH'!E36 -> PEMERINTAH DESA | F10: ='CHECK LIST PPTPKH'!F36 -> TAHAP 2 | G10: ='CHECK LIST PPTPKH'!G36 -> 2023 | H10: ='CHECK LIST PPTPKH'!AC36 -> 1 | I10: ='CHECK LIST PPTPKH'!AE36 -> 5 | J10: =H10+I10 -> 6 | K10: ='CHECK LIST PPTPKH'!AG36 -> 8500 | L10: ='CHECK LIST PPTPKH'!AH36 -> Upload Ulang Tahap 2 | M10: JOMBANG
A11: =A10+1 -> 7 | B11: ='CHECK LIST PPTPKH'!B38 -> NGUMPUL | C11: ='CHECK LIST PPTPKH'!C38 -> BAGOR | D11: ='CHECK LIST PPTPKH'!D38 -> INDIKATIF | E11: ='CHECK LIST PPTPKH'!E38 -> PEMERINTAH DESA | F11: ='CHECK LIST PPTPKH'!F38 -> TAHAP 2 | G11: ='CHECK LIST PPTPKH'!G38 -> 2023 | H11: ='CHECK LIST PPTPKH'!AC38 -> 0 | I11: ='CHECK LIST PPTPKH'!AE38 -> 7 | J11: =H11+I11 -> 7 | K11: ='CHECK LIST PPTPKH'!AG38 -> 136753 | L11: ='CHECK LIST PPTPKH'!AH38 -> Upload Ulang Tahap 2 | M11: NGANJUK
A12: =A11+1 -> 8 | B12: ='CHECK LIST PPTPKH'!B40 -> SALAMROJO | C12: ='CHECK LIST PPTPKH'!C40 -> BERBEK | D12: ='CHECK LIST PPTPKH'!D40 -> LUAR INDIKATIF | E12: ='CHECK LIST PPTPKH'!E40 -> PEMERINTAH DESA | F12: ='CHECK LIST PPTPKH'!F40 -> TAHAP 2 | G12: ='CHECK LIST PPTPKH'!G40 -> 2023 | H12: ='CHECK LIST PPTPKH'!AC40 -> 3 | I12: ='CHECK LIST PPTPKH'!AE40 -> 0 | J12: =H12+I12 -> 3 | K12: ='CHECK LIST PPTPKH'!AG40 -> 15000 | L12: ='CHECK LIST PPTPKH'!AH40 -> 0 | M12: NGANJUK
A13: =A12+1 -> 9 | B13: ='CHECK LIST PPTPKH'!B41 -> BAGOR KULON | C13: ='CHECK LIST PPTPKH'!C41 -> BAGOR | D13: ='CHECK LIST PPTPKH'!D41 -> LUAR INDIKATIF | E13: ='CHECK LIST PPTPKH'!E41 -> PEMERINTAH DESA | F13: ='CHECK LIST PPTPKH'!F41 -> TAHAP 2 | G13: ='CHECK LIST PPTPKH'!G41 -> 2023 | H13: ='CHECK LIST PPTPKH'!AC41 -> 31 | I13: ='CHECK LIST PPTPKH'!AE41 -> 0 | J13: =H13+I13 -> 31 | K13: ='CHECK LIST PPTPKH'!AG41 -> 20083 | L13: ='CHECK LIST PPTPKH'!AH41 -> 0 | M13: NGANJUK
A14: =A13+1 -> 10 | B14: ='CHECK LIST PPTPKH'!B42 -> SIWALAN | C14: ='CHECK LIST PPTPKH'!C42 -> SAWAHAN | D14: ='CHECK LIST PPTPKH'!D42 -> LUAR INDIKATIF | E14: ='CHECK LIST PPTPKH'!E42 -> PEMERINTAH DESA | F14: ='CHECK LIST PPTPKH'!F42 -> TAHAP 2 | G14: ='CHECK LIST PPTPKH'!G42 -> 2023 | H14: ='CHECK LIST PPTPKH'!AC42 -> 0 | I14: ='CHECK LIST PPTPKH'!AE42 -> 7 | J14: =H14+I14 -> 7 | K14: ='CHECK LIST PPTPKH'!AG42 -> 106850 | L14: ='CHECK LIST PPTPKH'!AH42 -> 0 | M14: NGANJUK
A15: =A14+1 -> 11 | B15: ='CHECK LIST PPTPKH'!B43 -> DUREN | C15: ='CHECK LIST PPTPKH'!C43 -> SAWAHAN | D15: ='CHECK LIST PPTPKH'!D43 -> LUAR INDIKATIF | E15: ='CHECK LIST PPTPKH'!E43 -> PEMERINTAH DESA | F15: ='CHECK LIST PPTPKH'!F43 -> TAHAP 2 | G15: ='CHECK LIST PPTPKH'!G43 -> 2023 | H15: ='CHECK LIST PPTPKH'!AC43 -> 3 | I15: ='CHECK LIST PPTPKH'!AE43 -> 4 | J15: =H15+I15 -> 7 | K15: ='CHECK LIST PPTPKH'!AG43 -> 9325 | L15: ='CHECK LIST PPTPKH'!AH43 -> 0
A16: =A15+1 -> 12 | B16: ='CHECK LIST PPTPKH'!B45 -> LOSARI | C16: ='CHECK LIST PPTPKH'!C45 -> GONDANG | D16: ='CHECK LIST PPTPKH'!D45 -> LUAR INDIKATIF | E16: ='CHECK LIST PPTPKH'!E45 -> PEMERINTAH DESA | F16: ='CHECK LIST PPTPKH'!F45 -> TAHAP 2 | G16: ='CHECK LIST PPTPKH'!G45 -> 2023 | H16: ='CHECK LIST PPTPKH'!AC45 -> 2 | I16: ='CHECK LIST PPTPKH'!AE45 -> 3 | J16: =H16+I16 -> 5 | K16: ='CHECK LIST PPTPKH'!AG45 -> 46078 | L16: ='CHECK LIST PPTPKH'!AH45 -> 0 | M16: JOMBANG | O16: 165
A17: =A16+1 -> 13 | B17: ='CHECK LIST PPTPKH'!B47 -> KLODAN | C17: ='CHECK LIST PPTPKH'!C47 -> NGETOS | D17: ='CHECK LIST PPTPKH'!D47 -> LUAR INDIKATIF | E17: ='CHECK LIST PPTPKH'!E47 -> PEMERINTAH DESA | F17: ='CHECK LIST PPTPKH'!F47 -> TAHAP 2 | G17: ='CHECK LIST PPTPKH'!G47 -> 2023 | H17: ='CHECK LIST PPTPKH'!AC47 -> 3 | I17: ='CHECK LIST PPTPKH'!AE47 -> 0 | J17: =H17+I17 -> 3 | K17: ='CHECK LIST PPTPKH'!AG47 -> 97 | L17: ='CHECK LIST PPTPKH'!AH47 -> 0 | M17: KEDIRI | O17: 227.5
A18: =A17+1 -> 14 | B18: ='CHECK LIST PPTPKH'!B48 -> Dinas Kepemudaan, Olahraga, Kebudayaan dan Pariwisata | C18: ='CHECK LIST PPTPKH'!C48 -> 0 | D18: ='CHECK LIST PPTPKH'!D48 -> ASET PEMDA | E18: ='CHECK LIST PPTPKH'!E48 -> PEMERINTAH DAERAH | F18: ='CHECK LIST PPTPKH'!F48 -> TAHAP 2 | G18: ='CHECK LIST PPTPKH'!G48 -> 2023 | H18: ='CHECK LIST PPTPKH'!AC48 -> 0 | I18: ='CHECK LIST PPTPKH'!AE48 -> 5 | J18: =H18+I18 -> 5 | K18: ='CHECK LIST PPTPKH'!AG48 -> 2025 | L18: ='CHECK LIST PPTPKH'!AH48 -> 0
A19: =A18+1 -> 15 | B19: ='CHECK LIST PPTPKH'!B49 -> DINAS PEKERJAAN UMUM DAN PENATAAN RUANG | C19: ='CHECK LIST PPTPKH'!C49 -> 0 | D19: ='CHECK LIST PPTPKH'!D49 -> ASET PEMDA | E19: ='CHECK LIST PPTPKH'!E49 -> PEMERINTAH DAERAH | F19: ='CHECK LIST PPTPKH'!F49 -> TAHAP 2 | G19: ='CHECK LIST PPTPKH'!G49 -> 2023 | H19: ='CHECK LIST PPTPKH'!AC49 -> 0 | I19: ='CHECK LIST PPTPKH'!AE49 -> 140 | J19: =H19+I19 -> 140 | K19: ='CHECK LIST PPTPKH'!AG49 -> 2941861 | L19: ='CHECK LIST PPTPKH'!AH49 -> Bidang Pengairan dan Jalan
A20: =A19+1 -> 16 | B20: ='CHECK LIST PPTPKH'!B51 -> DINAS PENDIDIKAN | C20: ='CHECK LIST PPTPKH'!C51 -> 0 | D20: ='CHECK LIST PPTPKH'!D51 -> ASET PEMDA | E20: ='CHECK LIST PPTPKH'!E51 -> PEMERINTAH DAERAH | F20: - | G20: ='CHECK LIST PPTPKH'!G51 -> 2023 | H20: ='CHECK LIST PPTPKH'!AC51 -> 0 | L20: ='CHECK LIST PPTPKH'!AH51 -> 0
A21: JUMLAH TOTAL | H21: =SUM(H5:H20) -> 349 | I21: =SUM(I5:I20) -> 204 | J21: =SUM(J5:J20) -> 553 | K21: =SUM(K5:K20) -> 4183885.5

Sheet LUAS SISA USULAN
A1: REKAPITULASI USULAN PPTPKH KABUPATEN NGANJUK
A3: No. | B3: Kecamatan | C3: Desa | D3: Status Kawasan | E3: Instansi | F3: Status Usulan | G3: Tahun Usulan | H3: Jumlah Bidang | K3: Luas | L3: Keterangan | M3: KPH
H4: Permukiman | I4: Fasum/Fasos | J4: Jumlah | K4: (m2)
A5: 1 | B5: ='REKAP USULAN PPTPKH'!B7 -> MAGUAN | C5: ='REKAP USULAN PPTPKH'!C7 -> BERBEK | D5: ='CHECK LIST PPTPKH'!D13 -> INDIKATIF | E5: ='CHECK LIST PPTPKH'!E13 -> PEMERINTAH DESA | F5: ='REKAP USULAN PPTPKH'!F7 -> TAHAP 1 | G5: ='REKAP USULAN PPTPKH'!G7 -> 2022 | J5: =H5+I5 -> 0 | L5: ='CHECK LIST PPTPKH'!AH13 -> Mengajukan melalui LSM GEMA-PS
A6: =A5+1 -> 2 | B6: ='TAHAP 2 DESA'!B12 -> SALAMROJO | C6: ='TAHAP 2 DESA'!C12 -> BERBEK | D6: ='TAHAP 2 DESA'!D12 -> LUAR INDIKATIF | E6: ='CHECK LIST PPTPKH'!E28 -> PEMERINTAH DESA | F6: ='CHECK LIST PPTPKH'!F28 -> TAHAP 2 | G6: ='CHECK LIST PPTPKH'!G28 -> 2023 | H6: ='CHECK LIST PPTPKH'!AC28 -> 9 | I6: ='CHECK LIST PPTPKH'!AE28 -> 7 | J6: =H6+I6 -> 16 | K6: ='CHECK LIST PPTPKH'!AG28 -> 320000 | L6: ='CHECK LIST PPTPKH'!AH28 -> Upload Ulang Tahap 2 | M6: NGANJUK
A7: =A6+1 -> 3 | B7: ='CHECK LIST PPTPKH'!B32 -> KEDUNGPADANG | C7: ='CHECK LIST PPTPKH'!C32 -> REJOSO | D7: ='CHECK LIST PPTPKH'!D32 -> INDIKATIF | E7: ='CHECK LIST PPTPKH'!E32 -> PEMERINTAH DESA | F7: ='CHECK LIST PPTPKH'!F32 -> TAHAP 2 | G7: ='CHECK LIST PPTPKH'!G32 -> 2023 | H7: ='CHECK LIST PPTPKH'!AC32 -> 1 | I7: ='CHECK LIST PPTPKH'!AE32 -> 3 | J7: =H7+I7 -> 4 | K7: ='CHECK LIST PPTPKH'!AG32 -> 2157.5 | M7: NGANJUK
A8: =A7+1 -> 4 | B8: ='CHECK LIST PPTPKH'!B33 -> NGADIBOYO | C8: ='CHECK LIST PPTPKH'!C33 -> REJOSO | D8: ='CHECK LIST PPTPKH'!D33 -> INDIKATIF | E8: ='CHECK LIST PPTPKH'!E33 -> PEMERINTAH DESA | F8: ='CHECK LIST PPTPKH'!F33 -> TAHAP 2 | G8: ='CHECK LIST PPTPKH'!G33 -> 2023 | H8: ='CHECK LIST PPTPKH'!AC33 -> 34 | I8: ='CHECK LIST PPTPKH'!AE33 -> 4 | J8: =H8+I8 -> 38 | K8: ='CHECK LIST PPTPKH'!AG33 -> 11256 | M8: NGANJUK
A9: =A8+1 -> 5 | B9: ='CHECK LIST PPTPKH'!B34 -> BENDOASRI | C9: ='CHECK LIST PPTPKH'!C34 -> REJOSO | D9: ='CHECK LIST PPTPKH'!D34 -> LUAR INDIKATIF | E9: ='CHECK LIST PPTPKH'!E34 -> PEMERINTAH DESA | F9: ='CHECK LIST PPTPKH'!F34 -> TAHAP 2 | G9: ='CHECK LIST PPTPKH'!G34 -> 2023 | H9: ='CHECK LIST PPTPKH'!AC34 -> 0 | I9: ='CHECK LIST PPTPKH'!AE34 -> 8 | J9: =H9+I9 -> 8 | K9: ='CHECK LIST PPTPKH'!AG34 -> 23500 | L9: ='CHECK LIST PPTPKH'!AH34 -> Upload Ulang Tahap 2
A10: =A9+1 -> 6 | B10: ='CHECK LIST PPTPKH'!B36 -> BAJANG | C10: ='CHECK LIST PPTPKH'!C36 -> NGLUYU | D10: ='CHECK LIST PPTPKH'!D36 -> INDIKATIF | E10: ='CHECK LIST PPTPKH'!E36 -> PEMERINTAH DESA | F10: ='CHECK LIST PPTPKH'!F36 -> TAHAP 2 | G10: ='CHECK LIST PPTPKH'!G36 -> 2023 | H10: ='CHECK LIST PPTPKH'!AC36 -> 1 | I10: ='CHECK LIST PPTPKH'!AE36 -> 5 | J10: =H10+I10 -> 6 | K10: ='CHECK LIST PPTPKH'!AG36 -> 8500 | L10: ='CHECK LIST PPTPKH'!AH36 -> Upload Ulang Tahap 2 | M10: JOMBANG
A11: =A10+1 -> 7 | B11: ='CHECK LIST PPTPKH'!B38 -> NGUMPUL | C11: ='CHECK LIST PPTPKH'!C38 -> BAGOR | D11: ='CHECK LIST PPTPKH'!D38 -> INDIKATIF | E11: ='CHECK LIST PPTPKH'!E38 -> PEMERINTAH DESA | F11: ='CHECK LIST PPTPKH'!F38 -> TAHAP 2 | G11: ='CHECK LIST PPTPKH'!G38 -> 2023 | H11: ='CHECK LIST PPTPKH'!AC38 -> 0 | I11: ='CHECK LIST PPTPKH'!AE38 -> 7 | J11: =H11+I11 -> 7 | K11: ='CHECK LIST PPTPKH'!AG38 -> 136753 | L11: ='CHECK LIST PPTPKH'!AH38 -> Upload Ulang Tahap 2 | M11: NGANJUK
A12: =A11+1 -> 8 | B12: ='CHECK LIST PPTPKH'!B40 -> SALAMROJO | C12: ='CHECK LIST PPTPKH'!C40 -> BERBEK | D12: ='CHECK LIST PPTPKH'!D40 -> LUAR INDIKATIF | E12: ='CHECK LIST PPTPKH'!E40 -> PEMERINTAH DESA | F12: ='CHECK LIST PPTPKH'!F40 -> TAHAP 2 | G12: ='CHECK LIST PPTPKH'!G40 -> 2023 | H12: ='CHECK LIST PPTPKH'!AC40 -> 3 | I12: ='CHECK LIST PPTPKH'!AE40 -> 0 | J12: =H12+I12 -> 3 | K12: ='CHECK LIST PPTPKH'!AG40 -> 15000 | L12: ='CHECK LIST PPTPKH'!AH40 -> 0 | M12: NGANJUK
A13: =A12+1 -> 9 | B13: ='CHECK LIST PPTPKH'!B41 -> BAGOR KULON | C13: ='CHECK LIST PPTPKH'!C41 -> BAGOR | D13: ='CHECK LIST PPTPKH'!D41 -> LUAR INDIKATIF | E13: ='CHECK LIST PPTPKH'!E41 -> PEMERINTAH DESA | F13: ='CHECK LIST PPTPKH'!F41 -> TAHAP 2 | G13: ='CHECK LIST PPTPKH'!G41 -> 2023 | H13: ='CHECK LIST PPTPKH'!AC41 -> 31 | I13: ='CHECK LIST PPTPKH'!AE41 -> 0 | J13: =H13+I13 -> 31 | K13: ='CHECK LIST PPTPKH'!AG41 -> 20083 | L13: ='CHECK LIST PPTPKH'!AH41 -> 0 | M13: NGANJUK
A14: =A13+1 -> 10 | B14: ='CHECK LIST PPTPKH'!B42 -> SIWALAN | C14: ='CHECK LIST PPTPKH'!C42 -> SAWAHAN | D14: ='CHECK LIST PPTPKH'!D42 -> LUAR INDIKATIF | E14: ='CHECK LIST PPTPKH'!E42 -> PEMERINTAH DESA | F14: ='CHECK LIST PPTPKH'!F42 -> TAHAP 2 | G14: ='CHECK LIST PPTPKH'!G42 -> 2023 | H14: ='CHECK LIST PPTPKH'!AC42 -> 0 | I14: ='CHECK LIST PPTPKH'!AE42 -> 7 | J14: =H14+I14 -> 7 | K14: ='CHECK LIST PPTPKH'!AG42 -> 106850 | L14: ='CHECK LIST PPTPKH'!AH42 -> 0 | M14: NGANJUK
A15: =A14+1 -> 11 | B15: ='CHECK LIST PPTPKH'!B43 -> DUREN | C15: ='CHECK LIST PPTPKH'!C43 -> SAWAHAN | D15: ='CHECK LIST PPTPKH'!D43 -> LUAR INDIKATIF | E15: ='CHECK LIST PPTPKH'!E43 -> PEMERINTAH DESA | F15: ='CHECK LIST PPTPKH'!F43 -> TAHAP 2 | G15: ='CHECK LIST PPTPKH'!G43 -> 2023 | H15: ='CHECK LIST PPTPKH'!AC43 -> 3 | I15: ='CHECK LIST PPTPKH'!AE43 -> 4 | J15: =H15+I15 -> 7 | K15: ='CHECK LIST PPTPKH'!AG43 -> 9325 | L15: ='CHECK LIST PPTPKH'!AH43 -> 0
A16: =A15+1 -> 12 | B16: ='CHECK LIST PPTPKH'!B45 -> LOSARI | C16: ='CHECK LIST PPTPKH'!C45 -> GONDANG | D16: ='CHECK LIST PPTPKH'!D45 -> LUAR INDIKATIF | E16: ='CHECK LIST PPTPKH'!E45 -> PEMERINTAH DESA | F16: ='CHECK LIST PPTPKH'!F45 -> TAHAP 2 | G16: ='CHECK LIST PPTPKH'!G45 -> 2023 | H16: ='CHECK LIST PPTPKH'!AC45 -> 2 | I16: ='CHECK LIST PPTPKH'!AE45 -> 3 | J16: =H16+I16 -> 5 | K16: ='CHECK LIST PPTPKH'!AG45 -> 46078 | L16: ='CHECK LIST PPTPKH'!AH45 -> 0 | M16: JOMBANG | O16: 165
A17: =A16+1 -> 13 | B17: ='CHECK LIST PPTPKH'!B47 -> KLODAN | C17: ='CHECK LIST PPTPKH'!C47 -> NGETOS | D17: ='CHECK LIST PPTPKH'!D47 -> LUAR INDIKATIF | E17: ='CHECK LIST PPTPKH'!E47 -> PEMERINTAH DESA | F17: ='CHECK LIST PPTPKH'!F47 -> TAHAP 2 | G17: ='CHECK LIST PPTPKH'!G47 -> 2023 | H17: ='CHECK LIST PPTPKH'!AC47 -> 3 | I17: ='CHECK LIST PPTPKH'!AE47 -> 0 | J17: =H17+I17 -> 3 | K17: ='CHECK LIST PPTPKH'!AG47 -> 97 | L17: ='CHECK LIST PPTPKH'!AH47 -> 0 | M17: KEDIRI | O17: 227.5
A18: =A17+1 -> 14 | B18: ='CHECK LIST PPTPKH'!B48 -> Dinas Kepemudaan, Olahraga, Kebudayaan dan Pariwisata | C18: ='CHECK LIST PPTPKH'!C48 -> 0 | D18: ='CHECK LIST PPTPKH'!D48 -> ASET PEMDA | E18: ='CHECK LIST PPTPKH'!E48 -> PEMERINTAH DAERAH | F18: ='CHECK LIST PPTPKH'!F48 -> TAHAP 2 | G18: ='CHECK LIST PPTPKH'!G48 -> 2023 | H18: ='CHECK LIST PPTPKH'!AC48 -> 0 | I18: ='CHECK LIST PPTPKH'!AE48 -> 5 | J18: =H18+I18 -> 5 | K18: ='CHECK LIST PPTPKH'!AG48 -> 2025 | L18: ='CHECK LIST PPTPKH'!AH48 -> 0
A19: =A18+1 -> 15 | B19: ='CHECK LIST PPTPKH'!B49 -> DINAS PEKERJAAN UMUM DAN PENATAAN RUANG | C19: ='CHECK LIST PPTPKH'!C49 -> 0 | D19: ='CHECK LIST PPTPKH'!D49 -> ASET PEMDA | E19: ='CHECK LIST PPTPKH'!E49 -> PEMERINTAH DAERAH | F19: ='CHECK LIST PPTPKH'!F49 -> TAHAP 2 | G19: ='CHECK LIST PPTPKH'!G49 -> 2023 | H19: ='CHECK LIST PPTPKH'!AC49 -> 0 | I19: ='CHECK LIST PPTPKH'!AE49 -> 140 | J19: =H19+I19 -> 140 | K19: ='CHECK LIST PPTPKH'!AG49 -> 2941861 | L19: ='CHECK LIST PPTPKH'!AH49 -> Bidang Pengairan dan Jalan
A20: =A19+1 -> 16 | B20: ='CHECK LIST PPTPKH'!B51 -> DINAS PENDIDIKAN | C20: ='CHECK LIST PPTPKH'!C51 -> 0 | D20: ='CHECK LIST PPTPKH'!D51 -> ASET PEMDA | E20: ='CHECK LIST PPTPKH'!E51 -> PEMERINTAH DAERAH | F20: - | G20: ='CHECK LIST PPTPKH'!G51 -> 2023 | H20: ='CHECK LIST PPTPKH'!AC51 -> 0 | L20: ='CHECK LIST PPTPKH'!AH51 -> 0
A21: JUMLAH TOTAL | H21: =SUM(H5:H20) -> 87 | I21: =SUM(I5:I20) -> 193 | J21: =SUM(J5:J20) -> 280 | K21: =SUM(K5:K20) -> 3643485.5

Sheet TAHAP 2 PD
A1: REKAPITULASI USULAN PPTPKH PERANGKAT DAERAH KABUPATEN NGANJUK
A3: No. | B3: Nama Perangkat Daerah | C3: Nama Desa
C5: Desa Bajulan | D5: Desa Banggle | E5: Desa Ngliman | F5: Desa Kweden | G5: Desa Margopatut | H5: Desa Sawahan | I5: Desa Kebonagung | J5: Desa Maguan | K5: Desa Sugihwaras | L5: Desa Tritik | M5: Desa Kedungrejo | N5: Desa Tempuran | O5: Desa Banarankulon | P5: Desa Gampeng | Q5: Desa Sumberagung | R5: Desa Sambikerep | S5: Desa Balonggebang | T5: Desa Sumberkepuh | U5: Desa Dawuhan | V5: Desa Perning | W5: Desa Gondang Wetan | X5: Desa Sumbersono | Y5: Desa Lumpang Luwik | Z5: Desa Pulowetan | AA5: Desa Suru | AB5: Desa Kepel | AC5: Desa Klodan | AD5: Desa Blongko | AE5: Desa Oro-oro Ombo | AF5: Desa Bulu | AG5: Desa Ngadipiro | AH5: Desa Bendolo | AI5: Desa Mancang | AJ5: Desa Ngumpul | AK5: Desa Sumberurip | AL5: Desa Duren | AM5: Desa Sudimoroharjo
A6: 1 | B6: ='CHECK LIST PPTPKH'!B48 -> Dinas Kepemudaan, Olahraga, Kebudayaan dan Pariwisata | C6: Monumen Jenderal Sudirman | D6: Banggle 1 | E6: Sadepok
D7: Banggle 2 | E7: Situs Condrogeni
A8: =A6+1 -> 2 | B8: Dinas Pekerjaan Umum dan Penataan Ruang | C8: UPTD PSDA Bodor | D8: - | E8: UPTD PSDA Kuncir | F8: UPTD PSDA Kuncir | G8: UPTD PSDA Kuncir | H8: UPTD PSDA Kuncir | I8: UPTD PSDA Kuncir | J8: UPTD PSDA Kuncir | K8: UPTD PSDA Bening | L8: UPTD PSDA Bening | M8: UPTD PSDA Bening | N8: UPTD PSDA Bening | O8: UPTD PSDA Bening | P8: UPTD PSDA Bening | Q8: UPTD PSDA Bening | R8: UPTD PSDA Bening | S8: UPTD PSDA Bening | T8: UPTD PSDA Mrican Kiri | U8: UPTD PSDA Mrican Kiri | V8: UPTD PSDA Mrican Kiri | W8: UPTD PSDA Mrican Kiri | X8: UPTD PSDA Mrican Kiri | Y8: UPTD PSDA Mrican Kiri | Z8: UPTD PSDA Mrican Kiri | AA8: UPTD PSDA Bodor | AB8: UPTD PSDA Bodor | AC8: UPTD PSDA Bodor | AD8: UPTD PSDA Bodor | AE8: UPTD PSDA Bodor | AF8: UPTD PSDA Widas | AG8: UPTD PSDA Widas | AH8: UPTD PSDA Widas | AI8: UPTD PSDA Widas | AJ8: UPTD PSDA Widas | AK8: UPTD PSDA Widas | AL8: UPTD PSDA Widas | AM8: UPTD PSDA Widas
A9: =A8+1 -> 3 | B9: Dinas Pendidikan
A10: JUMLAH TOTAL

Sheet Sheet1
A3: SPPD | B3: 530000 | C3: =SUM(B3*3*3) -> 4770000 | D3: =SUM(B3*3*5) -> 7950000
A4: PENGINAPAN | B4: 800000 | C4: =SUM(B4*4*1) -> 3200000
A5: KONSOLIDASI | B5: 5490000
A6: PENCEGAHAN | B6: 667000
A7: KOORDINASI KUMUH | B7: 1390000
