Workbook

Sheet 35. Siswa Mampu
A1: Provinsi | B1: Kabupaten | C1: Tahun | D1: Kode Referensi Wilayah | E1: Kecamatan | F1: PAUD | H1: SD | J1: SMP | L1: Pendidikan Kesetaraan | N1: Satuan
F2: Mampu | G2: Tidak Mampu | H2: Mampu | I2: Tidak Mampu | J2: Mampu | K2: Tidak Mampu | L2: Mampu | M2: Tidak Mampu
A3: Jawa Timur | B3: Nganjuk | C3: 2025 | D3: 35.18.01 | E3: Kecamatan Sawahan | F3: 0 | G3: 0 | H3: ='[1]28. Siswa PAUD SD SMP PK'!D14-'35. Siswa Mampu'!I3 -> 769 | I3: 1689 | J3: ='[1]28. Siswa PAUD SD SMP PK'!E14-'35. Siswa Mampu'!K3 -> 111 | K3: 756 | L3: ='[1]28. Siswa PAUD SD SMP PK'!F14-'35. Siswa Mampu'!M3 -> 0 | M3: 0 | N3: Siswa | P3: 1747 | Q3: 385 | R3: =P3+Q3 -> 2132
A4: Jawa Timur | B4: Nganjuk | C4: 2025 | D4: 35.18.02 | E4: Kecamatan Ngetos | F4: 0 | G4: 0 | H4: ='[1]28. Siswa PAUD SD SMP PK'!D15-'35. Siswa Mampu'!I4 -> 632 | I4: 1988 | J4: ='[1]28. Siswa PAUD SD SMP PK'!E15-'35. Siswa Mampu'!K4 -> 0 | K4: 657 | L4: ='[1]28. Siswa PAUD SD SMP PK'!F15-'35. Siswa Mampu'!M4 -> 194 | M4: 26 | N4: Siswa | P4: 2068 | Q4: 413 | R4: =P4+Q4 -> 2481
A5: Jawa Timur | B5: Nganjuk | C5: 2025 | D5: 35.18.03 | E5: Kecamatan Berbek | F5: 0 | G5: 0 | H5: ='[1]28. Siswa PAUD SD SMP PK'!D16-'35. Siswa Mampu'!I5 -> 1005 | I5: 2369 | J5: ='[1]28. Siswa PAUD SD SMP PK'!E16-'35. Siswa Mampu'!K5 -> 320 | K5: 1017 | L5: ='[1]28. Siswa PAUD SD SMP PK'!F16-'35. Siswa Mampu'!M5 -> 0 | M5: 0 | N5: Siswa | P5: 1921 | Q5: 493 | R5: =P5+Q5 -> 2414
A6: Jawa Timur | B6: Nganjuk | C6: 2025 | D6: 35.18.04 | E6: Kecamatan Loceret | F6: 0 | G6: 0 | H6: ='[1]28. Siswa PAUD SD SMP PK'!D17-'35. Siswa Mampu'!I6 -> 861 | I6: 4080 | J6: ='[1]28. Siswa PAUD SD SMP PK'!E17-'35. Siswa Mampu'!K6 -> 1233 | K6: 1711 | L6: ='[1]28. Siswa PAUD SD SMP PK'!F17-'35. Siswa Mampu'!M6 -> 38 | M6: 8 | N6: Siswa | P6: 3960 | Q6: 972 | R6: =P6+Q6 -> 4932
A7: Jawa Timur | B7: Nganjuk | C7: 2025 | D7: 35.18.05 | E7: Kecamatan Pace | F7: 0 | G7: 0 | H7: ='[1]28. Siswa PAUD SD SMP PK'!D18-'35. Siswa Mampu'!I7 -> 855 | I7: 2764 | J7: ='[1]28. Siswa PAUD SD SMP PK'!E18-'35. Siswa Mampu'!K7 -> 363 | K7: 1207 | L7: ='[1]28. Siswa PAUD SD SMP PK'!F18-'35. Siswa Mampu'!M7 -> 0 | M7: 0 | N7: Siswa | P7: 2552 | Q7: 489 | R7: =P7+Q7 -> 3041
A8: Jawa Timur | B8: Nganjuk | C8: 2025 | D8: 35.18.06 | E8: Kecamatan Prambon | F8: 0 | G8: 0 | H8: ='[1]28. Siswa PAUD SD SMP PK'!D19-'35. Siswa Mampu'!I8 -> 702 | I8: 2939 | J8: ='[1]28. Siswa PAUD SD SMP PK'!E19-'35. Siswa Mampu'!K8 -> 482 | K8: 1376 | L8: ='[1]28. Siswa PAUD SD SMP PK'!F19-'35. Siswa Mampu'!M8 -> 0 | M8: 0 | N8: Siswa | P8: 2955 | Q8: 930 | R8: =P8+Q8 -> 3885
A9: Jawa Timur | B9: Nganjuk | C9: 2025 | D9: 35.18.07 | E9: Kecamatan Ngronggot | F9: 0 | G9: 0 | H9: ='[1]28. Siswa PAUD SD SMP PK'!D20-'35. Siswa Mampu'!I9 -> 958 | I9: 2165 | J9: ='[1]28. Siswa PAUD SD SMP PK'!E20-'35. Siswa Mampu'!K9 -> 583 | K9: 912 | L9: ='[1]28. Siswa PAUD SD SMP PK'!F20-'35. Siswa Mampu'!M9 -> 136 | M9: 30 | N9: Siswa | P9: 2022 | Q9: 383 | R9: =P9+Q9 -> 2405
A10: Jawa Timur | B10: Nganjuk | C10: 2025 | D10: 35.18.08 | E10: Kecamatan Kertosono | F10: 0 | G10: 0 | H10: ='[1]28. Siswa PAUD SD SMP PK'!D21-'35. Siswa Mampu'!I10 -> 1184 | I10: 2580 | J10: ='[1]28. Siswa PAUD SD SMP PK'!E21-'35. Siswa Mampu'!K10 -> 1598 | K10: 1767 | L10: ='[1]28. Siswa PAUD SD SMP PK'!F21-'35. Siswa Mampu'!M10 -> 0 | M10: 0 | N10: Siswa | P10: 2220 | Q10: 589 | R10: =P10+Q10 -> 2809
A11: Jawa Timur | B11: Nganjuk | C11: 2025 | D11: 35.18.09 | E11: Kecamatan Patianrowo | F11: 0 | G11: 0 | H11: ='[1]28. Siswa PAUD SD SMP PK'!D22-'35. Siswa Mampu'!I11 -> 627 | I11: 1600 | J11: ='[1]28. Siswa PAUD SD SMP PK'!E22-'35. Siswa Mampu'!K11 -> 432 | K11: 670 | L11: ='[1]28. Siswa PAUD SD SMP PK'!F22-'35. Siswa Mampu'!M11 -> 0 | M11: 0 | N11: Siswa | P11: 1453 | Q11: 280 | R11: =P11+Q11 -> 1733
A12: Jawa Timur | B12: Nganjuk | C12: 2025 | D12: 35.18.10 | E12: Kecamatan Baron | F12: 0 | G12: 0 | H12: ='[1]28. Siswa PAUD SD SMP PK'!D23-'35. Siswa Mampu'!I12 -> 835 | I12: 1634 | J12: ='[1]28. Siswa PAUD SD SMP PK'!E23-'35. Siswa Mampu'!K12 -> 778 | K12: 809 | L12: ='[1]28. Siswa PAUD SD SMP PK'!F23-'35. Siswa Mampu'!M12 -> 400 | M12: 234 | N12: Siswa | P12: 1568 | Q12: 464 | R12: =P12+Q12 -> 2032
A13: Jawa Timur | B13: Nganjuk | C13: 2025 | D13: 35.18.11 | E13: Kecamatan Tanjunganom | F13: 0 | G13: 0 | H13: ='[1]28. Siswa PAUD SD SMP PK'!D24-'35. Siswa Mampu'!I13 -> 1320 | I13: 5297 | J13: ='[1]28. Siswa PAUD SD SMP PK'!E24-'35. Siswa Mampu'!K13 -> 1059 | K13: 1998 | L13: ='[1]28. Siswa PAUD SD SMP PK'!F24-'35. Siswa Mampu'!M13 -> 82 | M13: 4 | N13: Siswa | P13: 4456 | Q13: 1243 | R13: =P13+Q13 -> 5699
A14: Jawa Timur | B14: Nganjuk | C14: 2025 | D14: 35.18.12 | E14: Kecamatan Sukomoro | F14: 0 | G14: 0 | H14: ='[1]28. Siswa PAUD SD SMP PK'!D26-'35. Siswa Mampu'!I14 -> 495 | I14: 2049 | J14: ='[1]28. Siswa PAUD SD SMP PK'!E26-'35. Siswa Mampu'!K14 -> 411 | K14: 551 | L14: ='[1]28. Siswa PAUD SD SMP PK'!F26-'35. Siswa Mampu'!M14 -> 0 | M14: 0 | N14: Siswa | P14: 2054 | Q14: 347 | R14: =P14+Q14 -> 2401
A15: Jawa Timur | B15: Nganjuk | C15: 2025 | D15: 35.18.13 | E15: Kecamatan Nganjuk | F15: 0 | G15: 0 | H15: ='[1]28. Siswa PAUD SD SMP PK'!D27-'35. Siswa Mampu'!I15 -> 3192 | I15: 4276 | J15: ='[1]28. Siswa PAUD SD SMP PK'!E27-'35. Siswa Mampu'!K15 -> 4044 | K15: 2628 | L15: ='[1]28. Siswa PAUD SD SMP PK'!F27-'35. Siswa Mampu'!M15 -> 346 | M15: 41 | N15: Siswa | P15: 3035 | Q15: 793 | R15: =P15+Q15 -> 3828
A16: Jawa Timur | B16: Nganjuk | C16: 2025 | D16: 35.18.14 | E16: Kecamatan Bagor | F16: 0 | G16: 0 | H16: ='[1]28. Siswa PAUD SD SMP PK'!D28-'35. Siswa Mampu'!I16 -> 990 | I16: 2317 | J16: ='[1]28. Siswa PAUD SD SMP PK'!E28-'35. Siswa Mampu'!K16 -> 558 | K16: 514 | L16: ='[1]28. Siswa PAUD SD SMP PK'!F28-'35. Siswa Mampu'!M16 -> 32 | M16: 4 | N16: Siswa | P16: 2136 | Q16: 442 | R16: =P16+Q16 -> 2578
A17: Jawa Timur | B17: Nganjuk | C17: 2025 | D17: 1.4710069 | E17: Kecamatan Wilangan | F17: 0 | G17: 0 | H17: ='[1]28. Siswa PAUD SD SMP PK'!D29-'35. Siswa Mampu'!I17 -> 440 | I17: 1273 | J17: ='[1]28. Siswa PAUD SD SMP PK'!E29-'35. Siswa Mampu'!K17 -> 351 | K17: 337 | L17: ='[1]28. Siswa PAUD SD SMP PK'!F29-'35. Siswa Mampu'!M17 -> 0 | M17: 0 | N17: Siswa | P17: 961 | Q17: 274 | R17: =P17+Q17 -> 1235
A18: Jawa Timur | B18: Nganjuk | C18: 2025 | D18: 35.18.16 | E18: Kecamatan Rejoso | F18: 0 | G18: 0 | H18: ='[1]28. Siswa PAUD SD SMP PK'!D30-'35. Siswa Mampu'!I18 -> 1438 | I18: 3022 | J18: ='[1]28. Siswa PAUD SD SMP PK'!E30-'35. Siswa Mampu'!K18 -> 136 | K18: 1622 | L18: ='[1]28. Siswa PAUD SD SMP PK'!F30-'35. Siswa Mampu'!M18 -> 0 | M18: 0 | N18: Siswa | P18: 2545 | Q18: 521 | R18: =P18+Q18 -> 3066
A19: Jawa Timur | B19: Nganjuk | C19: 2025 | D19: 35.18.17 | E19: Kecamatan Gondang | F19: 0 | G19: 0 | H19: ='[1]28. Siswa PAUD SD SMP PK'!D31-'35. Siswa Mampu'!I19 -> 1273 | I19: 2346 | J19: ='[1]28. Siswa PAUD SD SMP PK'!E31-'35. Siswa Mampu'!K19 -> 503 | K19: 1019 | L19: ='[1]28. Siswa PAUD SD SMP PK'!F31-'35. Siswa Mampu'!M19 -> 0 | M19: 0 | N19: Siswa | P19: 2063 | Q19: 366 | R19: =P19+Q19 -> 2429
A20: Jawa Timur | B20: Nganjuk | C20: 2025 | D20: 35.18.18 | E20: Kecamatan Ngluyu | F20: 0 | G20: 0 | H20: ='[1]28. Siswa PAUD SD SMP PK'!D32-'35. Siswa Mampu'!I20 -> 142 | I20: 542 | J20: ='[1]28. Siswa PAUD SD SMP PK'!E32-'35. Siswa Mampu'!K20 -> 0 | K20: 311 | L20: ='[1]28. Siswa PAUD SD SMP PK'!F32-'35. Siswa Mampu'!M20 -> 0 | M20: 0 | N20: Siswa | P20: 625 | Q20: 140 | R20: =P20+Q20 -> 765
A21: Jawa Timur | B21: Nganjuk | C21: 2025 | D21: 35.18.19 | E21: Kecamatan Lengkong | F21: 0 | G21: 0 | H21: ='[1]28. Siswa PAUD SD SMP PK'!D33-'35. Siswa Mampu'!I21 -> 596 | I21: 1485 | J21: ='[1]28. Siswa PAUD SD SMP PK'!E33-'35. Siswa Mampu'!K21 -> 360 | K21: 687 | L21: ='[1]28. Siswa PAUD SD SMP PK'!F33-'35. Siswa Mampu'!M21 -> 110 | M21: 30 | N21: Siswa | P21: 1472 | Q21: 226 | R21: =P21+Q21 -> 1698
A22: Jawa Timur | B22: Nganjuk | C22: 2025 | D22: 35.18.20 | E22: Kecamatan Jatikalen | F22: 0 | G22: 0 | H22: ='[1]28. Siswa PAUD SD SMP PK'!D34-'35. Siswa Mampu'!I22 -> 254 | I22: 859 | J22: ='[1]28. Siswa PAUD SD SMP PK'!E34-'35. Siswa Mampu'!K22 -> 33 | K22: 391 | L22: ='[1]28. Siswa PAUD SD SMP PK'!F34-'35. Siswa Mampu'!M22 -> 30 | M22: 7 | N22: Siswa | P22: 841 | Q22: 155 | R22: =P22+Q22 -> 996
A23: Jumlah | F23: =SUM(F3:F22) -> 0 | G23: =SUM(G3:G22) -> 0 | H23: =SUM(H3:H22) -> 18568 | I23: =SUM(I3:I22) -> 47274 | J23: =SUM(J3:J22) -> 13355 | K23: =SUM(K3:K22) -> 20940 | L23: =SUM(L3:L22) -> 1368 | M23: =SUM(M3:M22) -> 384 | P23: =SUM(P3:P22) -> 42654
