Workbook

Sheet Tosari
A1: IKHTISAR INVENTARISASI JEMBATAN
A2: PROPINSI | C2: : JAWA TIMUR (35) | X2: Hal | Y2: : 1
A3: KABUPATEN | C3: : PASURUAN (14) | X3: Dari | Y3: : 3
A4: KECAMATAN | C4: : TOSARI
A6: No. Ruas | B6: Panjang | C6: Nama Pangkal-Ujung Ruas (K1) | D6: No.Urut | E6: Nama Jembatan/Sungai (>=2,0 m) | F6: PAL km | G6: Tipe Penye-berangan | H6: Ukuran | L6: Tipe/ Kondisi (Gunakan Kode Standar di K10L)
B7: (km) | H7: Panjang (m) | I7: Lebar | J7: Total | K7: Jumlah Bentang | L7: Bangunan Atas | P7: Lantai | R7: Sandaran | T7: Pondasi | W7: Kepala Jemb. & Pilar
I8: Jalur | L8: Tipe | M8: Bahan | N8: Asal | O8: Kond | P8: Bahan | Q8: Knd | R8: Bahan | S8: Kond | T8: Tipe | U8: Bahan | V8: Kond | W8: Tipe | X8: Bahan | Y8: Kond
D9: 1 | E9: 2 | F9: 3 | G9: 4 | H9: 5 | I9: 6.1 | J9: 6.2 | K9: 7 | L9: 8 | M9: 9 | N9: 10 | O9: 11 | P9: 12 | Q9: 13 | R9: 14 | S9: 15 | T9: 16 | U9: 17 | V9: 18 | W9: 19 | X9: 20 | Y9: 21
A10: 69 | B10: 2.7 | C10: Tosari - wonokitri | D10: 1 | E10: Beton Plat | F10: 0-0.117 | G10: JN | H10: 2 | I10: 7 | J10: 9 | K10: 1 | L10: B | M10: T | N10: I | O10: 0 | P10: A | Q10: 0 | R10: M | S10: 0 | T10: LS | U10: B | V10: 0 | W10: B | X10: T | Y10: 0
D11: 2 | E11: Beton Plat | F11: 0.272 | G11: JN | H11: 2.6 | I11: 7 | J11: 9 | K11: 1 | L11: B | M11: T | N11: I | O11: 0 | P11: A | Q11: 0 | R11: M | S11: 0 | T11: LS | U11: B | V11: 0 | W11: B | X11: T | Y11: 0
D12: 3 | E12: Beton Plat | F12: 0.472 | G12: JN | H12: 2 | I12: 7 | J12: 9 | K12: 1 | L12: B | M12: T | N12: I | O12: 0 | P12: A | Q12: 0 | R12: M | S12: 0 | T12: LS | U12: B | V12: 0 | W12: B | X12: T | Y12: 0
D13: 4 | E13: Gorong-gorong | F13: 0.738 | G13: JN | H13: 2.5 | I13: 7 | J13: 9 | K13: 1 | L13: B | M13: T | N13: I | O13: 0 | P13: A | Q13: 0 | R13: M | S13: 0 | T13: LS | U13: B | V13: 0 | W13: B | X13: T | Y13: 0
D14: 5 | E14: Beton Plat | F14: 0.83 | G14: JN | H14: 3 | I14: 7 | J14: 9 | K14: 1 | L14: B | M14: T | N14: I | O14: 0 | P14: A | Q14: 0 | R14: M | S14: 0 | T14: LS | U14: B | V14: 0 | W14: B | X14: T | Y14: 0
D15: 6 | E15: Banyu Petung | F15: 0.9 | G15: JN | H15: 3.5 | I15: 7 | J15: 9 | K15: 1 | L15: E | M15: V | N15: D | O15: 0 | P15: A | Q15: 0 | R15: M | S15: 0 | T15: LS | U15: B | V15: 0 | W15: B | X15: T | Y15: 0
D16: 7 | E16: Gorong-gorong | F16: 0.31 | G16: JN | H16: 2.5 | I16: 7 | J16: 9 | K16: 1 | L16: B | M16: T | N16: I | O16: 0 | P16: A | Q16: 0 | R16: M | S16: 0 | T16: LS | U16: B | V16: 0 | W16: B | X16: T | Y16: 0
D17: 8 | E17: Beton Plat | F17: 1.718 | G17: JN | H17: 2.5 | I17: 7 | J17: 9 | K17: 1 | L17: B | M17: T | N17: I | O17: 2 | P17: A | Q17: 1 | R17: M | S17: 2 | T17: LS | U17: B | V17: 1 | W17: B | X17: T | Y17: 1
D18: 9 | E18: Gorong-gorong | F18: 2.05 | G18: JN | H18: 2.5 | I18: 7 | J18: 9 | K18: 1 | L18: B | M18: T | N18: I | O18: 0 | P18: A | Q18: 0 | R18: M | S18: 0 | T18: LS | U18: B | V18: 0 | W18: B | X18: T | Y18: 0
A19: 70 | B19: 5.8 | C19: Wonokitri - Dingklik | D19: 1 | E19: Gorong-gorong | F19: 0-0.15 | G19: JN | H19: 0.6 | I19: 6 | J19: 8 | K19: 1 | L19: B | M19: T | N19: I | O19: 0 | P19: A | Q19: 0 | R19: M | S19: 0 | T19: LS | U19: B | V19: 0 | W19: B | X19: T | Y19: 0
D20: 2 | E20: Gorong-gorong | F20: 0.25 | G20: JN | H20: 0.6 | I20: 6 | J20: 8 | K20: 1 | L20: B | M20: T | N20: I | O20: 0 | P20: A | Q20: 0 | R20: M | S20: 0 | T20: LS | U20: B | V20: 0 | W20: B | X20: T | Y20: 0
D21: 3 | E21: Gorong-gorong | F21: 0.6 | G21: JN | H21: 0.6 | I21: 6 | J21: 8 | K21: 1 | L21: B | M21: T | N21: I | O21: 0 | P21: A | Q21: 0 | R21: M | S21: 0 | T21: LS | U21: B | V21: 0 | W21: B | X21: T | Y21: 0
D22: 4 | E22: Gorong-gorong | F22: 0.7 | G22: JN | H22: 0.6 | I22: 6 | J22: 8 | K22: 1 | L22: B | M22: T | N22: I | O22: 0 | P22: A | Q22: 0 | R22: M | S22: 0 | T22: LS | U22: B | V22: 0 | W22: B | X22: T | Y22: 0
D23: 5 | E23: Beton Plat | F23: 1.2 | G23: JN | H23: 0.6 | I23: 6 | J23: 8 | K23: 1 | L23: B | M23: T | N23: I | O23: 0 | P23: A | Q23: 0 | R23: M | S23: 0 | T23: LS | U23: B | V23: 0 | W23: B | X23: T | Y23: 0
D24: 6 | E24: Beton Plat | F24: 1.35 | G24: JN | H24: 0.6 | I24: 6 | J24: 8 | K24: 1 | L24: B | M24: T | N24: I | O24: 2 | P24: A | Q24: 1 | R24: M | S24: 1 | T24: LS | U24: B | V24: 0 | W24: B | X24: T | Y24: 0
D25: 7 | E25: Beton Plat | F25: 1.523 | G25: JN | H25: 0.6 | I25: 6 | J25: 8 | K25: 1 | L25: B | M25: T | N25: I | O25: 0 | P25: A | Q25: 0 | R25: M | S25: 0 | T25: LS | U25: B | V25: 0 | W25: B | X25: T | Y25: 0
D26: 8 | E26: Gorong-gorong | F26: 1.738 | G26: JN | H26: 0.6 | I26: 6 | J26: 8 | K26: 1 | L26: B | M26: T | N26: I | O26: 0 | P26: A | Q26: 0 | R26: M | S26: 0 | T26: LS | U26: B | V26: 0 | W26: B | X26: T | Y26: 0
D27: 9 | E27: Gorong-gorong | F27: 1.827 | G27: JN | H27: 0.6 | I27: 6 | J27: 8 | K27: 1 | L27: B | M27: T | N27: I | O27: 0 | P27: A | Q27: 0 | R27: M | S27: 0 | T27: LS | U27: B | V27: 0 | W27: B | X27: T | Y27: 0
D28: 10 | E28: Gorong-gorong | F28: 1.919 | G28: JN | H28: 0.6 | I28: 6 | J28: 8 | K28: 1 | L28: B | M28: T | N28: I | O28: 0 | P28: A | Q28: 0 | R28: M | S28: 0 | T28: LS | U28: B | V28: 0 | W28: B | X28: T | Y28: 0
D29: 11 | E29: Gorong-gorong | F29: 2.048 | G29: JN | H29: 0.6 | I29: 6 | J29: 8 | K29: 1 | L29: B | M29: T | N29: I | O29: 0 | P29: A | Q29: 0 | R29: M | S29: 0 | T29: LS | U29: B | V29: 0 | W29: B | X29: T | Y29: 0
D30: 12 | E30: Gorong-gorong | F30: 5.241 | G30: JN | H30: 0.6 | I30: 6 | J30: 8 | K30: 1 | L30: B | M30: T | N30: I | O30: 0 | P30: A | Q30: 0 | R30: M | S30: 0 | T30: LS | U30: B | V30: 0 | W30: B | X30: T | Y30: 0
A31: 95 | B31: 3.726 | C31: Dingklik - Penanjakan | D31: 1 | E31: Beton Plat | F31: 0-0.591 | G31: JN | H31: 0.6 | I31: 8.4 | J31: 10.4 | K31: 1 | L31: B | M31: T | N31: I | O31: 0 | P31: A | Q31: 0 | R31: M | S31: 0 | T31: LS | U31: B | V31: 0 | W31: B | X31: T | Y31: 0
D32: 2 | E32: Beton Plat | F32: 1.127 | G32: JN | H32: 0.6 | I32: 8.4 | J32: 10.4 | K32: 1 | L32: B | M32: T | N32: I | O32: 0 | P32: A | Q32: 0 | R32: M | S32: 0 | T32: LS | U32: B | V32: 0 | W32: B | X32: T | Y32: 0
D33: 3 | E33: Beton Plat | F33: 1.345 | G33: JN | H33: 0.6 | I33: 8.4 | J33: 10.4 | K33: 1 | L33: B | M33: T | N33: I | O33: 0 | P33: A | Q33: 0 | R33: M | S33: 0 | T33: LS | U33: B | V33: 0 | W33: B | X33: T | Y33: 0
D34: 4 | E34: Beton Plat | F34: 1.514 | G34: JN | H34: 0.6 | I34: 7 | J34: 9 | K34: 1 | L34: B | M34: T | N34: I | O34: 0 | P34: A | Q34: 0 | R34: M | S34: 0 | T34: LS | U34: B | V34: 0 | W34: B | X34: T | Y34: 0
D35: 5 | E35: Beton Plat | F35: 1.944 | G35: JN | H35: 0.6 | I35: 7 | J35: 9 | K35: 1 | L35: B | M35: T | N35: I | O35: 0 | P35: A | Q35: 0 | R35: M | S35: 0 | T35: LS | U35: B | V35: 0 | W35: B | X35: T | Y35: 0
D36: 6 | E36: Beton Plat | F36: 2.139 | G36: JN | H36: 0.6 | I36: 7 | J36: 9 | K36: 1 | L36: B | M36: T | N36: I | O36: 0 | P36: A | Q36: 0 | R36: M | S36: 0 | T36: LS | U36: B | V36: 0 | W36: B | X36: T | Y36: 0
D37: 7 | E37: Beton Plat | F37: 2.31 | G37: JN | H37: 0.6 | I37: 7 | J37: 9 | K37: 1 | L37: B | M37: T | N37: I | O37: 0 | P37: A | Q37: 0 | R37: M | S37: 0 | T37: LS | U37: B | V37: 0 | W37: B | X37: T | Y37: 0
D38: 8 | E38: Beton Plat | F38: 2.554 | G38: JN | H38: 0.6 | I38: 7 | J38: 9 | K38: 1 | L38: B | M38: T | N38: I | O38: 0 | P38: A | Q38: 0 | R38: M | S38: 0 | T38: LS | U38: B | V38: 0 | W38: B | X38: T | Y38: 0
D39: 9 | E39: Beton Plat | F39: 3.112 | G39: JN | H39: 0.6 | I39: 7 | J39: 9 | K39: 1 | L39: B | M39: T | N39: I | O39: 0 | P39: A | Q39: 0 | R39: M | S39: 0 | T39: LS | U39: B | V39: 0 | W39: B | X39: T | Y39: 0
A40: 96 | B40: 3.2 | C40: Dingklik - Lautan Pasir | D40: 1 | E40: Beton Plat | F40: 0-0.373 | G40: JN | H40: 0.8 | I40: 5.7 | J40: 7.7 | K40: 1 | L40: B | M40: T | N40: I | O40: 0 | P40: A | Q40: 0 | R40: M | S40: 0 | T40: LS | U40: B | V40: 0 | W40: B | X40: T | Y40: 0
D41: 2 | E41: Beton Plat | F41: 0.715 | G41: JN | H41: 0.8 | I41: 5.7 | J41: 7.7 | K41: 1 | L41: B | M41: T | N41: I | O41: 0 | P41: A | Q41: 0 | R41: M | S41: 0 | T41: LS | U41: B | V41: 0 | W41: B | X41: T | Y41: 0
...

Sheet Lumbang
A1: IKHTISAR INVENTARISASI JEMBATAN
A2: PROPINSI | C2: : JAWA TIMUR (35) | X2: Hal | Y2: : 1
A3: KABUPATEN | C3: : PASURUAN (14) | X3: Dari | Y3: : 4
A4: KECAMATAN | C4: : LUMBANG
A6: No. Ruas | B6: Panjang | C6: Nama Pangkal-Ujung Ruas (K1) | D6: No.Urut | E6: Nama Jembatan/Sungai (>=2,0 m) | F6: PAL km | G6: Tipe Penye-berangan | H6: Ukuran | L6: Tipe/ Kondisi (Gunakan Kode Standar di K10L)
B7: (km) | H7: Panjang (m) | I7: Lebar (m) | K7: Jumlah Bentang | L7: Bangunan Atas | P7: Lantai | R7: Sandaran | T7: Pondasi | W7: Kepala Jemb. & Pilar
I8: Jalur | J8: Total | L8: Tipe | M8: Bahan | N8: Asal | O8: Kond | P8: Bahan | Q8: Knd | R8: Bahan | S8: Kond | T8: Tipe | U8: Bahan | V8: Kond | W8: Tipe | X8: Bahan | Y8: Kond
D9: 1 | E9: 2 | F9: 3 | G9: 4 | H9: 5 | I9: 6.1 | J9: 6.2 | K9: 7 | L9: 8 | M9: 9 | N9: 10 | O9: 11 | P9: 12 | Q9: 13 | R9: 14 | S9: 15 | T9: 16 | U9: 17 | V9: 18 | W9: 19 | X9: 20 | Y9: 21
A10: 46 | B10: 6.3 | C10: Banyubiru - Lumbang | D10: 1 | E10: Banyubiru | F10: 0.2 | G10: JN | H10: 120 | I10: 7 | J10: =I10+2 -> 9 | K10: 1 | L10: P | M10: T | N10: I | O10: B | P10: G | R10: M | S10: B | T10: LS | W10: B
D11: 2 | E11: Kandar 1 | F11: 0.3 | G11: JN | H11: 120 | I11: 7.5 | J11: =I11+2 -> 9.5 | K11: 1 | L11: P | M11: T | N11: I | O11: B | P11: G | R11: M | S11: B | T11: LS | W11: B
D12: 3 | E12: Kandar 2 | F12: 0.4 | G12: JN | H12: 120 | I12: 7 | J12: =I12+2 -> 9 | K12: 1 | L12: P | M12: T | N12: I | O12: B | P12: G | R12: M | S12: B | T12: LS | W12: B
D13: 4 | E13: Bunot | F13: 1.1 | G13: JN | H13: 100 | I13: 9 | J13: =I13+2 -> 11 | K13: 1 | L13: E | M13: S | N13: I | O13: B | P13: G | R13: M | S13: B | T13: LS | W13: B
D14: 5 | E14: Jatim | F14: 2.2 | G14: JN | H14: 140 | I14: 5.5 | J14: =I14+2 -> 7.5 | K14: 1 | L14: P | M14: T | N14: I | O14: R | P14: G | R14: M | S14: B | T14: LS | W14: B
D15: 6 | E15: Watugede | F15: 2.5 | G15: JN | H15: 180 | I15: 7 | J15: =I15+2 -> 9 | K15: 1 | L15: P | M15: T | N15: I | O15: B | P15: G | R15: M | S15: B | T15: LS | W15: B
D16: 7 | E16: Bunakun | F16: 4.2 | G16: JN | H16: 150 | I16: 5.5 | J16: =I16+2 -> 7.5 | K16: 1 | L16: P | M16: T | N16: I | O16: B | P16: G | R16: M | S16: B | T16: LS | W16: B
D17: 8 | E17: Kantor Camat | F17: 4.9 | G17: JN | H17: 150 | I17: 6 | J17: =I17+2 -> 8 | K17: 1 | L17: P | M17: T | N17: I | O17: B | P17: G | R17: M | S17: B | T17: LS | W17: B
D18: 9 | E18: Seleb Batu | F18: 5 | G18: JN | H18: 140 | I18: 6 | J18: =I18+2 -> 8 | K18: 1 | L18: P | M18: T | N18: I | O18: B | P18: G | R18: M | S18: B | T18: LS | W18: B
D19: 10 | E19: Darmo | F19: 5.4 | G19: JN | H19: 140 | I19: 7 | J19: =I19+2 -> 9 | K19: 1 | L19: P | M19: T | N19: I | O19: B | P19: G | R19: M | S19: B | T19: LS | W19: B
D20: 11 | E20: Cikaran | F20: 5.5 | G20: JN | H20: 140 | I20: 5.5 | J20: =I20+2 -> 7.5 | K20: 1 | L20: P | M20: T | N20: I | O20: B | P20: G | R20: M | S20: B | T20: LS | W20: B
D21: 12 | E21: Watugede | F21: 5.5 | G21: JN | H21: 560 | I21: 5.8 | J21: =I21+2 -> 7.8 | K21: 1 | L21: P | M21: T | N21: I | O21: B | P21: G | R21: Y | S21: B | T21: LS | W21: B
D22: 13 | E22: Klosot | F22: 5.7 | G22: JN | H22: 540 | I22: 5.8 | J22: =I22+2 -> 7.8 | K22: 1 | L22: P | M22: T | N22: I | O22: B | P22: G | R22: Y | S22: R | T22: LS | W22: B
D23: 14 | E23: Waris | F23: 5.9 | G23: JN | H23: 140 | I23: 7 | J23: =I23+2 -> 9 | K23: 1 | L23: P | M23: T | N23: I | O23: B | P23: G | R23: M | S23: B | T23: LS | W23: B
A24: 48 | B24: 2.8 | C24: Panditan - Banjarimbo | D24: 1 | E24: Panditan | F24: 0.2 | G24: JN | H24: 1.2 | I24: 4.2 | J24: 5.2 | K24: 1 | L24: P | M24: T | N24: I | O24: B | P24: G | R24: M | S24: B | T24: LS | W24: B
D25: 2 | E25: Jagul 1 | F25: 0.7 | G25: JN | H25: 16 | I25: 4.5 | J25: 5.5 | K25: 2 | L25: P | M25: T | N25: I | O25: B | P25: G | R25: Y | S25: B | T25: LS | W25: B
D26: 3 | E26: Jagul 2 | F26: 1 | G26: JN | H26: 1.4 | I26: 6 | J26: =I26+2 -> 8 | K26: 1 | L26: P | M26: T | N26: I | O26: B | P26: G | R26: M | S26: B | T26: LS | W26: B
D27: 4 | E27: Jagul 3 | F27: 1.1 | G27: JN | H27: 1.4 | I27: 6 | J27: =I27+2 -> 8 | K27: 1 | L27: P | M27: T | N27: I | O27: B | P27: G | R27: M | S27: B | T27: LS | W27: B
D28: 5 | E28: Jagul 4 | F28: 1.6 | G28: JN | H28: 1.4 | I28: 5 | J28: =I28+2 -> 7 | K28: 1 | L28: P | M28: T | N28: I | O28: B | P28: G | R28: M | S28: B | T28: LS | W28: B
D29: 6 | E29: Kemamang 1 | F29: 1.6 | G29: JN | H29: 1.4 | I29: 5 | J29: =I29+2 -> 7 | K29: 1 | L29: P | M29: T | N29: I | O29: B | P29: G | R29: M | S29: B | T29: LS | W29: B
D30: 7 | E30: Huda | F30: 1.9 | G30: JN | H30: 1.8 | I30: 6 | J30: =I30+2 -> 8 | K30: 1 | L30: S | M30: T | N30: I | O30: R | P30: G | R30: M | S30: R | T30: LS | W30: B
D31: 8 | E31: Kemamang 2 | F31: 2.3 | G31: JN | H31: 3 | I31: 3.2 | J31: 4.2 | K31: 1 | L31: P | M31: T | N31: I | O31: R | P31: G | R31: M | S31: R | T31: LS | W31: B
D32: 9 | E32: Kemamang 3 | F32: 2.4 | G32: JN | H32: 1.2 | I32: 6 | J32: =I32+2 -> 8 | K32: 1 | L32: P | M32: T | N32: I | O32: B | P32: G | R32: M | S32: B | T32: LS | W32: B
D33: 10 | E33: Kemamang 4 | F33: 2.5 | G33: JN | H33: 1.4 | I33: 6 | J33: =I33+2 -> 8 | K33: 1 | L33: P | M33: T | N33: I | O33: B | P33: G | R33: M | S33: B | T33: LS | W33: B
A34: 61 | B34: 6.4 | C34: Lumbang - Panditan | D34: 1 | E34: Kuburan 1 | F34: 0.2 | G34: JN | H34: 1.2 | I34: 6 | J34: =I34+2 -> 8 | K34: 1 | L34: P | M34: T | N34: I | O34: B | P34: G | R34: M | S34: B | T34: LS | W34: B
D35: 2 | E35: Kuburan 2 | F35: 0.3 | G35: JN | H35: 1.4 | I35: 6 | J35: =I35+2 -> 8 | K35: 1 | L35: P | M35: T | N35: I | O35: B | P35: G | R35: M | S35: B | T35: LS | W35: B
D36: 3 | E36: Kuburan 3 | F36: 0.4 | G36: JN | H36: 1.4 | I36: 6 | J36: =I36+2 -> 8 | K36: 1 | L36: P | M36: T | N36: I | O36: B | P36: G | R36: M | S36: B | T36: LS | W36: B
D37: 4 | E37: Sidah | F37: 0.7 | G37: JN | H37: 1.4 | I37: 7.5 | J37: =I37+2 -> 9.5 | K37: 1 | L37: P | M37: T | N37: I | O37: B | P37: G | R37: M | S37: B | T37: LS | W37: B
D38: 5 | E38: Kasumo | F38: 0.8 | G38: JN | H38: 1.4 | I38: 6 | J38: =I38+2 -> 8 | K38: 1 | L38: P | M38: T | N38: I | O38: B | P38: G | R38: M | S38: B | T38: LS | W38: B
D39: 6 | E39: Tiari 1 | F39: 1 | G39: JN | H39: 3.9 | I39: 6.5 | J39: =I39+2 -> 8.5 | K39: 1 | L39: P | M39: T | N39: I | O39: B | P39: G | R39: Y | S39: B | T39: LS | W39: B
D40: 7 | E40: Tiari 2 | F40: 1.1 | G40: JN | H40: 1.4 | I40: 6 | J40: =I40+2 -> 8 | K40: 1 | L40: P | M40: T | N40: I | O40: B | P40: G | R40: M | S40: B | T40: LS | W40: B
D41: 8 | E41: Liprak | F41: 1.3 | G41: JN | H41: 9.8 | I41: 6 | J41: =I41+2 -> 8 | K41: 1 | L41: P | M41: T | N41: I | O41: B | P41: G | R41: Y | S41: B | T41: LS | W41: B
...

Sheet Pasrepan
A1: IKHTISAR INVENTARISASI JEMBATAN
A2: PROPINSI | C2: : JAWA TIMUR (35) | X2: Hal | Y2: : 1
A3: KABUPATEN | C3: : PASURUAN (14) | X3: Dari | Y3: : 1
A4: KECAMATAN | C4: : PASREPAN
A6: No. Ruas | B6: Panjang | C6: Nama Pangkal-Ujung Ruas (K1) | D6: No.Urut | E6: Nama Jembatan/Sungai (>=2,0 m) | F6: PAL km | G6: Tipe Penye-berangan | H6: Ukuran | L6: Tipe/ Kondisi (Gunakan Kode Standar di K10L)
B7: (km) | H7: Panjang (m) | I7: Lebar | K7: Jumlah Bentang | L7: Bangunan Atas | P7: Lantai | R7: Sandaran | T7: Pondasi | W7: Kepala Jemb. & Pilar
I8: Jalur | J8: Total | L8: Tipe | M8: Bahan | N8: Asal | O8: Kond | P8: Bahan | Q8: Knd | R8: Bahan | S8: Kond | T8: Tipe | U8: Bahan | V8: Kond | W8: Tipe | X8: Bahan | Y8: Kond
D9: 1 | E9: 2 | F9: 3 | G9: 4 | H9: 5 | I9: 6.1 | J9: 6.2 | K9: 7 | L9: 8 | M9: 9 | N9: 10 | O9: 11 | P9: 12 | Q9: 13 | R9: 14 | S9: 15 | T9: 16 | U9: 17 | V9: 18 | W9: 19 | X9: 20 | Y9: 21
A10: 101 | B10: 3.5 | C10: Kemiri - Ampelsari | D10: 1 | E10: SMP | F10: 0.1 | G10: JN | H10: 1 | I10: 5 | J10: 7 | K10: 1 | L10: D | M10: T | N10: I | O10: 0 | P10: T | Q10: 0 | R10: M | S10: 0 | T10: LS | U10: M | V10: 0 | W10: A | X10: T | Y10: 0
D11: 2 | E11: Kali Besar | F11: 0.2 | G11: JN | H11: 1 | I11: 5 | J11: 8 | K11: 1 | L11: D | M11: T | N11: I | O11: 0 | P11: T | Q11: 0 | R11: M | S11: 0 | T11: LS | U11: M | V11: 0 | W11: A | X11: T | Y11: 0
D12: 3 | E12: Kali Mati | F12: 0.3 | G12: JN | H12: 1 | I12: 5 | J12: 6 | K12: 1 | L12: D | M12: T | N12: I | O12: 0 | P12: T | Q12: 0 | R12: M | S12: 0 | T12: LS | U12: M | V12: 0 | W12: A | X12: T | Y12: 0
D13: 4 | E13: SD | F13: 0.4 | G13: JN | H13: 1 | I13: 5 | J13: 7 | K13: 1 | L13: D | M13: T | N13: I | O13: 0 | P13: T | Q13: 0 | R13: M | S13: 0 | T13: LS | U13: M | V13: 0 | W13: A | X13: T | Y13: 0
D14: 5 | E14: Mushala | F14: 0.5 | G14: JN | H14: 1 | I14: 5 | J14: 7 | K14: 1 | L14: D | M14: T | N14: I | O14: 0 | P14: T | Q14: 0 | R14: M | S14: 0 | T14: LS | U14: M | V14: 0 | W14: A | X14: T | Y14: 0
D15: 6 | E15: Pondok | F15: 0.5 | G15: JN | H15: 1 | I15: 5 | J15: 7 | K15: 1 | L15: D | M15: T | N15: I | O15: 0 | P15: T | Q15: 0 | R15: M | S15: 0 | T15: LS | U15: M | V15: 0 | W15: A | X15: T | Y15: 0
A16: 6095 | B16: 1.5 | C16: Ngepoh - Pasrepan | D16: 1 | E16: SD | F16: 0.1 | G16: JN | H16: 1 | I16: 5 | J16: 7 | K16: 1 | L16: D | M16: T | N16: I | O16: 0 | P16: T | Q16: 0 | R16: Y | S16: 0 | T16: LS | U16: M | V16: 0 | W16: A | X16: T | Y16: 0
D17: 2 | E17: Mushala | F17: 0.2 | G17: JN | H17: 1 | I17: 5 | J17: 7 | K17: 1 | L17: D | M17: T | N17: I | O17: 0 | P17: T | Q17: 0 | R17: M | S17: 0 | T17: LS | U17: M | V17: 0 | W17: A | X17: T | Y17: 0
D18: 3 | E18: Kios Bensin | F18: 0.3 | G18: JN | H18: 1 | I18: 5 | J18: 6 | K18: 1 | L18: D | M18: T | N18: I | O18: 0 | P18: T | Q18: 0 | R18: M | S18: 0 | T18: LS | U18: M | V18: 0 | W18: A | X18: T | Y18: 0
D19: 4 | E19: Pasar Buah | F19: 0.4 | G19: JN | H19: 1 | I19: 5 | J19: 5 | K19: 1 | L19: D | M19: T | N19: I | O19: 0 | P19: T | Q19: 0 | R19: M | S19: 0 | T19: LS | U19: M | V19: 0 | W19: A | X19: T | Y19: 0
A20: 90603 | B20: 3.5 | C20: Sapulante - Tempuran | D20: 1 | E20: Pertigaan | F20: 0.1 | G20: JN | H20: 1 | I20: 5 | J20: 6 | K20: 1 | L20: D | M20: T | N20: I | O20: 0 | P20: T | Q20: 0 | R20: M | S20: 0 | T20: LS | U20: M | V20: 0 | W20: A | X20: T | Y20: 0
D21: 2 | E21: Kali Mati | F21: 0.2 | G21: JN | H21: 1 | I21: 5 | J21: 6 | K21: 1 | L21: D | M21: T | N21: I | O21: 0 | P21: T | Q21: 0 | R21: M | S21: 0 | T21: LS | U21: M | V21: 0 | W21: A | X21: T | Y21: 0
D22: 3 | E22: Prodo | F22: 0.3 | G22: JN | H22: 1 | I22: 5 | J22: 7 | K22: 1 | L22: D | M22: T | N22: I | O22: 0 | P22: T | Q22: 0 | R22: M | S22: 0 | T22: LS | U22: M | V22: 0 | W22: A | X22: T | Y22: 0
D23: 4 | E23: Masjid | F23: 0.4 | G23: JN | H23: 1 | I23: 5 | J23: 6 | K23: 1 | L23: D | M23: T | N23: I | O23: 0 | P23: T | Q23: 0 | R23: M | S23: 0 | T23: LS | U23: M | V23: 0 | W23: A | X23: T | Y23: 0
D24: 5 | E24: Madrasah | F24: 0.5 | G24: JN | H24: 1 | I24: 5 | J24: 7 | K24: 1 | L24: D | M24: T | N24: I | O24: 0 | P24: T | Q24: 0 | R24: M | S24: 0 | T24: LS | U24: M | V24: 0 | W24: A | X24: T | Y24: 0
A25: 35 | B25: 7 | C25: Poh Gading - Bayeman | D25: 1 | E25: Kali Mati | F25: 0.1 | G25: JN | H25: 1 | I25: 5 | J25: 7 | K25: 1 | L25: D | M25: 1 | N25: I | O25: 0 | P25: T | Q25: 0 | R25: M | S25: 0 | T25: LS | U25: M | V25: 0 | W25: A | X25: T | Y25: 0
D26: 2 | E26: Selep | F26: 0.2 | G26: JN | H26: 1 | I26: 5 | J26: 6 | K26: 1 | L26: D | M26: 1 | N26: I | O26: 0 | P26: T | Q26: 0 | R26: M | S26: 0 | T26: LS | U26: M | V26: 0 | W26: A | X26: T | Y26: 0
D27: 3 | E27: Pasar | F27: 0.3 | G27: JN | H27: 1 | I27: 5 | J27: 7 | K27: 1 | L27: D | M27: 1 | N27: I | O27: 0 | P27: T | Q27: 0 | R27: Y | S27: 0 | T27: LS | U27: M | V27: 0 | W27: A | X27: T | Y27: 0
D28: 4 | E28: Bayeman | F28: 0.4 | G28: JN | H28: 1 | I28: 5 | J28: 8 | K28: 1 | L28: D | M28: 1 | N28: I | O28: 0 | P28: T | Q28: 0 | R28: Y | S28: 0 | T28: LS | U28: M | V28: 0 | W28: A | X28: T | Y28: 0
A29: 169 | B29: 9 | C29: Kedung pengaron - Sapulate | D29: 1 | E29: Kali Mati | F29: 0.1 | G29: JN | H29: 1 | I29: 5 | J29: 7 | K29: 1 | L29: D | M29: T | N29: I | O29: 0 | P29: T | Q29: 0 | R29: M | S29: 0 | T29: LS | U29: M | V29: 0 | W29: A | X29: T | Y29: 0
D30: 2 | E30: Impres | F30: 0.2 | G30: JN | H30: 1 | I30: 5 | J30: 7 | K30: 1 | L30: D | M30: T | N30: I | O30: 0 | P30: T | Q30: 0 | R30: M | S30: 0 | T30: LS | U30: M | V30: 0 | W30: A | X30: T | Y30: 0
D31: 3 | E31: Madrasah | F31: 0.3 | G31: JN | H31: 1 | I31: 5 | J31: 6 | K31: 1 | L31: D | M31: T | N31: I | O31: 0 | P31: T | Q31: 0 | R31: y | S31: 0 | T31: LS | U31: M | V31: 0 | W31: A | X31: T | Y31: 0
D32: 4 | E32: Mushala | F32: 0.4 | G32: JN | H32: 1 | I32: 5 | J32: 7 | K32: 1 | L32: D | M32: T | N32: I | O32: 0 | P32: T | Q32: 0 | R32: y | S32: 0 | T32: LS | U32: M | V32: 0 | W32: A | X32: T | Y32: 0
D33: 5 | E33: Kali Mati | F33: 0.5 | G33: JN | H33: 1 | I33: 5 | J33: 7 | K33: 1 | L33: D | M33: T | N33: I | O33: 0 | P33: T | Q33: 0 | R33: y | S33: 0 | T33: LS | U33: M | V33: 0 | W33: A | X33: T | Y33: 0
D34: 6 | E34: Selep | F34: 0.6 | G34: JN | H34: 1 | I34: 5 | J34: 7 | K34: 1 | L34: D | M34: T | N34: I | O34: 0 | P34: T | Q34: 0 | R34: M | S34: 0 | T34: LS | U34: M | V34: 0 | W34: A | X34: T | Y34: 0
D35: 7 | E35: Ampel sari | F35: 0.7 | G35: JN | H35: 1 | I35: 5 | J35: 6 | K35: 1 | L35: D | M35: T | N35: I | O35: 0 | P35: T | Q35: 0 | R35: M | S35: 0 | T35: LS | U35: M | V35: 0 | W35: A | X35: T | Y35: 0
D36: 8 | E36: Ampel sari | F36: 0.8 | G36: JN | H36: 1 | I36: 5 | J36: 7 | K36: 1 | L36: D | M36: T | N36: I | O36: 0 | P36: T | Q36: 0 | R36: M | S36: 0 | T36: LS | U36: M | V36: 0 | W36: A | X36: T | Y36: 0
A37: 66 | B37: 10.5 | C37: Kudu - Pasrepan | D37: 1 | E37: Gorong-gorong Poh Gedang /12 | F37: 0.2 | G37: JN | H37: 1 | I37: 5 | J37: 5 | K37: 1 | L37: D | M37: T | N37: I | O37: 0 | P37: T | Q37: 0 | R37: M | S37: 0 | T37: LS | U37: M | V37: 0 | W37: A | X37: T | Y37: 0
D38: 2 | E38: Jembatan Poh Gedang/13 | F38: 1.3 | G38: JN | H38: 4 | I38: 5 | J38: 4 | K38: 1 | L38: D | M38: T | N38: I | O38: 0 | P38: T | Q38: 0 | R38: M | S38: 0 | T38: LS | U38: M | V38: 0 | W38: A | X38: T | Y38: 0
D39: 3 | E39: Gorong-gorong Poh Gedang /14 | F39: 2.1 | G39: JN | H39: 2 | I39: 5 | J39: 5 | K39: 1 | L39: D | M39: T | N39: I | O39: 0 | P39: T | Q39: 0 | R39: M | S39: 0 | T39: LS | U39: M | V39: 0 | W39: A | X39: T | Y39: 0
A40: 66 | B40: 10.5 | C40: Kudu - Pasrepan | D40: 1 | E40: Jembatan Sumber Pitu | F40: 0.1 | G40: JN | H40: 1 | I40: 4.6 | J40: 8 | K40: 1 | L40: 0 | M40: M | N40: 2 | O40: R | P40: T | Q40: 0 | R40: M | S40: 0 | T40: LS | U40: M | V40: 0 | W40: A | X40: T | Y40: 0
D41: 2 | E41: Tempuran/1/Gorong-gorong | F41: 0.1 | G41: JN | H41: 1 | I41: 5 | J41: 5 | K41: 1 | L41: 0 | M41: M | N41: 2 | O41: 0 | P41: T | Q41: 0 | R41: M | S41: 0 | T41: LS | U41: M | V41: 0 | W41: A | X41: T | Y41: 0
...

Sheet Kejayan
A1: IKHTISAR INVENTARISASI JEMBATAN
A2: PROPINSI | C2: : JAWA TIMUR (35) | X2: Hal | Y2: : 1
A3: KABUPATEN | C3: : PASURUAN (14) | X3: Dari | Y3: : 1
A4: KECAMATAN | C4: : KEJAYAN
A6: No. Ruas | B6: Panjang | C6: Nama Pangkal-Ujung Ruas (K1) | D6: No.Urut | E6: Nama Jembatan/Sungai (>=2,0 m) | F6: PAL km | G6: Tipe Penye-berangan | H6: Ukuran | L6: Tipe/ Kondisi (Gunakan Kode Standar di K10L)
B7: (km) | H7: Panjang (m) | I7: Lebar | K7: Jumlah Bentang | L7: Bangunan Atas | P7: Lantai | R7: Sandaran | T7: Pondasi | W7: Kepala Jemb. & Pilar
I8: Jalur | J8: Total | L8: Tipe | M8: Bahan | N8: Asal | O8: Kond | P8: Bahan | Q8: Knd | R8: Bahan | S8: Kond | T8: Tipe | U8: Bahan | V8: Kond | W8: Tipe | X8: Bahan | Y8: Kond
D9: 1 | E9: 2 | F9: 3 | G9: 4 | H9: 5 | I9: 6.1 | J9: 6.2 | K9: 7 | L9: 8 | M9: 9 | N9: 10 | O9: 11 | P9: 12 | Q9: 13 | R9: 14 | S9: 15 | T9: 16 | U9: 17 | V9: 18 | W9: 19 | X9: 20 | Y9: 21
A10: 25 | B10: 4 | C10: Pacarkeling-Wrati | D10: 1 | E10: Pacarkeling | F10: 0.7403 | G10: JN | H10: 11 | I10: 2 | J10: 3
A11: 29 | B11: 3 | C11: Linggo-Randuagung | D11: 1 | E11: Linggo | F11: 0.7453 | G11: JN | H11: 4.5 | I11: 2 | J11: 3
A12: 31 | B12: 7.33 | C12: Kejayan-Kedungpengaron | D12: 1 | E12: Kejayan | F12: 0.7848 | G12: JN | H12: 6 | I12: 2 | J12: 6
A13: 87 | B13: 7.41 | C13: Wrati-Semut | D13: 1 | E13: Wrati | F13: 0.829 | G13: JN | H13: 6 | I13: 2 | J13: 3
A14: 103 | B14: 7.3 | C14: Kejayan-Paras | D14: 1 | E14: Kejayan | F14: 0.709 | G14: JN | H14: 5 | I14: 2 | J14: 3
A15: 189 | B15: 3.2 | C15: Linggo-Kedemungan | D15: 1 | E15: Linggo | F15: 0.7495 | G15: JN | H15: 7.5 | I15: 2 | J15: 5
A16: 241 | B16: 7 | C16: Kepuh-Klangrong | D16: 1 | E16: Kepuh | F16: 0.361 | G16: JN | H16: 3.5 | I16: 2 | J16: 3
A17: 257 | B17: 2.5 | C17: Kedungpengaron-Benerwojo | D17: 1 | E17: Kedungpengaron | F17: 0.452 | G17: JN | H17: 6 | I17: 2 | J17: 3
A18: 258 | B18: 3.15 | C18: Pacar Keling-Sumbersuko | D18: 1 | E18: Pacar Keling | F18: 0.271 | G18: JN | H18: 3 | I18: 2 | J18: 2.5
A19: 270 | B19: 3.5 | C19: Bajangan-Patebon | D19: 1 | E19: Bajangan | F19: 0.9679 | G19: JN | H19: 4 | I19: 2 | J19: 3
A20: 90702 | B20: 5.5 | C20: Ambal Ambil-Ngembal | D20: 1 | E20: Ambal Ambil | F20: 0.9301 | G20: JN | H20: 3.5 | I20: 2 | J20: 3
A21: 90703 | B21: 5 | C21: Lorokan-Sidowayah | D21: 1 | E21: Lorokan | F21: 0.738 | G21: JN | H21: 3.5 | I21: 2 | J21: 2
... A25: 90713 | B25: 2.5 | C25: Tundosuruh-Tebas | D25: 1 | E25: Tundosuruh | F25: 0.9737 | G25: JN | H25: 6 | I25: 2 | J25: 2

Sheet Wonorejo
A1: IKHTISAR INVENTARISASI JEMBATAN
A2: PROPINSI | C2: : JAWA TIMUR (35) | X2: Hal | Y2: : 1
A3: KABUPATEN | C3: : PASURUAN (14) | X3: Dari | Y3: : 1
A4: KECAMATAN | C4: : WONOREJO
A6: No. Ruas | B6: Panjang | C6: Nama Pangkal-Ujung Ruas (K1) | D6: No.Urut | E6: Nama Jembatan/Sungai (>=2,0 m) | F6: PAL km | G6: Tipe Penye-berangan | H6: Ukuran | L6: Tipe/ Kondisi (Gunakan Kode Standar di K10L)
B7: (km) | H7: Panjang (m) | I7: Lebar | K7: Jumlah Bentang | L7: Bangunan Atas | P7: Lantai | R7: Sandaran | T7: Pondasi | W7: Kepala Jemb. & Pilar
I8: Jalur | J8: Total | L8: Tipe | M8: Bahan | N8: Asal | O8: Kond | P8: Bahan | Q8: Knd | R8: Bahan | S8: Kond | T8: Tipe | U8: Bahan | V8: Kond | W8: Tipe | X8: Bahan | Y8: Kond
D9: 1 | E9: 2 | F9: 3 | G9: 4 | H9: 5 | I9: 6.1 | J9: 6.2 | K9: 7 | L9: 8 | M9: 9 | N9: 10 | O9: 11 | P9: 12 | Q9: 13 | R9: 14 | S9: 15 | T9: 16 | U9: 17 | V9: 18 | W9: 19 | X9: 20 | Y9: 21
A10: 18 | B10: 2.9 | C10: Blembem-Pajaran | D10: 1 | E10: Blembem 1 | F10: 0.3201 | G10: JN | H10: 4.6 | I10: 2 | J10: 2.75 | K10: 1 | L10: 0
A11: 21 | B11: 2.1 | C11: Blembem-Areng-areng | D11: 1 | E11: Blembem 2 | F11: 0.3184 | G11: JN | H11: 3.8 | I11: 2 | J11: 2.6 | K11: 1 | L11: 0
A12: 22 | B12: 3.6 | C12: Wonorejo-Blembem | D12: 1 | E12: Wonorejo | F12: 0.3347 | G12: JN | H12: 2.5 | I12: 2 | J12: 4 | K12: 1 | L12: 0
A13: 216 | B13: 4 | C13: Bakalan-Karangmenggah | D13: 1 | E13: Bakalan | F13: 0.5212 | G13: JN | H13: 3.6 | I13: 2 | J13: 4.5 | K13: 1 | L13: 0
A14: 228 | B14: 3 | C14: Karangmenggah-Tamansari | D14: 1 | E14: Karangmenggah | F14: 0.5227 | G14: JN | H14: 7 | I14: 2 | J14: 4 | K14: 2 | L14: 0
A15: 230 | B15: 1.8 | C15: Cobanblimbing-Tamansari | D15: 1 | E15: Cobanblimbing | F15: 0.3155 | G15: JN | H15: 3 | I15: 2 | J15: 2.75 | K15: 1 | L15: 0
A16: 90805 | B16: 2 | C16: Sambisirah-Karangasem | D16: 1 | E16: Sambisirah | F16: 0.3464 | G16: JN | H16: 2.75 | I16: 2 | J16: 3 | K16: 1 | L16: 0
A17: 90807 | B17: 2.2 | C17: Karangasem-Kandangdukuh | D17: 1 | E17: Karangasem | F17: 0.5384 | G17: JN | H17: 4.5 | I17: 2 | J17: 2.75 | K17: 1 | L17: 0
A18: 90808 | B18: 2.2 | C18: Karangsono-Rebono | D18: 1 | E18: Karangsono | F18: 0.5281 | G18: JN | H18: 9 | I18: 2 | J18: 4 | K18: 1 | L18: 0
A19: 90812 | B19: 1.5 | C19: Tumpuk-Pakijangan | D19: 1 | E19: Tumpuk | F19: 0.3502 | G19: JN | H19: 3.5 | I19: 2 | J19: 3 | K19: 1 | L19: 0

Sheet Beji
A1: IKHTISAR INVENTARISASI JEMBATAN
A2: PROPINSI | C2: : JAWA TIMUR (35)
A3: KABUPATEN | C3: : PASURUAN (14)
A4: KECAMATAN | C4: : BEJI
A7: No. Ruas | B7: Panjang | C7: Nama Pangkal-Ujung Ruas (K1) | D7: No.Urut | E7: Nama Jembatan/Sungai (>=2,0 m) | F7: PAL km | G7: Tipe Penye-berangan | H7: Ukuran | L7: Tipe/ Kondisi (Gunakan Kode Standar di K10L)
B8: (km) | H8: Panjang (m) | I8: Lebar | K8: Jumlah Bentang | L8: Bangunan Atas | P8: Lantai | R8: Sandaran | T8: Pondasi | W8: Kepala Jemb. & Pilar
I9: Jalur | J9: Total | L9: Tipe | M9: Bahan | N9: Asal | O9: Kond | P9: Bahan | Q9: Knd | R9: Bahan | S9: Kond | T9: Tipe | U9: Bahan | V9: Kond | W9: Tipe | X9: Bahan | Y9: Kond
D10: 1 | E10: 2 | F10: 3 | G10: 4 | H10: 5 | I10: 6.1 | J10: 6.2 | K10: 7 | L10: 8 | M10: 9 | N10: 10 | O10: 11 | P10: 12 | Q10: 13 | R10: 14 | S10: 15 | T10: 16 | U10: 17 | V10: 18 | W10: 19 | X10: 20 | Y10: 21
A11: 5 | B11: 2.3 | C11: Gunung Gangsir-Cangkring malang | D11: 1 | E11: Gunung Gangsir 1 | F11: 1.1 | G11: JN | H11: 5.5 | I11: 4.7 | J11: 5.7 | K11: 1
A12: 6 | B12: 6 | C12: Gondang legi-Randupitu | D12: 1 | E12: Gondang legi 1 | F12: 2.2 | G12: JN | H12: 6 | I12: 6.8 | J12: 8.8 | K12: 1
A13: 114 | B13: 3.2 | C13: Gondang legi-Kedungringin | D13: 1 | E13: Gondang legi 2 | F13: 0.2 | G13: JN | H13: 2 | I13: 4 | J13: 6 | K13: 1
A14: 150 | B14: 2.7 | C14: Beji-Sidowayah | D14: 1 | E14: Beji | F14: 1.3 | G14: JN | H14: 2 | I14: 5 | J14: 7 | K14: 1
A15: 165 | B15: 3.7 | C15: Cangkring Malang-Wonokoyo | D15: 1 | E15: Cangkring Malang | F15: 0.9 | G15: JN | H15: 5 | I15: 7.2 | J15: 9.2 | K15: 1
A16: 173 | B16: 1.9 | C16: Gajahbendo-Pagak | D16: 1 | E16: Gajahbendo | F16: 0.3 | G16: JN | H16: 4.5 | I16: 5 | J16: 7 | K16: 1
A17: 266 | B17: 3.1 | C17: Baujeng-Tanggul | D17: 1 | E17: Baujeng | F17: 0.3 | G17: JN | H17: 3.5 | I17: 3.5 | J17: 4.5 | K17: 1
A18: 6043 | B18: 1 | C18: Wonokoyo-Babat | D18: 1 | E18: Watu Kisi | F18: 1.5 | G18: JN | H18: 12 | I18: 3.5 | J18: 4.5 | K18: 1
A19: 6046 | B19: 0.9 | C19: Winong-Kesemi | D19: 1 | E19: Winong | F19: 1 | G19: JN | H19: 9 | I19: 3.5 | J19: 4.5 | K19: 1
A20: 91403 | B20: 2 | C20: Rodowo-Banyulegi | D20: 1 | E20: Rodowo | F20: 0.3 | G20: JN | H20: 5 | I20: 3.5 | J20: 4.5 | K20: 1
A21: 91404 | B21: 1 | C21: Beji-Pilangsari | D21: 1 | E21: Beji | F21: 0.1 | G21: JN | H21: 3.5 | I21: 4 | J21: 5 | K21: 1
A22: 91407 | B22: 2.9 | C22: Kenep-Gunungsari | D22: 1 | E22: Kenep | F22: 1.3 | G22: JN | H22: 3.5 | I22: 3 | J22: 4 | K22: 1
... A26: 91416 | B26: 2.3 | C26: Beji-Kedungringin | D26: 1 | E26: Beji | F26: 1.7 | G26: JN | H26: 16.5 | I26: 3 | J26: 4 | K26: 4

Sheet Bangil
A1: IKHTISAR INVENTARISASI JEMBATAN
A2: PROPINSI | C2: : JAWA TIMUR (35) | X2: Hal | Y2: : 1
A3: KABUPATEN | C3: : PASURUAN (14) | X3: Dari | Y3: : 2
A4: KECAMATAN | C4: : BANGIL
A6: No. Ruas | B6: Panjang | C6: Nama Pangkal-Ujung Ruas (K1) | D6: No.Urut | E6: Nama Jembatan/Sungai (>=2,0 m) | F6: PAL km | G6: Tipe Penyeberangan | H6: Ukuran | L6: Tipe/ Kondisi (Gunakan Kode Standar di K10L)
B7: (km) | H7: Panjang (m) | I7: Lebar (m) | K7: Jumlah Bentang | L7: Bangunan Atas | P7: Lantai | R7: Sandaran | T7: Pondasi | W7: Kepala Jemb. & Pilar
I8: Jalur | J8: Total | L8: Tipe | M8: Bahan | N8: Asal | O8: Kond | P8: Bahan | Q8: Knd | R8: Bahan | S8: Kond | T8: Tipe | U8: Bahan | V8: Kond | W8: Tipe | X8: Bahan | Y8: Kond
D9: 1 | E9: 2 | F9: 3 | G9: 4 | H9: 5 | I9: 6.1 | J9: 6.2 | K9: 7 | L9: 8 | M9: 9 | N9: 10 | O9: 11 | P9: 12 | Q9: 13 | R9: 14 | S9: 15 | T9: 16 | U9: 17 | V9: 18 | W9: 19 | X9: 20 | Y9: 21
A10: 91501 | B10: 2.1 | C10: Kel. Latek - Maharsari | D10: 1 | E10: Beton Plat/Sungai Kekedeman | F10: 0.3 | G10: S | H10: 0 | I10: 4 | J10: =I10+1 -> 5 | L10: Y | M10: M | O10: I | P10: T | Q10: O | R10: M | S10: O
D11: 2 | E11: Sungai Mesangan | F11: 1.015 | G11: S | H11: 4 | I11: 4.5 | J11: =I11+1 -> 5.5 | L11: B | M11: T | O11: O | P11: T | Q11: O | R11: T | S11: O
D12: 3 | E12: Sungai Mawarwi | F12: 1.145 | G12: S | H12: 1.5 | I12: 4 | J12: =I12+1 -> 5 | L12: B | M12: T | O12: O | P12: T | Q12: O | R12: B
D13: 4 | E13: Sungai Mawarwi | F13: 1.7 | G13: S | H13: 1.5 | I13: 4 | J13: =I13+1 -> 5 | L13: B | M13: T | O13: O | P13: T | Q13: O | R13: B
D14: 5 | E14: Sungai Mawarwi | F14: 0.05 | G14: S | H14: 1.5 | I14: 4 | J14: =I14+1 -> 5 | L14: B | M14: T | O14: O | P14: T | Q14: O | R14: B
A15: 91811 | B15: 0.8 | C15: Kalirejo - Manarwi | D15: 1 | E15: S | F15: 0.4 | H15: 0 | I15: 4 | J15: =I15+1 -> 5
A16: 91501 | B16: 2.1 | C16: Kel. Latek - Manarwi | D16: 1 | E16: S. Keradenan | F16: 1.05 | H16: 4 | I16: 2.5 | J16: =I16+1 -> 3.5
D17: 2 | E17: S. Keradenan | F17: 1.08 | H17: 4 | I17: 2.5 | J17: =I17+1 -> 3.5
D18: 3 | E18: S. Keradenan | F18: 1.43 | H18: 4 | I18: 2.5 | J18: =I18+1 -> 3.5
D19: 4 | F19: 1.549 | H19: 4 | I19: 2.5 | J19: =I19+1 -> 3.5
D20: 5 | E20: S. Manarwi | F20: 0.162 | H20: 4 | I20: 2.5 | J20: =I20+1 -> 3.5
A21: 91502 | B21: 1.95 | C21: Masangan - Keradenan | D21: 1 | E21: S. Bodong | F21: 0.75 | G21: S | H21: 1 | I21: 4 | J21: =I21+1 -> 5 | L21: B | M21: T | N21: I | O21: O
D22: 2 | E22: S. Bodong | F22: 0.4 | G22: S | H22: 1 | I22: 4 | J22: =I22+1 -> 5 | L22: B | M22: T | N22: I | O22: O
D23: 3 | E23: S. Bodong | F23: 0.6 | G23: S | H23: 1 | I23: 4 | J23: =I23+1 -> 5 | L23: B | M23: T | N23: I | O23: O
D24: 4 | E24: S. Bodong | F24: 1.43 | G24: S | H24: 10 | I24: 4 | J24: =I24+1 -> 5 | L24: S | M24: K | N24: I | O24: K | P24: TM | Q24: B
A25: 91505 | B25: 1.25 | C25: Raci - Balungbendo | D25: 1 | E25: Raci | F25: 0.04 | G25: S | H25: 4 | I25: 6 | J25: =I25+2 -> 8 | L25: B | M25: T | N25: I | O25: O | P25: TM | Q25: O
D26: 2 | E26: Raci | F26: 0.2 | G26: S | H26: 2.5 | I26: 7.5 | J26: =I26+2 -> 9.5 | L26: B | M26: T | N26: I | O26: O | P26: TM | Q26: O
A27: 91504 | B27: 1.5 | C27: Raci - Gerongan/Pandelegan | D27: 1 | E27: Pandelegan | F27: 0.135 | G27: S | H27: 4.5 | I27: 2.5 | J27: =I27+1 -> 3.5 | L27: B | M27: T | N27: I | O27: O | P27: T | Q27: O
A28: 109 | B28: 1.25 | C28: Jl. Sidowayah - Kolorsari | D28: 1 | F28: 0.03 | G28: S | H28: 3 | I28: 7 | J28: =I28+2 -> 9 | L28: B | M28: T | O28: B | P28: T | Q28: B | R28: M | S28: B
D29: 2 | F29: 0.1 | G29: S | H29: 1 | I29: 7 | J29: =I29+2 -> 9 | L29: B | M29: T | O29: B | P29: T | Q29: B | R29: M | S29: B
D30: 3 | F30: 0.18 | G30: S | H30: 1 | I30: 7 | J30: =I30+2 -> 9 | L30: B | M30: T | O30: B | P30: T | Q30: B | R30: M | S30: B
D31: 4 | F31: 2.75 | G31: S | H31: 1 | I31: 7 | J31: =I31+2 -> 9 | L31: B | M31: T | O31: B | P31: T | Q31: B | R31: M | S31: B
D32: 5 | F32: 0.41 | G32: S | H32: 1 | I32: 7 | J32: =I32+2 -> 9 | L32: B | M32: T | O32: B | P32: T | Q32: B | R32: M | S32: B
D33: 6 | F33: 0.53 | G33: S | H33: 1 | I33: 7 | J33: =I33+2 -> 9 | L33: B | M33: T | O33: B | P33: T | Q33: B | R33: M | S33: B
D34: 7 | F34: 0.65 | G34: S | H34: 1 | I34: 7 | J34: =I34+2 -> 9 | L34: B | M34: T | O34: B | P34: T | Q34: B | R34: M | S34: B
D35: 8 | F35: 0.79 | G35: S | H35: 2 | I35: 7 | J35: =I35+2 -> 9 | L35: B | M35: T | O35: B | P35: T | Q35: B | R35: M | S35: B
D36: 9 | F36: 0.88 | G36: S | H36: 1.5 | I36: 7 | J36: =I36+2 -> 9 | L36: B | M36: T | O36: B | P36: T | Q36: B | R36: M | S36: B
D37: 10 | F37: 1.05 | G37: S | H37: 1.5 | I37: 7 | J37: =I37+2 -> 9 | L37: B | M37: T | O37: B | P37: T | Q37: B | R37: M | S37: B
D38: 11 | F38: 1.15 | G38: S | H38: 1.5 | I38: 7 | J38: =I38+2 -> 9 | L38: B | M38: T | O38: B | P38: T | Q38: B | R38: M | S38: B
A39: 91508 | B39: 1.85 | C39: Jl. Kolorsari - Bekacak | D39: 1 | E39: S.Kolorsari | F39: 0 | G39: S | H39: 1 | I39: 5.5 | J39: =I39+2 -> 7.5 | L39: E | M39: T | O39: B | P39: T | Q39: B | R39: M
D40: 2 | E40: S.Bekacak | F40: 7.25 | G40: S | H40: 1 | I40: 4.8 | J40: =I40+1 -> 5.8 | L40: B | M40: T | O40: B | P40: T | Q40: B | R40: M
D41: 3 | E41: DAM Pengairan | F41: 1.15 | G41: S
...

Sheet Rembang
A1: IKHTISAR INVENTARISASI JEMBATAN
A2: PROPINSI | C2: : JAWA TIMUR (35)
A3: KABUPATEN | C3: : PASURUAN (14)
A4: KECAMATAN | C4: : REMBANG
A7: No. Ruas | B7: Panjang | C7: Nama Pangkal-Ujung Ruas (K1) | D7: No.Urut | E7: Nama Jembatan/Sungai (>=2,0 m) | F7: PAL km | G7: Tipe Penye-berangan | H7: Ukuran | L7: Tipe/ Kondisi (Gunakan Kode Standar di K10L)
B8: (km) | H8: Panjang (m) | I8: Lebar | K8: Jumlah Bentang | L8: Bangunan Atas | P8: Lantai | R8: Sandaran | T8: Pondasi | W8: Kepala Jemb. & Pilar
I9: Jalur | J9: Total | L9: Tipe | M9: Bahan | N9: Asal | O9: Kond | P9: Bahan | Q9: Knd | R9: Bahan | S9: Kond | T9: Tipe | U9: Bahan | V9: Kond | W9: Tipe | X9: Bahan | Y9: Kond
D10: 1 | E10: 2 | F10: 3 | G10: 4 | H10: 5 | I10: 6.1 | J10: 6.2 | K10: 7 | L10: 8 | M10: 9 | N10: 10 | O10: 11 | P10: 12 | Q10: 13 | R10: 14 | S10: 15 | T10: 16 | U10: 17 | V10: 18 | W10: 19 | X10: 20 | Y10: 21
A11: 11 | B11: 7 | C11: Wonokerto-Bangil | D11: 1 | E11: Wonokerto | F11: 2.1 | G11: S | H11: 6 | I11: 3.5 | J11: 3.5 | K11: 1 | L11: 0
A12: 12 | B12: 3.9 | C12: Blawi-Rembang | D12: 1 | E12: Blawi | F12: 0.1 | G12: S | H12: 4 | I12: 4 | J12: 5 | K12: 1 | L12: 0
A13: 13 | B13: 4 | C13: Rembang-Kalisat | D13: 1 | E13: Rembang | F13: 3.7 | G13: S | H13: 6.7 | I13: 4.5 | J13: 5 | K13: 1 | L13: 0
A14: 16 | B14: 2 | C14: Kalisat-Pajaran | D14: 1 | E14: Kalisat | F14: 0.3 | G14: S | H14: 3 | I14: 4 | J14: 5 | K14: 1 | L14: 0
A15: 17 | B15: 4.95 | C15: Pajaran-Ngempit | D15: 1 | E15: Pajaran | F15: 3.7 | G15: S | H15: 5 | I15: 2.5 | J15: 3.5 | K15: 1 | L15: 0
A16: 113 | B16: 3.56 | C16: Rembang-Oro-oro ombo | D16: 1 | E16: Rembang 1 | F16: 0.1 | G16: S | H16: 4.8 | I16: 4 | J16: 5 | K16: 1 | L16: 0
A17: 141 | B17: 4.3 | C17: Rembang-Kanigoro | D17: 1 | E17: Rembang 2 | F17: 0.2 | G17: S | H17: 4.8 | I17: 7 | J17: 7.5 | K17: 1 | L17: 0
A18: 214 | B18: 5 | C18: Ketapan-Candibinangun | D18: 1 | E18: J. Cengkilih | F18: 0.8 | G18: S | H18: 6.9 | I18: 2.5 | J18: 2.5 | K18: 1 | L18: 0
A19: 6001 | B19: 1.2 | C19: Pekoren-Pekoren | D19: 1 | E19: J. Subon | F19: 0.15 | G19: S | H19: 3.5 | I19: 3 | J19: 3 | K19: 1 | L19: 0
A20: 91601 | B20: 3 | C20: Rombo Wetan-Rokunci | D20: 1 | E20: J. Sembon | F20: 1.85 | G20: S | H20: 3 | I20: 2 | J20: 2 | K20: 1 | L20: 0
A21: 91602 | D21: 1 | F21: 1.45 | G21: S | H21: 3 | I21: 2.5 | J21: 3 | K21: 1 | L21: 0
A22: 91603 | B22: 3.3 | C22: Karangpanas-Nganglang | D22: 1 | E22: Karangpanas | F22: 0.65 | G22: S | H22: 3.8 | I22: 3 | J22: 4 | K22: 1 | L22: 0
A23: 91604 | B23: 2.5 | C23: Pekoren-Sumberglagah | D23: 1 | E23: J. Bunul Kidul | F23: 0.5 | G23: S | H23: 5 | I23: 4 | J23: 6 | K23: 1 | L23: 0
A24: 91605 | B24: 3 | C24: Watulunyu-Banjarsari | D24: 1 | E24: Watulunyu | F24: 0.6 | G24: S | H24: 7.5 | I24: 3.5 | J24: 3.5 | K24: 1 | L24: 0
A25: 91607 | B25: 2 | C25: Sumberglagah-Sumberglagah | D25: 1 | E25: Sumberglagah | F25: 0.1 | G25: S | H25: 2.4 | I25: 2.5 | J25: 4 | K25: 1 | L25: 0
A26: 91608 | B26: 1.1 | C26: Kanigoro-Siyar | D26: 1 | E26: Kanigoro | F26: 0.3 | G26: S | H26: 0.8 | I26: 3 | J26: 4 | K26: 1 | L26: 0
A27: 91609 | B27: 1.25 | C27: Orobulu-Kanigoro | D27: 1 | E27: Orobulu | F27: 1.6 | G27: S | H27: 2.8 | I27: 3 | J27: 3 | K27: 1 | L27: 0
A28: 91611 | B28: 2 | C28: Kalisat-Candibinangun | D28: 1 | E28: Kalisat | F28: 0.9 | G28: S | H28: 2.5 | I28: 3 | J28: 3.5 | K28: 1 | L28: 0

Sheet Rejoso
A1: IKHTISAR INVENTARISASI JEMBATAN
A2: PROPINSI | C2: : JAWA TIMUR (35)
A3: KABUPATEN | C3: : PASURUAN (14)
A4: KECAMATAN | C4: : REJOSO
A7: No. Ruas | B7: Panjang | C7: Nama Pangkal-Ujung Ruas (K1) | D7: No.Urut | E7: Nama Jembatan/Sungai (>=2,0 m) | F7: PAL km | G7: Tipe Penye-berangan | H7: Ukuran | L7: Tipe/ Kondisi (Gunakan Kode Standar di K10L)
B8: (km) | H8: Panjang (m) | I8: Lebar | K8: Jumlah Bentang | L8: Bangunan Atas | P8: Lantai | R8: Sandaran | T8: Pondasi | W8: Kepala Jemb. & Pilar
I9: Jalur | J9: Total | L9: Tipe | M9: Bahan | N9: Asal | O9: Kond | P9: Bahan | Q9: Knd | R9: Bahan | S9: Kond | T9: Tipe | U9: Bahan | V9: Kond | W9: Tipe | X9: Bahan | Y9: Kond
D10: 1 | E10: 2 | F10: 3 | G10: 4 | H10: 5 | I10: 6.1 | J10: 6.2 | K10: 7 | L10: 8 | M10: 9 | N10: 10 | O10: 11 | P10: 12 | Q10: 13 | R10: 14 | S10: 15 | T10: 16 | U10: 17 | V10: 18 | W10: 19 | X10: 20 | Y10: 21
A11: 40 | B11: 4.8 | C11: Rejoso-Penataan | D11: 1 | E11: Tahunan | F11: 143.4 | G11: S | H11: 11.2 | I11: 2 | J11: 6 | K11: 1 | L11: 0
A12: 137 | B12: 1.9 | C12: Pekangkungan-Bakalan | D12: 1 | E12: Pekangkungan | F12: 199.1 | G12: S | H12: 3 | I12: 2 | J12: 5 | K12: 1 | L12: 0
A13: 166 | B13: 4.5 | C13: Pateguran-Segoropuro | D13: 1 | E13: Pateguran | F13: 414.1 | G13: A | H13: 2 | I13: 2 | J13: 2.4 | K13: 1 | L13: 0
A14: 197 | B14: 2.5 | C14: Kawisrejo-Sadengrejo | D14: 1 | E14: Kawisrejo | F14: 156.8 | G14: S | H14: 2 | I14: 2 | J14: 6 | K14: 1 | L14: 0
A15: 211 | B15: 2.5 | C15: Kemantrenrejo-Segoropuro | D15: 1 | E15: Kemantrenrejo | F15: 418.4 | G15: A | H15: 2 | I15: 2 | J15: 5.5 | K15: 1 | L15: 0
A16: 268 | B16: 4 | C16: Tenggilisrejo-Sadengrejo | D16: 1 | E16: Tenggilisrejo | F16: 152.7 | G16: S | H16: 2 | I16: 2 | J16: 3 | K16: 1 | L16: 0
A17: 269 | B17: 1.5 | C17: Ketegan-Darah | D17: 1 | E17: Ketegan | F17: 2472.9 | G17: A | H17: 11.2 | I17: 2 | J17: 4 | K17: 1 | L17: 0
A18: 271 | B18: 3.3 | C18: Suklan-Kedawung kulon | D18: 1 | E18: Suklan | F18: 442.9 | G18: A | H18: 12.8 | I18: 2 | J18: 3.5 | K18: 1 | L18: 0
A19: 5001 | B19: 4 | C19: Pateguran-Pandean | D19: 1 | E19: Pateguran | F19: 370.8 | G19: A | H19: 4.6 | I19: 2 | J19: 3.6 | K19: 2 | L19: 0
A20: 5002 | B20: 4 | C20: Tambaklekok-Rejoso | D20: 1 | E20: Tambaklekok | F20: 149.1 | G20: A | H20: 2.5 | I20: 2 | J20: 3.4 | K20: 1 | L20: 0
A21: 6014 | B21: 1.4 | C21: Ngemplak-Toyaning | D21: 1 | E21: Ngemplak | F21: 437.5 | G21: A | H21: 2 | I21: 2 | J21: 3.4 | K21: 1 | L21: 0
A22: 6015 | B22: 1.2 | C22: Telbuk-Toyaning | D22: 1 | E22: Telbuk | F22: 439.5 | G22: A | H22: 12.8 | I22: 2 | J22: 3.2 | K22: 1 | L22: 0
... A31: 92008 | B31: 1.5 | C31: Sekarputih-Tanjung | D31: 1 | E31: Sekarputih | F31: 352.9 | G31: A | H31: 2 | I31: 2 | J31: 6 | K31: 1 | L31: 0

Sheet Winongan
A1: IKHTISAR INVENTARISASI JEMBATAN
A2: PROPINSI | C2: : JAWA TIMUR (35)
A3: KABUPATEN | C3: : PASURUAN (14)
A4: KECAMATAN | C4: : WINONGAN
A7: No. Ruas | B7: Panjang | C7: Nama Pangkal-Ujung Ruas (K1) | D7: No.Urut | E7: Nama Jembatan/Sungai (>=2,0 m) | F7: PAL km | G7: Tipe Penye-berangan | H7: Ukuran | L7: Tipe/ Kondisi (Gunakan Kode Standar di K10L)
B8: (km) | H8: Panjang (m) | I8: Lebar | K8: Jumlah Bentang | L8: Bangunan Atas | P8: Lantai | R8: Sandaran | T8: Pondasi | W8: Kepala Jemb. & Pilar
I9: Jalur | J9: Total | L9: Tipe | M9: Bahan | N9: Asal | O9: Kond | P9: Bahan | Q9: Knd | R9: Bahan | S9: Kond | T9: Tipe | U9: Bahan | V9: Kond | W9: Tipe | X9: Bahan | Y9: Kond
D10: 1 | E10: 2 | F10: 3 | G10: 4 | H10: 5 | I10: 6.1 | J10: 6.2 | K10: 7 | L10: 8 | M10: 9 | N10: 10 | O10: 11 | P10: 12 | Q10: 13 | R10: 14 | S10: 15 | T10: 16 | U10: 17 | V10: 18 | W10: 19 | X10: 20 | Y10: 21
A11: 39 | B11: 2.5 | C11: Tenggilis-Penataan | D11: 1 | E11: Tenggilis | F11: 0.45 | G11: S | H11: 6 | I11: 5 | J11: 6 | K11: 1 | L11: 0
A12: 41 | B12: 2.3 | C12: Talang-Penataan | D12: 1 | E12: Talang | F12: 0.1 | G12: S | H12: 7.2 | I12: 5 | J12: 6 | K12: 1 | L12: 0
A13: 43 | B13: 4.5 | C13: Winongan-Umbulan | D13: 1 | E13: Winongan | F13: 2.3 | G13: S | H13: 4 | I13: 3 | J13: 3 | K13: 1 | L13: 0
A14: 168 | B14: 9.51 | C14: Bandaran-Pancur | D14: 1 | E14: Bandaran | F14: 1.4 | G14: S | H14: 10.8 | I14: 5 | J14: 5 | K14: 1 | L14: 0
A15: 195 | B15: 4.15 | C15: Umbulan-Kedungrejo | D15: 1 | E15: Umbulan | F15: 0.3 | G15: S | H15: 9.9 | I15: 2.5 | J15: 3.5 | K15: 2 | L15: 0
A16: 219 | B16: 2.5 | C16: Kedungrejo-Karangtengah | D16: 1 | E16: Kedungrejo | F16: 1.2 | G16: S | H16: 7.2 | I16: 3 | J16: 3 | K16: 1 | L16: 0
A17: 224 | B17: 1.4 | C17: Banyubiru-Sruwi | D17: 1 | E17: Banyubiru | F17: 0.3 | G17: S | H17: 3.6 | I17: 3 | J17: 3 | K17: 1 | L17: 0
A18: 236 | B18: 2 | C18: Lemah abang-Minggir | D18: 1 | E18: Lemah abang | F18: 0.5 | G18: S | H18: 5 | I18: 3 | J18: 3 | K18: 1 | L18: 0
A19: 92101 | B19: 2.1 | C19: Mendalan-Menyarik | D19: 1 | E19: Mendalan | F19: 2.2 | G19: S | H19: 7.5 | I19: 3 | J19: 3.2 | K19: 1 | L19: 0
A20: 92103 | B20: 1.25 | C20: Prodo-Karangpandan | D20: 1 | E20: Prodo | F20: 0.9 | G20: S | H20: 2.9 | I20: 3.6 | J20: 4 | K20: 1 | L20: 0
A21: 92104 | B21: 1.1 | C21: Lebak-Prodo | D21: 1 | E21: Lebak 1 | F21: 0.05 | G21: S | H21: 13.5 | I21: 3 | J21: 3 | K21: 1 | L21: 0
A22: 92105 | B22: 1.69 | C22: Lebak-Sidepan | D22: 1 | E22: Lebak 2 | F22: 1.1 | G22: S | H22: 2.9 | I22: 3 | J22: 3 | K22: 1 | L22: 0
A23: 92106 | B23: 1.1 | C23: Sidepan-Menyarik | D23: 1 | E23: Sidepan | F23: 0.1 | G23: S | H23: 13 | I23: 2 | J23: 3 | K23: 1 | L23: 0

Sheet Grati
A1: IKHTISAR INVENTARISASI JEMBATAN
A2: PROPINSI | C2: : JAWA TIMUR (35)
A3: KABUPATEN | C3: : PASURUAN (14)
A4: KECAMATAN | C4: : GRATI
A7: No. Ruas | B7: Panjang | C7: Nama Pangkal-Ujung Ruas (K1) | D7: No.Urut | E7: Nama Jembatan/Sungai (>=2,0 m) | F7: PAL km | G7: Tipe Penye-berangan | H7: Ukuran | L7: Tipe/ Kondisi (Gunakan Kode Standar di K10L)
B8: (km) | H8: Panjang (m) | I8: Lebar | K8: Jumlah Bentang | L8: Bangunan Atas | P8: Lantai | R8: Sandaran | T8: Pondasi | W8: Kepala Jemb. & Pilar
I9: Jalur | J9: Total | L9: Tipe | M9: Bahan | N9: Asal | O9: Kond | P9: Bahan | Q9: Knd | R9: Bahan | S9: Kond | T9: Tipe | U9: Bahan | V9: Kond | W9: Tipe | X9: Bahan | Y9: Kond
D10: 1 | E10: 2 | F10: 3 | G10: 4 | H10: 5 | I10: 6.1 | J10: 6.2 | K10: 7 | L10: 8 | M10: 9 | N10: 10 | O10: 11 | P10: 12 | Q10: 13 | R10: 14 | S10: 15 | T10: 16 | U10: 17 | V10: 18 | W10: 19 | X10: 20 | Y10: 21
A11: 47 | B11: 2.5 | C11: Trewung-Menangas | D11: 1 | E11: Trewung | F11: 0.1 | G11: S | H11: 4.5 | I11: 3.5 | J11: 4 | K11: 1 | L11: 0
A12: 49 | B12: 3 | C12: Ngopak-Kedawung | D12: 1 | E12: Ngopak | F12: 0.1 | G12: S | H12: 4 | I12: 4 | J12: 4.5 | K12: 1 | L12: 0
A13: 50 | B13: 3 | C13: Grati-Trewung | D13: 1 | E13: Grati | F13: 0.55 | G13: S | H13: 3 | I13: 4 | J13: 4.5 | K13: 1 | L13: 0
A14: 52 | B14: 3.5 | C14: Semambung-Sumurwaru | D14: 1 | E14: Semambung | F14: 0.15 | G14: S | H14: 3 | I14: 4.5 | J14: 4 | K14: 1 | L14: 0
A15: 53 | B15: 2.3 | C15: Cukurgondang-Bandilan | D15: 1 | E15: Cukurgondang | F15: 2.05 | G15: S | H15: 6 | I15: 3.5 | J15: 4 | K15: 2 | L15: 0
A16: 55 | B16: 2.8 | C16: Plososari-Cukurgondang | D16: 1 | E16: Plososari | F16: 0.13 | G16: S | H16: 4 | I16: 3.1 | J16: 3.5 | K16: 1 | L16: 0
A17: 56 | B17: 1.7 | C17: Sumber anyar-Cukurgondang | D17: 1 | E17: Sumber anyar | F17: 0.2 | G17: S | H17: 3 | I17: 2.5 | J17: 3 | K17: 1 | L17: 0
A18: 57 | B18: 2 | C18: Cukur gondang-Wot galih | D18: 1 | E18: Cukur gondang | F18: 0.8 | G18: S | H18: 3 | I18: 3 | J18: 3.5 | K18: 1 | L18: 0
A19: 123 | B19: 4.35 | C19: Trewung-Karangjati | D19: 1 | E19: Trewung | F19: 0.02 | G19: S | H19: 10.5 | I19: 3 | J19: 3.5 | K19: 1 | L19: 0
A20: 142 | B20: 4 | C20: Plososari-Trewung | D20: 1 | E20: Plososari | F20: 0.38 | G20: S | H20: 2 | I20: 3 | J20: 3.5 | K20: 1 | L20: 0
A21: 175 | B21: 4.6 | C21: Bandilan-Sumberdawe | D21: 1 | E21: Bandilan | F21: 0 | G21: S | H21: 3.5 | I21: 2.5 | J21: 3 | K21: 1 | L21: 0
A22: 220 | B22: 4.8 | C22: Parasan-Kedawung wetan | D22: 1 | E22: Parasan | F22: 0.9 | G22: S | H22: 3.5 | I22: 2.5 | J22: 3 | K22: 1 | L22: 0
... A28: 92205 | B28: 1.1 | C28: Trewung-Karanglo | D28: 1 | E28: Trewung | F28: 0.7 | G28: S | H28: 3 | I28: 3 | J28: 2.5 | K28: 1 | L28: 0

Sheet nguling
A1: IKHTISAR INVENTARISASI JEMBATAN
A2: PROPINSI | C2: : JAWA TIMUR (35)
A3: KABUPATEN | C3: : PASURUAN (14)
A4: KECAMATAN | C4: : NGULING
A7: No. Ruas | B7: Panjang | C7: Nama Pangkal-Ujung Ruas (K1) | D7: No.Urut | E7: Nama Jembatan/Sungai (>=2,0 m) | F7: PAL km | G7: Tipe Penye-berangan | H7: Ukuran | L7: Tipe/ Kondisi (Gunakan Kode Standar di K10L)
B8: (km) | H8: Panjang (m) | I8: Lebar | K8: Jumlah Bentang | L8: Bangunan Atas | P8: Lantai | R8: Sandaran | T8: Pondasi | W8: Kepala Jemb. & Pilar
I9: Jalur | J9: Total | L9: Tipe | M9: Bahan | N9: Asal | O9: Kond | P9: Bahan | Q9: Knd | R9: Bahan | S9: Kond | T9: Tipe | U9: Bahan | V9: Kond | W9: Tipe | X9: Bahan | Y9: Kond
D10: 1 | E10: 2 | F10: 3 | G10: 4 | H10: 5 | I10: 6.1 | J10: 6.2 | K10: 7 | L10: 8 | M10: 9 | N10: 10 | O10: 11 | P10: 12 | Q10: 13 | R10: 14 | S10: 15 | T10: 16 | U10: 17 | V10: 18 | W10: 19 | X10: 20 | Y10: 21
A11: 51 | B11: 4.5 | C11: Watestani-Sanganom | D11: 1 | E11: Nguling | F11: 2.5105 | G11: S | H11: 4.8 | I11: 2 | J11: 5.2 | K11: 1 | L11: 0
A12: 54 | D12: 1 | F12: 2.7746 | G12: S | H12: 2 | I12: 2 | J12: 3.8 | K12: 1 | L12: 0
A13: 59 | D13: 1 | F13: 2.7824 | G13: S | H13: 8 | I13: 2 | J13: 3 | K13: 1 | L13: 0
A14: 138 | D14: 1 | F14: 2.7878 | G14: S | H14: 11 | I14: 2 | J14: 2.8 | K14: 1 | L14: 0
A15: 139 | D15: 1 | F15: 2.7862 | G15: S | H15: 17.5 | I15: 2 | J15: 5.2 | K15: 2 | L15: 0
A16: 161 | B16: 3 | C16: Sedarum-Kedawang | D16: 1 | E16: Nguling | F16: 2.7837 | G16: S | H16: 2 | I16: 2 | J16: 5.2 | K16: 1 | L16: 0
A17: 179 | D17: 1 | F17: 2.7946 | G17: S | H17: 6 | I17: 2 | J17: 5.2 | K17: 1 | L17: 0
A18: 6030 | D18: 1 | F18: 2.792 | G18: S | H18: 4 | I18: 2 | J18: 5.5 | K18: 1 | L18: 0
A19: 92403 | D19: 1 | F19: 2.8863 | G19: S | H19: 5.6 | I19: 2 | J19: 3.8 | K19: 2 | L19: 0

Sheet Bagor
C1: IKHTISAR INVENTARISASI JEMBATAN
C2: PROPINSI | E2: : JAWA TIMUR (35)
C3: KABUPATEN | E3: : NGANJUK
C4: KECAMATAN | E4: : BAGOR
C6: No. Ruas | D6: Panjang (km) | E6: Nama Pangkal-Ujung Ruas (K1) | F6: No.Urut | G6: Nomor Jembatan | H6: Nama Jembatan/Sungai (>=2,0 m) | I6: PAL km | J6: Tipe Penye-berangan | K6: Ukuran | O6: Tipe/ Kondisi (Gunakan oe Standar di K10L)
K7: Panjang (m) | L7: Lebar | N7: Jumlah Bentang | O7: Bangunan Atas | S7: Lantai | U7: Sandaran | W7: Pondasi | Z7: Kepala Jemb. & Pilar
B8: No. ID | L8: Jalur | M8: Total | O8: Tipe | P8: Bahan | Q8: Asal | R8: Kond | S8: Bahan | T8: Kond | U8: Bahan | V8: Kond | W8: Tipe | X8: Bahan | Y8: Kond | Z8: Tipe | AA8: Bahan | AB8: Kond
F9: 1 | H9: 2 | I9: 3 | J9: 4 | K9: 5 | L9: 6.1 | M9: 6.2 | N9: 7 | O9: 8 | P9: 9 | Q9: 10 | R9: 11 | S9: 12 | T9: 13 | U9: 14 | V9: 15 | W9: 16 | X9: 17 | Y9: 18 | Z9: 19 | AA9: 20 | AB9: 21
A10: 9021 | B10: 108 | C10: 64.1 | D10: 0.6 | E10: Gemenggeng - Tawang | F10: 1 | G10: 18.0064.001 | H10: Jembatan Kali Tawang | I10: =AE10-AD10 -> 0 | J10: S | K10: 2.6 | L10: 3 | M10: 3 | N10: 1 | O10: M | P10: T | Q10: I | R10: 0 | S10: T | T10: 0 | U10: Y | V10: 0 | W10: LS | X10: M | Y10: 0 | Z10: P | AA10: M | AB10: 0
A12: 136 | B12: 138 | C12: 76 | D12: 2.5 | E12: Kerep - Kidul | F12: 1 | G12: 18,0076,001 | H12: Jembatan Kali Kendalrejo | I12: =AE12-AD12 -> 2.6 | J12: S | K12: 8 | L12: 4 | M12: 4 | N12: 4 | O12: M | P12: T | Q12: I | R12: 0 | S12: T | T12: 1 | U12: Y | V12: 0 | W12: LS | X12: M | Y12: 0 | Z12: P | AA12: M | AB12: 0 | AD12: ='[1]NGANJUK''Z'!$L$253 -> 426.1 | AE12: 428.7
A14: 9020 | B14: 140 | C14: 78 | D14: 1.38 | E14: Gemenggeng - Sidokare | F14: 1 | G14: 18,0078,001 | H14: Jembatan Gemenggeng | I14: =AE14-AD14 -> 0 | J14: S | K14: 4 | L14: 5 | M14: 5 | N14: 1 | O14: M | P14: T | Q14: I | R14: 0 | S14: T | T14: 0 | U14: Y | V14: 0 | W14: LS | X14: M | Y14: 0 | Z14: P | AA14: M | AB14: 0 | AD14: ='[1]NGANJUK''Z'!$L$35 -> 273.2 | AE14: 273.2
B16: 141 | F16: 2 | G16: 18,0078,002 | H16: Jembatan Gemenggeng 2 | I16: =AE16-AD14 -> 1.1 | J16: S | K16: 3.5 | L16: 3 | M16: 7.2 | N16: 1 | O16: M | P16: T | Q16: I | R16: 0 | S16: T | T16: 0 | U16: Y | V16: 0 | W16: LS | X16: M | Y16: 0 | Z16: P | AA16: M | AB16: 0 | AE16: 274.3
A18: 103 | B18: 142 | C18: 79.1 | D18: 1.7 | E18: Petak - Banaran Kulon | F18: 1 | G18: 18,0079.1,001 | H18: Jembatan Kali Petak 1 | I18: =AE18-AD18 -> 0 | J18: S | K18: 13 | L18: 4 | M18: 4 | N18: 2 | O18: L | P18: T | Q18: I | R18: 0 | S18: T | T18: 0 | U18: Y | V18: 0 | W18: LS | X18: M | Y18: 0 | Z18: P | AA18: M | AB18: 0 | AD18: ='[1]NGANJUK''Z'!$L$234 -> 440.5 | AE18: 440.5
B20: 143 | F20: 2 | G20: 18,0079.1,002 | H20: Jembatan Kali Widas 2 | I20: =AE20-AD20 -> 0.3 | J20: S | K20: 52 | L20: 2.5 | M20: 2.5 | N20: 2 | O20: R | P20: T | Q20: I | R20: 0 | S20: T | T20: 0 | U20: Y | V20: 0 | W20: LS | X20: M | Y20: 0 | Z20: P | AA20: M | AB20: 0 | AD20: ='[1]NGANJUK''Z'!$L$234 -> 440.5 | AE20: 440.8
B22: 144 | F22: 3 | G22: 18,0079.1,003 | H22: Jembatan Kali Petak 2 | I22: =AE22-AD22 -> 0.4 | J22: S | K22: 11 | L22: 3 | M22: 4 | N22: 1 | O22: M | P22: T | Q22: I | R22: 0 | S22: T | T22: 0 | U22: Y | V22: 0 | W22: LS | X22: M | Y22: 0 | Z22: P | AA22: M | AB22: 0 | AD22: ='[1]NGANJUK''Z'!$L$234 -> 440.5 | AE22: 440.9
A24: 156 | B24: 152 | C24: 91.2 | D24: 3.4 | E24: Mojorembun - Banaran Kulon | F24: 3 | G24: 18,0091,2.003 | H24: Jembatan Mojorembun 3 | I24: =AE24-AD24 -> 3.2 | J24: S | K24: 9 | L24: 3 | M24: 3 | N24: 1 | O24: M | P24: T | Q24: I | R24: 0 | S24: T | T24: 0 | U24: Y | V24: 0 | W24: LS | X24: M | Y24: 0 | Z24: P | AA24: M | AB24: 0 | AD24: ='[1]NGANJUK''Z'!$L$259 -> 448 | AE24: 451.2
B26: 153 | F26: 4 | G26: 18,0091,2.004 | H26: Jembatan Mojorembun 4 | I26: =AE26-AD26 -> 3.6 | J26: S | K26: 15 | L26: 3 | M26: 3 | N26: 1 | O26: M | P26: T | Q26: I | R26: 0 | S26: T | T26: 0 | U26: Y | V26: 0 | W26: LS | X26: M | Y26: 0 | Z26: P | AA26: M | AB26: 0 | AD26: ='[1]NGANJUK''Z'!$L$259 -> 448 | AE26: 451.6
B28: 154 | F28: 5 | G28: 18,0091,2.005 | H28: Jembatan Banaran Kulon | I28: 5.35 | J28: S | K28: 15 | L28: 3.5 | M28: 3.5 | N28: 1 | O28: M | P28: T | Q28: I | R28: 0 | S28: T | T28: 0 | U28: Y | V28: 0 | W28: LS | X28: M | Y28: 0 | Z28: P | AA28: M | AB28: 0
A30: 101 | B30: 161 | C30: 96.2 | D30: 1.2 | E30: Dsn.Lungurjaya - Dsn. Tempura | F30: 3 | G30: 18,0096.2,003 | H30: Jembatan Kalituri 2 | I30: =AE30-AD30 -> 3.5 | J30: S | K30: 9 | L30: 4 | M30: 3.5 | N30: 1 | O30: M | P30: T | Q30: I | R30: 0 | S30: T | T30: 0 | U30: Y | V30: 0 | W30: LS | X30: M | Y30: 0 | Z30: P | AA30: M | AB30: 0 | AD30: ='[1]NGANJUK''Z'!$L$231 -> 503.2 | AE30: 506.7
A32: 9011 | B32: 536 | C32: 389.2 | D32: 3.15 | E32: Sekarputih - Guyangan | F32: 4 | G32: 18.0398.2.004 | H32: Kali Widas | I32: 10 | J32: S | K32: 14.4 | L32: 6 | M32: 7.8 | N32: 1 | O32: M | P32: T | Q32: I | R32: 0 | S32: T | T32: 0 | U32: V | V32: 0 | W32: LS | X32: M | Y32: 0 | Z32: B | AA32: M | AB32: 0 | AD32: =I32-#REF! -> #REF!
B34: 537 | F34: 5 | G34: 18.0398.2.005 | H34: Guyangan | I34: 11.3 | J34: S | K34: 4.7 | L34: 6 | M34: 6.4 | N34: 1 | O34: M | P34: T | Q34: I | R34: 0 | S34: T | T34: 0 | U34: V | V34: 0 | W34: LS | X34: M | Y34: 0 | Z34: B | AA34: M | AB34: 0 | AD34: =I34-#REF! -> #REF!
A36: 4065 | B36: 665 | C36: 441 | D36: 1.8 | E36: Cangkringan - Sekarputih | F36: 1 | G36: 18.0441.001 | H36: Jbt.Cangkringan | I36: 0 | J36: S | K36: 2.6 | L36: 5 | N36: 1 | O36: E | P36: M | Q36: I | R36: 0 | S36: M | T36: 0 | U36: M | V36: 0 | W36: LS | X36: M | Y36: 0 | Z36: B | AA36: M | AB36: 0
A38: 9012 | B38: 605 | C38: 442 | D38: 2.8 | E38: Gandu - Balangrejo | F38: 1 | G38: 18'0442'001 | H38: Kali Secang | I38: 0.8 | J38: S | K38: 3 | L38: 3.7 | M38: 4.1 | N38: 1 | O38: E | P38: M | Q38: I | R38: 0 | S38: M | T38: 0 | U38: M | V38: 0 | W38: LS | X38: M | Y38: 0 | Z38: B | AA38: M | AB38: 0 | AC38: =[2]nganjuk!$L$26 -> 971.3 | AD38: =I38-AC38 -> -970.5
A40: 9017 | B40: 606 | C40: 443 | D40: 2.1 | E40: Pesudukuh - Sekarputih | F40: 1 | G40: 18.0443.001 | H40: Pesudukuh I | I40: 0.7 | J40: S | K40: 3 | L40: 3 | M40: 4 | N40: 2 | O40: E | P40: M | Q40: I | R40: 0 | S40: M | T40: 0 | U40: M | V40: 0 | W40: LS | X40: M | Y40: 0 | Z40: B | AA40: M | AB40: 0 | AC40: =[2]nganjuk!$L$36 -> 986.9 | AD40: =I40-#REF! -> #REF!
B42: 607 | F42: 2 | G42: 18.0443.001 | H42: Pesudukuh II | I42: 1 | J42: S | K42: 5.5 | L42: 4 | M42: 4 | N42: 1 | O42: M | P42: T | Q42: I | R42: 0 | S42: T | T42: 0 | U42: V | V42: 0 | W42: LS | X42: M | Y42: 0 | Z42: B | AA42: M | AB42: 0 | AD42: =I42-#REF! -> #REF!
A44: 9013 | B44: 608 | C44: 447 | D44: 0.6 | E44: Sedayu - Wates | F44: 1 | G44: 18.0447.001 | H44: Kali Sedayu | I44: 0.7 | J44: S | K44: 6 | L44: 2.6 | M44: 3 | N44: 1 | O44: M | P44: T | Q44: I | R44: 0 | S44: T | T44: 0 | U44: M | V44: 0 | W44: LS | X44: M | Y44: 0 | Z44: B | AA44: M | AB44: 0 | AC44: =[2]nganjuk!$L$28 -> 975.2 | AD44: =I44-AC44 -> -974.5
A46: 9018 | B46: 609 | C46: 448 | D46: 10.8 | E46: Girirejo - Selorejo | F46: 1 | G46: 18.0448.001 | H46: Jatirejo | I46: 0 | J46: S | K46: 13 | L46: 6 | M46: 6 | N46: 1 | O46: G | P46: B | Q46: I | R46: 0 | S46: T | T46: 0 | U46: V | V46: 0 | W46: LS | X46: M | Y46: 0 | Z46: B | AA46: M | AB46: 0 | AC46: =[2]nganjuk!$L$37 -> 990.3 | AD46: =I46-#REF! -> #REF!
B48: 610 | F48: 2 | G48: 18.0448.002 | H48: Jatirejo II | I48: 0.4 | J48: S | K48: 22.5 | L48: 3.8 | M48: 5.5 | N48: 2 | O48: M | P48: T | Q48: I | R48: 0 | S48: T | T48: 0 | U48: V | V48: 0 | W48: LS | X48: M | Y48: 0 | Z48: B | AA48: M | AB48: 0 | AD48: =I48-#REF! -> #REF!
B50: 611 | F50: 3 | G50: 18.0448.003 | H50: Pilang Bangun | I50: 1.7 | J50: S | K50: 6.1 | L50: 3.5 | M50: 5.5 | N50: 1 | O50: M | P50: T | Q50: I | R50: 0 | S50: T | T50: 0 | U50: V | V50: 0 | W50: LS | X50: M | Y50: 0 | Z50: B | AA50: M | AB50: 0 | AD50: =I50-#REF! -> #REF!
B52: 612 | F52: 4 | G52: 18.0448.004 | H52: Kali Balongrejo | I52: 7 | J52: S | K52: 10 | L52: 6 | M52: 6 | N52: 1 | O52: M | P52: T | Q52: I | R52: 0 | S52: T | T52: 0 | U52: V | V52: 0 | W52: LS | X52: M | Y52: 0 | Z52: B | AA52: M | AB52: 0 | AD52: =I52-#REF! -> #REF!
B54: 613 | F54: 5 | G54: 18.0448.005 | H54: Kali Pojok | I54: 9.5 | J54: S | K54: 11 | L54: 3.5 | M54: 4.1 | N54: 4 | O54: M | P54: T | Q54: I | R54: 0 | S54: T | T54: 0 | U54: V | V54: 0 | W54: LS | X54: M | Y54: 0 | Z54: B | AA54: M | AB54: 0 | AD54: =I54-#REF! -> #REF!
B56: 614 | F56: 6 | G56: 18.0448.006 | H56: Kali Selo | I56: 10.2 | J56: S | K56: 3.1 | L56: 3 | M56: 6.6 | O56: E | P56: M | Q56: I | R56: 0 | S56: M | T56: 0 | U56: M | V56: 0 | W56: LS | X56: M | Y56: 0 | Z56: B | AA56: M | AB56: 0 | AD56: =I56-#REF! -> #REF!
A58: 9020 | B58: 615 | C58: 449 | D58: 1.3 | E58: Ngumpul - Paron | F58: 1 | G58: 18.0449.001 | H58: Kali Paron | I58: 1.2 | J58: S | K58: 14 | L58: 3 | M58: 3 | N58: 2 | O58: P | P58: T | Q58: I | R58: 2 | S58: D | T58: 2 | U58: B | V58: 2 | W58: LS | X58: M | Y58: 0 | Z58: B | AA58: K | AB58: 0 | AC58: =[2]nganjuk!$L$40 -> 13.6 | AD58: =I58-AC58 -> -12.4
A60: 9019 | B60: 616 | C60: 450 | D60: 3.2 | E60: Bagor - Ngumpul | F60: 1 | G60: 18.0450.001 | H60: Kali Plumpung | I60: 0.41 | J60: S | K60: 10 | L60: 5.2 | M60: 5.8 | N60: 2 | O60: M | P60: T | Q60: I | R60: 0 | S60: T | T60: 0 | U60: V | V60: 0 | W60: LS | X60: M | Y60: 0 | Z60: B | AA60: M | AB60: 0 | AC60: =[2]nganjuk!$L$39 -> 8.7 | AD60: =I60-#REF! -> #REF!
B62: 617 | F62: 2 | G62: 18.0450.002 | H62: Kali Bulung | I62: 2.7 | J62: S | K62: 11.5 | L62: 5.2 | M62: 5.8 | N62: 1 | O62: M | P62: T | Q62: I | R62: 0 | S62: T | T62: 0 | U62: V | V62: 0 | W62: LS | X62: M | Y62: 0 | Z62: B | AA62: M | AB62: 0 | AD62: =I62-#REF! -> #REF!
A64: 9022 | B64: 90 | C64: 9038.1 | D64: 0.4 | E64: Sugihwaras - Mojokandel | F64: 1 | G64: 18.9038.1.001 | H64: Kali Juwet | I64: 9.9 | J64: S | K64: 2.3 | L64: 3 | M64: 3 | N64: 1 | O64: E | P64: M | Q64: I | R64: 0 | S64: M | T64: 0 | U64: M | V64: 0 | W64: LS | X64: M | Y64: 0 | Z64: B | AA64: M | AB64: 0 | AC64: =[2]nganjuk!$L$42 -> 45.2 | AD64: =I64-#REF! -> #REF!
B66: 91 | F66: 2 | G66: 18.9038.1.002 | H66: Kali Kere II | I66: 10.7 | J66: S | K66: 2 | L66: 4 | M66: 4 | N66: 1 | O66: E | P66: M | Q66: I | R66: 0 | S66: M | T66: 0 | U66: M | V66: 0 | W66: LS | X66: M | Y66: 0 | Z66: B | AA66: M | AB66: 0 | AD66: =I66-#REF! -> #REF!
C69: LINTASAN/TIPE PENYEBERANGAN (4) | F69: TIPE BANGUNAN ATAS (8) | I69: ASAL BANGUNAN ATAS (10) | L69: TIPE PONDASI (16) | O69: TIPE KEPALA JEMBATAN/PILAR (19) | T69: BAHAN dan/atau BANGUNAN PELENGKAP (9,12,14,17,20)
C70: J N | D70: : Jalan | F70: B | G70: : Gorong - gorong Kotak | I70: W | J70: : Acrow / Bailey | L70: CA | M70: : Cakar Ayam | T70: K | U70: : Kayu | Y70: O | Z70: : Tanah Biasa
C71: K A | D71: : Kereta api | F71: Y | G71: : Gorong - gorong Pipa | I71: A | J71: : Australia | L71: LS | M71: : Langsung | O71: KEPALA JEMBATAN | T71: S | U71: : Pasangan Bata | Y71: A | Z71: : Aspal
...

Sheet Wilangan
C1: IKHTISAR INVENTARISASI JEMBATAN
C2: PROPINSI | E2: : JAWA TIMUR (35)
C3: KABUPATEN | E3: : NGANJUK
C4: KECAMATAN | E4: : WILANGAN
