Workbook

Sheet Tosari
A1: IKHTISAR INVENTARISASI JEMBATAN
A2: PROPINSI | C2: : JAWA TIMUR (35) | X2: Hal | Y2: : 1
A3: KABUPATEN | C3: : PASURUAN (14) | X3: Dari | Y3: : 3
A4: KECAMATAN | C4: : TOSARI
A6: No. Ruas | B6: Panjang | C6: Nama Pangkal-Ujung Ruas (K1) | D6: No.Urut | E6: Nama Jembatan/Sungai (>=2,0 m) | F6: PAL km | G6: Tipe Penye-berangan | H6: Ukuran | L6: Tipe/ Kondisi (Gunakan Kode Standar di K10L)
B7: (km) | H7: Panjang (m) | I7: Lebar | J7: Total | K7: Jumlah Bentang | L7: Bangunan Atas | P7: Lantai | R7: Sandaran | T7: Pondasi | W7: Kepala Jemb. & Pilar
I8: Jalur | L8: Tipe | M8: Bahan | N8: Asal | O8: Kond | P8: Bahan | Q8: Knd | R8: Bahan | S8: Kond | T8: Tipe | U8: Bahan | V8: Kond | W8: Tipe | X8: Bahan | Y8: Kond
D9: 1 | E9: 2 | F9: 3 | G9: 4 | H9: 5 | I9: 6.1 | J9: 6.2 | K9: 7 | L9: 8 | M9: 9 | N9: 10 | O9: 11 | P9: 12 | Q9: 13 | R9: 14 | S9: 15 | T9: 16 | U9: 17 | V9: 18 | W9: 19 | X9: 20 | Y9: 21
A10: 69 | B10: 2.7 | C10: Tosari - wonokitri | D10: 1 | E10: Beton Plat | F10: 0-0.117 | G10: JN | H10: 2 | I10: 7 | J10: 9 | K10: 1 | L10: B | M10: T | N10: I | O10: 0 | P10: A | Q10: 0 | R10: M | S10: 0 | T10: LS | U10: B | V10: 0 | W10: B | X10: T | Y10: 0
D11: 2 | E11: Beton Plat | F11: 0.272 | G11: JN | H11: 2.6 | I11: 7 | J11: 9 | K11: 1 | L11: B | M11: T | N11: I | O11: 0 | P11: A | Q11: 0 | R11: M | S11: 0 | T11: LS | U11: B | V11: 0 | W11: B | X11: T | Y11: 0
D12: 3 | E12: Beton Plat | F12: 0.472 | G12: JN | H12: 2 | I12: 7 | J12: 9 | K12: 1 | L12: B | M12: T | N12: I | O12: 0 | P12: A | Q12: 0 | R12: M | S12: 0 | T12: LS | U12: B | V12: 0 | W12: B | X12: T | Y12: 0
D13: 4 | E13: Gorong-gorong | F13: 0.738 | G13: JN | H13: 2.5 | I13: 7 | J13: 9 | K13: 1 | L13: B | M13: T | N13: I | O13: 0 | P13: A | Q13: 0 | R13: M | S13: 0 | T13: LS | U13: B | V13: 0 | W13: B | X13: T | Y13: 0
D14: 5 | E14: Beton Plat | F14: 0.83 | G14: JN | H14: 3 | I14: 7 | J14: 9 | K14: 1 | L14: B | M14: T | N14: I | O14: 0 | P14: A | Q14: 0 | R14: M | S14: 0 | T14: LS | U14: B | V14: 0 | W14: B | X14: T | Y14: 0
D15: 6 | E15: Banyu Petung | F15: 0.9 | G15: JN | H15: 3.5 | I15: 7 | J15: 9 | K15: 1 | L15: E | M15: V | N15: D | O15: 0 | P15: A | Q15: 0 | R15: M | S15: 0 | T15: LS | U15: B | V15: 0 | W15: B | X15: T | Y15: 0
D16: 7 | E16: Gorong-gorong | F16: 0.31 | G16: JN | H16: 2.5 | I16: 7 | J16: 9 | K16: 1 | L16: B | M16: T | N16: I | O16: 0 | P16: A | Q16: 0 | R16: M | S16: 0 | T16: LS | U16: B | V16: 0 | W16: B | X16: T | Y16: 0
D17: 8 | E17: Beton Plat | F17: 1.718 | G17: JN | H17: 2.5 | I17: 7 | J17: 9 | K17: 1 | L17: B | M17: T | N17: I | O17: 2 | P17: A | Q17: 1 | R17: M | S17: 2 | T17: LS | U17: B | V17: 1 | W17: B | X17: T | Y17: 1
D18: 9 | E18: Gorong-gorong | F18: 2.05 | G18: JN | H18: 2.5 | I18: 7 | J18: 9 | K18: 1 | L18: B | M18: T | N18: I | O18: 0 | P18: A | Q18: 0 | R18: M | S18: 0 | T18: LS | U18: B | V18: 0 | W18: B | X18: T | Y18: 0
A19: 70 | B19: 5.8 | C19: Wonokitri - Dingklik | D19: 1 | E19: Gorong-gorong | F19: 0-0.15 | G19: JN | H19: 0.6 | I19: 6 | J19: 8 | K19: 1 | L19: B | M19: T | N19: I | O19: 0 | P19: A | Q19: 0 | R19: M | S19: 0 | T19: LS | U19: B | V19: 0 | W19: B | X19: T | Y19: 0
D20: 2 | E20: Gorong-gorong | F20: 0.25 | G20: JN | H20: 0.6 | I20: 6 | J20: 8 | K20: 1 | L20: B | M20: T | N20: I | O20: 0 | P20: A | Q20: 0 | R20: M | S20: 0 | T20: LS | U20: B | V20: 0 | W20: B | X20: T | Y20: 0
D21: 3 | E21: Gorong-gorong | F21: 0.6 | G21: JN | H21: 0.6 | I21: 6 | J21: 8 | K21: 1 | L21: B | M21: T | N21: I | O21: 0 | P21: A | Q21: 0 | R21: M | S21: 0 | T21: LS | U21: B | V21: 0 | W21: B | X21: T | Y21: 0
D22: 4 | E22: Gorong-gorong | F22: 0.7 | G22: JN | H22: 0.6 | I22: 6 | J22: 8 | K22: 1 | L22: B | M22: T | N22: I | O22: 0 | P22: A | Q22: 0 | R22: M | S22: 0 | T22: LS | U22: B | V22: 0 | W22: B | X22: T | Y22: 0
D23: 5 | E23: Beton Plat | F23: 1.2 | G23: JN | H23: 0.6 | I23: 6 | J23: 8 | K23: 1 | L23: B | M23: T | N23: I | O23: 0 | P23: A | Q23: 0 | R23: M | S23: 0 | T23: LS | U23: B | V23: 0 | W23: B | X23: T | Y23: 0
D24: 6 | E24: Beton Plat | F24: 1.35 | G24: JN | H24: 0.6 | I24: 6 | J24: 8 | K24: 1 | L24: B | M24: T | N24: I | O24: 2 | P24: A | Q24: 1 | R24: M | S24: 1 | T24: LS | U24: B | V24: 0 | W24: B | X24: T | Y24: 0
D25: 7 | E25: Beton Plat | F25: 1.523 | G25: JN | H25: 0.6 | I25: 6 | J25: 8 | K25: 1 | L25: B | M25: T | N25: I | O25: 0 | P25: A | Q25: 0 | R25: M | S25: 0 | T25: LS | U25: B | V25: 0 | W25: B | X25: T | Y25: 0
D26: 8 | E26: Gorong-gorong | F26: 1.738 | G26: JN | H26: 0.6 | I26: 6 | J26: 8 | K26: 1 | L26: B | M26: T | N26: I | O26: 0 | P26: A | Q26: 0 | R26: M | S26: 0 | T26: LS | U26: B | V26: 0 | W26: B | X26: T | Y26: 0
D27: 9 | E27: Gorong-gorong | F27: 1.827 | G27: JN | H27: 0.6 | I27: 6 | J27: 8 | K27: 1 | L27: B | M27: T | N27: I | O27: 0 | P27: A | Q27: 0 | R27: M | S27: 0 | T27: LS | U27: B | V27: 0 | W27: B | X27: T | Y27: 0
D28: 10 | E28: Gorong-gorong | F28: 1.919 | G28: JN | H28: 0.6 | I28: 6 | J28: 8 | K28: 1 | L28: B | M28: T | N28: I | O28: 0 | P28: A | Q28: 0 | R28: M | S28: 0 | T28: LS | U28: B | V28: 0 | W28: B | X28: T | Y28: 0
D29: 11 | E29: Gorong-gorong | F29: 2.048 | G29: JN | H29: 0.6 | I29: 6 | J29: 8 | K29: 1 | L29: B | M29: T | N29: I | O29: 0 | P29: A | Q29: 0 | R29: M | S29: 0 | T29: LS | U29: B | V29: 0 | W29: B | X29: T | Y29: 0
D30: 12 | E30: Gorong-gorong | F30: 5.241 | G30: JN | H30: 0.6 | I30: 6 | J30: 8 | K30: 1 | L30: B | M30: T | N30: I | O30: 0 | P30: A | Q30: 0 | R30: M | S30: 0 | T30: LS | U30: B | V30: 0 | W30: B | X30: T | Y30: 0
A31: 95 | B31: 3.726 | C31: Dingklik - Penanjakan | D31: 1 | E31: Beton Plat | F31: 0-0.591 | G31: JN | H31: 0.6 | I31: 8.4 | J31: 10.4 | K31: 1 | L31: B | M31: T | N31: I | O31: 0 | P31: A | Q31: 0 | R31: M | S31: 0 | T31: LS | U31: B | V31: 0 | W31: B | X31: T | Y31: 0
D32: 2 | E32: Beton Plat | F32: 1.127 | G32: JN | H32: 0.6 | I32: 8.4 | J32: 10.4 | K32: 1 | L32: B | M32: T | N32: I | O32: 0 | P32: A | Q32: 0 | R32: M | S32: 0 | T32: LS | U32: B | V32: 0 | W32: B | X32: T | Y32: 0
D33: 3 | E33: Beton Plat | F33: 1.345 | G33: JN | H33: 0.6 | I33: 8.4 | J33: 10.4 | K33: 1 | L33: B | M33: T | N33: I | O33: 0 | P33: A | Q33: 0 | R33: M | S33: 0 | T33: LS | U33: B | V33: 0 | W33: B | X33: T | Y33: 0
D34: 4 | E34: Beton Plat | F34: 1.514 | G34: JN | H34: 0.6 | I34: 7 | J34: 9 | K34: 1 | L34: B | M34: T | N34: I | O34: 0 | P34: A | Q34: 0 | R34: M | S34: 0 | T34: LS | U34: B | V34: 0 | W34: B | X34: T | Y34: 0
D35: 5 | E35: Beton Plat | F35: 1.944 | G35: JN | H35: 0.6 | I35: 7 | J35: 9 | K35: 1 | L35: B | M35: T | N35: I | O35: 0 | P35: A | Q35: 0 | R35: M | S35: 0 | T35: LS | U35: B | V35: 0 | W35: B | X35: T | Y35: 0
D36: 6 | E36: Beton Plat | F36: 2.139 | G36: JN | H36: 0.6 | I36: 7 | J36: 9 | K36: 1 | L36: B | M36: T | N36: I | O36: 0 | P36: A | Q36: 0 | R36: M | S36: 0 | T36: LS | U36: B | V36: 0 | W36: B | X36: T | Y36: 0
D37: 7 | E37: Beton Plat | F37: 2.31 | G37: JN | H37: 0.6 | I37: 7 | J37: 9 | K37: 1 | L37: B | M37: T | N37: I | O37: 0 | P37: A | Q37: 0 | R37: M | S37: 0 | T37: LS | U37: B | V37: 0 | W37: B | X37: T | Y37: 0
D38: 8 | E38: Beton Plat | F38: 2.554 | G38: JN | H38: 0.6 | I38: 7 | J38: 9 | K38: 1 | L38: B | M38: T | N38: I | O38: 0 | P38: A | Q38: 0 | R38: M | S38: 0 | T38: LS | U38: B | V38: 0 | W38: B | X38: T | Y38: 0
D39: 9 | E39: Beton Plat | F39: 3.112 | G39: JN | H39: 0.6 | I39: 7 | J39: 9 | K39: 1 | L39: B | M39: T | N39: I | O39: 0 | P39: A | Q39: 0 | R39: M | S39: 0 | T39: LS | U39: B | V39: 0 | W39: B | X39: T | Y39: 0
A40: 96 | B40: 3.2 | C40: Dingklik - Lautan Pasir | D40: 1 | E40: Beton Plat | F40: 0-0.373 | G40: JN | H40: 0.8 | I40: 5.7 | J40: 7.7 | K40: 1 | L40: B | M40: T | N40: I | O40: 0 | P40: A | Q40: 0 | R40: M | S40: 0 | T40: LS | U40: B | V40: 0 | W40: B | X40: T | Y40: 0
D41: 2 | E41: Beton Plat | F41: 0.715 | G41: JN | H41: 0.8 | I41: 5.7 | J41: 7.7 | K41: 1 | L41: B | M41: T | N41: I | O41: 0 | P41: A | Q41: 0 | R41: M | S41: 0 | T41: LS | U41: B | V41: 0 | W41: B | X41: T | Y41: 0
D42: 3 | E42: Beton Plat | F42: 1.121 | G42: JN | H42: 0.8 | I42: 5.7 | J42: 7.7 | K42: 1 | L42: B | M42: T | N42: I | O42: 0 | P42: A | Q42: 0 | R42: M | S42: 0 | T42: LS | U42: B | V42: 0 | W42: B | X42: T | Y42: 0
D43: 4 | E43: Gorong-gorong | F43: 1.296 | G43: JN | H43: 0.6 | I43: 4.5 | J43: 5.5 | K43: 1 | L43: B | M43: T | N43: I | O43: 0 | P43: A | Q43: 0 | R43: M | S43: 0 | T43: LS | U43: B | V43: 0 | W43: B | X43: T | Y43: 0
D44: 5 | E44: Gorong-gorong | F44: 1.754 | G44: JN | H44: 0.6 | I44: 4.5 | J44: 5.5 | K44: 1 | L44: B | M44: T | N44: I | O44: 0 | P44: A | Q44: 0 | R44: M | S44: 0 | T44: LS | U44: B | V44: 0 | W44: B | X44: T | Y44: 0
D45: 6 | E45: Gorong-gorong | F45: 1.926 | G45: JN | H45: 0.8 | I45: 4.5 | J45: 5.5 | K45: 1 | L45: B | M45: T | N45: I | O45: 0 | P45: A | Q45: 0 | R45: M | S45: 0 | T45: LS | U45: B | V45: 0 | W45: B | X45: T | Y45: 0
D46: 7 | E46: Gorong-gorong | F46: 2.006 | G46: JN | H46: 0.6 | I46: 4.5 | J46: 5.5 | K46: 1 | L46: B | M46: T | N46: I | O46: 0 | P46: A | Q46: 0 | R46: M | S46: 0 | T46: LS | U46: B | V46: 0 | W46: B | X46: T | Y46: 0
D47: 8 | E47: Gorong-gorong | F47: 2.076 | G47: JN | H47: 0.6 | I47: 4.5 | J47: 5.5 | K47: 1 | L47: B | M47: T | N47: I | O47: 0 | P47: A | Q47: 0 | R47: M | S47: 0 | T47: LS | U47: B | V47: 0 | W47: B | X47: T | Y47: 0
D48: 9 | E48: Gorong-gorong | F48: 2.151 | G48: JN | H48: 0.6 | I48: 4.5 | J48: 5.5 | K48: 1 | L48: B | M48: T | N48: I | O48: 0 | P48: A | Q48: 0 | R48: M | S48: 0 | T48: LS | U48: B | V48: 0 | W48: B | X48: T | Y48: 0
D49: 10 | E49: Gorong-gorong | F49: 2.263 | G49: JN | H49: 0.6 | I49: 4.5 | J49: 5.5 | K49: 1 | L49: B | M49: T | N49: I | O49: 0 | P49: A | Q49: 0 | R49: M | S49: 0 | T49: LS | U49: B | V49: 0 | W49: B | X49: T | Y49: 0
D50: 11 | E50: Gorong-gorong | F50: 2.309 | G50: JN | H50: 0.6 | I50: 4.5 | J50: 5.5 | K50: 1 | L50: B | M50: T | N50: I | O50: 0 | P50: A | Q50: 0 | R50: M | S50: 0 | T50: LS | U50: B | V50: 0 | W50: B | X50: T | Y50: 0
A51: 183 | B51: 1.3 | C51: Pasar Wonokitri - Pendopo Agung | D51: 1 | E51: Beton Plat | F51: 0-0.35 | G51: JN | H51: 1.5 | I51: 4.6 | J51: 5.6 | K51: 1 | L51: B | M51: T | N51: I | O51: 0 | P51: A | Q51: 0 | R51: M | S51: 0 | T51: LS | U51: B | V51: 0 | W51: B | X51: T | Y51: 0
D52: 2 | E52: Gorong-gorong | F52: 0-0.1 | G52: JN | H52: 0.3 | I52: 4.6 | J52: 5.6 | K52: 1 | L52: B | M52: T | N52: I | O52: 0 | P52: A | Q52: 0 | R52: M | S52: 0 | T52: LS | U52: B | V52: 0 | W52: B | X52: T | Y52: 0
A53: 127 | B53: 3.2 | C53: Wonokitri - Sedaeng | D53: 1 | E53: Gorong-gorong | F53: 0-0.15 | G53: JN | H53: 0.6 | I53: 6 | J53: 8 | K53: 1 | L53: B | M53: T | N53: I | O53: 0 | P53: A | Q53: 0 | R53: M | S53: 0 | T53: LS | U53: B | V53: 0 | W53: B | X53: T | Y53: 0
D54: 2 | E54: Gorong-gorong | F54: 0.446 | G54: JN | H54: 0.6 | I54: 6 | J54: 8 | K54: 1 | L54: B | M54: T | N54: I | O54: 0 | P54: A | Q54: 0 | R54: M | S54: 0 | T54: LS | U54: B | V54: 0 | W54: B | X54: T | Y54: 0
D55: 3 | E55: Beton Plat | F55: 0.6 | G55: JN | H55: 0.6 | I55: 6 | J55: 8 | K55: 1 | L55: B | M55: T | N55: I | O55: 0 | P55: A | Q55: 0 | R55: M | S55: 0 | T55: LS | U55: B | V55: 0 | W55: B | X55: T | Y55: 0
D56: 4 | E56: Beton Plat | F56: 1.15 | G56: JN | H56: 0.6 | I56: 6 | J56: 8 | K56: 1 | L56: B | M56: T | N56: I | O56: 0 | P56: A | Q56: 0 | R56: M | S56: 0 | T56: LS | U56: B | V56: 0 | W56: B | X56: T | Y56: 0
D57: 5 | E57: Beton Plat | F57: 1.75 | G57: JN | H57: 0.6 | I57: 6 | J57: 8 | K57: 1 | L57: B | M57: T | N57: I | O57: 0 | P57: A | Q57: 0 | R57: M | S57: 0 | T57: LS | U57: B | V57: 0 | W57: B | X57: T | Y57: 0
D58: 6 | E58: Beton Plat | F58: 2.05 | G58: JN | H58: 0.6 | I58: 6 | J58: 8 | K58: 1 | L58: B | M58: T | N58: I | O58: 0 | P58: A | Q58: 0 | R58: M | S58: 0 | T58: LS | U58: B | V58: 0 | W58: B | X58: T | Y58: 0
D59: 7 | E59: Beton Plat | F59: 2.52 | G59: JN | H59: 0.6 | I59: 6 | J59: 8 | K59: 1 | L59: B | M59: T | N59: I | O59: 0 | P59: A | Q59: 0 | R59: M | S59: 0 | T59: LS | U59: B | V59: 0 | W59: B | X59: T | Y59: 0
A60: 126 | B60: 6 | C60: Sedaeng - Keduwung | D60: 1 | E60: Beton Plat | F60: 0-0.25 | G60: JN | H60: 0.8 | I60: 4.5 | J60: 5.5 | K60: 1 | L60: B | M60: T | N60: I | O60: 0 | P60: 0 | Q60: 0 | R60: M | S60: 0 | T60: LS | U60: B | V60: 0 | W60: B | X60: T | Y60: 0
D61: 2 | E61: Sumber | F61: 0.29 | G61: JN | H61: 3 | I61: 4.5 | J61: 5.5 | K61: 1 | L61: B | M61: T | N61: I | O61: 0 | P61: 0 | Q61: 0 | R61: M | S61: 0 | T61: LS | U61: B | V61: 0 | W61: B | X61: T | Y61: 0
D62: 3 | E62: Nglondong | F62: 0.5 | G62: JN | H62: 3 | I62: 4.5 | J62: 5.5 | K62: 1 | L62: B | M62: T | N62: I | O62: 0 | P62: 0 | Q62: 0 | R62: M | S62: 0 | T62: LS | U62: B | V62: 0 | W62: B | X62: T | Y62: 0
D63: 4 | E63: Gorong-gorong | F63: 1.5 | G63: JN | H63: 0.6 | I63: 4.5 | J63: 5.5 | K63: 1 | L63: B | M63: T | N63: I | O63: 0 | P63: 0 | Q63: 0 | R63: M | S63: 0 | T63: LS | U63: B | V63: 0 | W63: B | X63: T | Y63: 0
D64: 5 | E64: Gorong-gorong | F64: 1.9 | G64: JN | H64: 0.6 | I64: 4.5 | J64: 5.5 | K64: 1 | L64: B | M64: T | N64: I | O64: 0 | P64: 0 | Q64: 0 | R64: M | S64: 0 | T64: LS | U64: B | V64: 0 | W64: B | X64: T | Y64: 0
D65: 6 | E65: Gorong-gorong | F65: 2.25 | G65: JN | H65: 0.6 | I65: 4.5 | J65: 5.5 | K65: 1 | L65: B | M65: T | N65: I | O65: 0 | P65: 0 | Q65: 0 | R65: M | S65: 0 | T65: LS | U65: B | V65: 0 | W65: B | X65: T | Y65: 0
A66: IKHTISAR INVENTARISASI JEMBATAN
A67: PROPINSI | C67: : JAWA TIMUR (35) | X67: Hal | Y67: : 2
A68: KABUPATEN | C68: : PASURUAN (14) | X68: Dari | Y68: : 3
A69: KECAMATAN | C69: : TOSARI
A71: 217 | B71: 5.368 | C71: Tosari - Jetak | D71: 1 | E71: Jemb. Besi | F71: 0-0.233 | G71: JN | H71: 1.3 | I71: 6 | J71: 8 | K71: 1 | L71: B | M71: Y | N71: I | O71: 0 | P71: A | Q71: 0 | R71: M | S71: 0 | T71: LS | U71: B | V71: 0 | W71: B | X71: T | Y71: 0
D72: 2 | E72: Beton Plat | F72: 0.65 | G72: JN | H72: 1 | I72: 6 | J72: 8 | K72: 1 | L72: B | M72: T | N72: I | O72: 0 | P72: A | Q72: 0 | R72: M | S72: 0 | T72: LS | U72: B | V72: 0 | W72: B | X72: T | Y72: 0
D73: 3 | E73: Gorong-gorong | F73: 0.918 | G73: JN | H73: 0.6 | I73: 6 | J73: 8 | K73: 1 | L73: B | M73: V | N73: I | O73: 0 | P73: V | Q73: 0 | R73: S | S73: 0 | T73: LS | U73: B | V73: 0 | W73: B | X73: T | Y73: 0
D74: 4 | E74: Beton Plat | F74: 1.342 | G74: JN | H74: 0.85 | I74: 7.2 | J74: 9.2 | K74: 1 | L74: B | M74: T | N74: I | O74: 0 | P74: A | Q74: 0 | R74: M | S74: 0 | T74: LS | U74: B | V74: 0 | W74: B | X74: T | Y74: 0
D75: 5 | E75: Beton Plat (lengkung) | F75: 1.88 | G75: JN | H75: 3.6 | I75: 4.1 | J75: 5.1 | K75: 1 | L75: E | M75: T | N75: D | O75: 0 | P75: A | Q75: 0 | R75: M | S75: 0 | T75: LS | U75: B | V75: 0 | W75: B | X75: T | Y75: 0
D76: 6 | E76: Beton Plat (lengkung) | F76: 1.93 | G76: JN | H76: 3.6 | I76: 4.1 | J76: 5.1 | K76: 1 | L76: E | M76: T | N76: D | O76: 0 | P76: A | Q76: 0 | R76: M | S76: 0 | T76: LS | U76: B | V76: 0 | W76: B | X76: T | Y76: 0
D77: 7 | E77: Gorong-gorong | F77: 2.295 | G77: JN | H77: 0.6 | I77: 4.8 | J77: 5.8 | K77: 1 | L77: B | M77: T | N77: I | O77: 0 | P77: A | Q77: 0 | R77: M | S77: 0 | T77: LS | U77: B | V77: 0 | W77: B | X77: T | Y77: 0
D78: 8 | E78: Beton Plat | F78: 2.401 | G78: JN | H78: 0.6 | I78: 6.4 | J78: 8.4 | K78: 1 | L78: B | M78: T | N78: I | O78: 0 | P78: A | Q78: 0 | R78: M | S78: 0 | T78: LS | U78: B | V78: 0 | W78: B | X78: T | Y78: 0
D79: 9 | E79: Gorong-gorong
D80: 10 | E80: Gorong-gorong
D81: 11 | E81: Gorong-gorong
D82: 12 | E82: Gorong-gorong
A83: 90409 | B83: 3.109 | C83: Jetak - Sinogiri | D83: 1 | E83: Gorong-gorong | F83: 0-0.368 | G83: JN | H83: 0.6 | I83: 4.5 | J83: 5.5 | K83: 1 | L83: B | M83: V | N83: I | O83: 0 | P83: V | Q83: 0 | R83: S | S83: 0 | T83: LS | U83: B | V83: 0 | W83: B | X83: T | Y83: 0
D84: 2 | E84: Gorong-gorong | F84: 0.691 | G84: JN | H84: 0.6 | I84: 4.5 | J84: 5.5 | K84: 1 | L84: B | M84: V | N84: I | O84: 0 | P84: V | Q84: 0 | R84: M | S84: 0 | T84: LS | U84: B | V84: 0 | W84: B | X84: T | Y84: 0
D85: 3 | E85: Gorong-gorong (lengkung) | F85: 0.777 | G85: JN | H85: 1.5 | I85: 3.8 | J85: 4.8 | K85: 1 | L85: E | M85: V | N85: D | O85: 0 | P85: V | Q85: 0 | R85: S | S85: 0 | T85: LS | U85: B | V85: 0 | W85: B | X85: T | Y85: 0
D86: 4 | E86: Gorong-gorong (lengkung) | F86: 0.964 | G86: JN | H86: 2 | I86: 5 | J86: 7 | K86: 1 | L86: E | M86: V | N86: D | O86: 0 | P86: V | Q86: 0 | R86: S | S86: 0 | T86: LS | U86: B | V86: 0 | W86: B | X86: T | Y86: 0
D87: 5 | E87: Gorong-gorong (lengkung) | F87: 1.161 | G87: JN | H87: 2 | I87: 4 | J87: 5 | K87: 1 | L87: E | M87: V | N87: D | O87: 2 | P87: V | Q87: 2 | R87: S | S87: 2 | T87: LS | U87: B | V87: 2 | W87: B | X87: T | Y87: 2
D88: 6 | E88: Gorong-gorong | F88: 1.17 | G88: JN | H88: 0.6 | I88: 4 | J88: 5 | K88: 1 | L88: B | M88: V | N88: I | O88: 0 | P88: V | Q88: 0 | R88: S | S88: 0 | T88: LS | U88: B | V88: 0 | W88: B | X88: T | Y88: 0
D89: 7 | E89: Gorong-gorong | F89: 1.286 | G89: JN | H89: 0.6 | I89: 4 | J89: 5 | K89: 1 | L89: B | M89: V | N89: I | O89: 0 | P89: V | Q89: 0 | R89: S | S89: 0 | T89: LS | U89: B | V89: 0 | W89: B | X89: T | Y89: 0
D90: 8 | E90: Gorong-gorong
A91: 90406 | B91: 1.3 | C91: Jalan Lingkar - Ngadiwono | D91: 1 | E91: Jembatan | F91: 0-0.083 | G91: JN | H91: 3 | I91: 6 | J91: 8 | K91: 1 | L91: B | M91: T | N91: I | O91: 0 | P91: A | Q91: 0 | R91: M | S91: 0 | T91: LS | U91: B | V91: 0 | W91: B | X91: T | Y91: 0
D92: 2 | E92: Beton Plat (lengkung) | F92: 0.8 | G92: JN | H92: 2.5 | I92: 3.7 | J92: 4.7 | K92: 1 | L92: E | M92: T | N92: D | O92: 0 | P92: A | Q92: 0 | R92: M | S92: 0 | T92: LS | U92: B | V92: 0 | W92: B | X92: T | Y92: 0
D93: 3 | E93: Beton Plat | F93: 1.209 | G93: JN | H93: 0.8 | I93: 3 | J93: 4 | K93: 1 | L93: B | M93: T | N93: I | O93: 0 | P93: V | Q93: 0 | R93: M | S93: 0 | T93: LS | U93: B | V93: 0 | W93: B | X93: T | Y93: 0
D94: 4 | E94: Beton Plat | F94: 1.385 | G94: JN | H94: 1.9 | I94: 3 | J94: 4 | K94: 1 | L94: B | M94: T | N94: I | O94: 0 | P94: V | Q94: 0 | R94: M | S94: 0 | T94: LS | U94: B | V94: 0 | W94: B | X94: T | Y94: 0
A95: 187 | B95: 10.5 | C95: Ngadiwono - Palangsari | D95: 1 | E95: Gorong-gorong | F95: 0-0.3 | G95: JN | H95: 0.6 | I95: 6 | J95: 8 | K95: 1 | L95: B | M95: T | N95: I | O95: 0 | P95: 0 | Q95: 0 | R95: M | S95: 0 | T95: LS | U95: B | V95: 0 | W95: B | X95: T | Y95: 0
D96: 2 | E96: Gorong-gorong | F96: 0.55 | G96: JN | H96: 0.6 | I96: 6 | J96: 8 | K96: 1 | L96: B | M96: T | N96: I | O96: 0 | P96: 0 | Q96: 0 | R96: M | S96: 0 | T96: LS | U96: B | V96: 0 | W96: B | X96: T | Y96: 0
D97: 3 | E97: Gorong-gorong | F97: 1.1 | G97: JN | H97: 0.6 | I97: 6 | J97: 8 | K97: 1 | L97: B | M97: T | N97: I | O97: 0 | P97: 0 | Q97: 0 | R97: M | S97: 0 | T97: LS | U97: B | V97: 0 | W97: B | X97: T | Y97: 0
D98: 4 | E98: Jembatan | F98: 2.1 | G98: JN | H98: 12 | I98: 5 | J98: 7 | K98: 1 | L98: B | M98: T | N98: I | O98: 0 | P98: 0 | Q98: 0 | R98: M | S98: 0 | T98: LS | U98: B | V98: 0 | W98: B | X98: T | Y98: 0
D99: 5 | E99: Gorong-gorong | F99: 2.55 | G99: JN | H99: 0.6 | I99: 6 | J99: 8 | K99: 1 | L99: B | M99: T | N99: I | O99: 0 | P99: 0 | Q99: 0 | R99: M | S99: 0 | T99: LS | U99: B | V99: 0 | W99: B | X99: T | Y99: 0
D100: 6 | E100: Gorong-gorong | F100: 5.65 | G100: JN | H100: 0.6 | I100: 6 | J100: 8 | K100: 1 | L100: B | M100: T | N100: I | O100: 0 | P100: 0 | Q100: 0 | R100: M | S100: 0 | T100: LS | U100: B | V100: 0 | W100: B | X100: T | Y100: 0
A101: 90404 | B101: 2 | C101: Ngadiwono - Kertanom | D101: 1 | E101: Gorong-gorong | F101: 0.35 | G101: JN | H101: 0.6 | I101: 6 | J101: 8 | K101: 1 | L101: B | M101: T | N101: I | O101: 0 | P101: 0 | Q101: 0 | R101: M | S101: 0 | T101: LS | U101: B | V101: 0 | W101: B | X101: T | Y101: 0
D102: 2 | E102: Gorong-gorong | F102: 0.8 | G102: JN | H102: 0.6 | I102: 6 | J102: 8 | K102: 1 | L102: B | M102: T | N102: I | O102: 0 | P102: 0 | Q102: 0 | R102: M | S102: 0 | T102: LS | U102: B | V102: 0 | W102: B | X102: T | Y102: 0
...

Sheet Lumbang
A1: IKHTISAR INVENTARISASI JEMBATAN
A2: PROPINSI | C2: : JAWA TIMUR (35) | X2: Hal | Y2: : 1
A3: KABUPATEN | C3: : PASURUAN (14) | X3: Dari | Y3: : 4
A4: KECAMATAN | C4: : LUMBANG
A6: No. Ruas | B6: Panjang | C6: Nama Pangkal-Ujung Ruas (K1) | D6: No.Urut | E6: Nama Jembatan/Sungai (>=2,0 m) | F6: PAL km | G6: Tipe Penye-berangan | H6: Ukuran | L6: Tipe/ Kondisi (Gunakan Kode Standar di K10L)
B7: (km) | H7: Panjang (m) | I7: Lebar (m) | K7: Jumlah Bentang | L7: Bangunan Atas | P7: Lantai | R7: Sandaran | T7: Pondasi | W7: Kepala Jemb. & Pilar
I8: Jalur | J8: Total | L8: Tipe | M8: Bahan | N8: Asal | O8: Kond | P8: Bahan | Q8: Knd | R8: Bahan | S8: Kond | T8: Tipe | U8: Bahan | V8: Kond | W8: Tipe | X8: Bahan | Y8: Kond
D9: 1 | E9: 2 | F9: 3 | G9: 4 | H9: 5 | I9: 6.1 | J9: 6.2 | K9: 7 | L9: 8 | M9: 9 | N9: 10 | O9: 11 | P9: 12 | Q9: 13 | R9: 14 | S9: 15 | T9: 16 | U9: 17 | V9: 18 | W9: 19 | X9: 20 | Y9: 21
A10: 46 | B10: 6.3 | C10: Banyubiru - Lumbang | D10: 1 | E10: Banyubiru | F10: 0.2 | G10: JN | H10: 120 | I10: 7 | J10: =I10+2 -> 9 | K10: 1 | L10: P | M10: T | N10: I | O10: B | P10: G | R10: M | S10: B | T10: LS | W10: B
D11: 2 | E11: Kandar 1 | F11: 0.3 | G11: JN | H11: 120 | I11: 7.5 | J11: =I11+2 -> 9.5 | K11: 1 | L11: P | M11: T | N11: I | O11: B | P11: G | R11: M | S11: B | T11: LS | W11: B
D12: 3 | E12: Kandar 2 | F12: 0.4 | G12: JN | H12: 120 | I12: 7 | J12: =I12+2 -> 9 | K12: 1 | L12: P | M12: T | N12: I | O12: B | P12: G | R12: M | S12: B | T12: LS | W12: B
D13: 4 | E13: Bunot | F13: 1.1 | G13: JN | H13: 100 | I13: 9 | J13: =I13+2 -> 11 | K13: 1 | L13: E | M13: S | N13: I | O13: B | P13: G | R13: M | S13: B | T13: LS | W13: B
D14: 5 | E14: Jatim | F14: 2.2 | G14: JN | H14: 140 | I14: 5.5 | J14: =I14+2 -> 7.5 | K14: 1 | L14: P | M14: T | N14: I | O14: R | P14: G | R14: M | S14: B | T14: LS | W14: B
D15: 6 | E15: Watugede | F15: 2.5 | G15: JN | H15: 180 | I15: 7 | J15: =I15+2 -> 9 | K15: 1 | L15: P | M15: T | N15: I | O15: B | P15: G | R15: M | S15: B | T15: LS | W15: B
D16: 7 | E16: Bunakun | F16: 4.2 | G16: JN | H16: 150 | I16: 5.5 | J16: =I16+2 -> 7.5 | K16: 1 | L16: P | M16: T | N16: I | O16: B | P16: G | R16: M | S16: B | T16: LS | W16: B
D17: 8 | E17: Kantor Camat | F17: 4.9 | G17: JN | H17: 150 | I17: 6 | J17: =I17+2 -> 8 | K17: 1 | L17: P | M17: T | N17: I | O17: B | P17: G | R17: M | S17: B | T17: LS | W17: B
D18: 9 | E18: Seleb Batu | F18: 5 | G18: JN | H18: 140 | I18: 6 | J18: =I18+2 -> 8 | K18: 1 | L18: P | M18: T | N18: I | O18: B | P18: G | R18: M | S18: B | T18: LS | W18: B
D19: 10 | E19: Darmo | F19: 5.4 | G19: JN | H19: 140 | I19: 7 | J19: =I19+2 -> 9 | K19: 1 | L19: P | M19: T | N19: I | O19: B | P19: G | R19: M | S19: B | T19: LS | W19: B
D20: 11 | E20: Cikaran | F20: 5.5 | G20: JN | H20: 140 | I20: 5.5 | J20: =I20+2 -> 7.5 | K20: 1 | L20: P | M20: T | N20: I | O20: B | P20: G | R20: M | S20: B | T20: LS | W20: B
D21: 12 | E21: Watugede | F21: 5.5 | G21: JN | H21: 560 | I21: 5.8 | J21: =I21+2 -> 7.8 | K21: 1 | L21: P | M21: T | N21: I | O21: B | P21: G | R21: Y | S21: B | T21: LS | W21: B
D22: 13 | E22: Klosot | F22: 5.7 | G22: JN | H22: 540 | I22: 5.8 | J22: =I22+2 -> 7.8 | K22: 1 | L22: P | M22: T | N22: I | O22: B | P22: G | R22: Y | S22: R | T22: LS | W22: B
D23: 14 | E23: Waris | F23: 5.9 | G23: JN | H23: 140 | I23: 7 | J23: =I23+2 -> 9 | K23: 1 | L23: P | M23: T | N23: I | O23: B | P23: G | R23: M | S23: B | T23: LS | W23: B
A24: 48 | B24: 2.8 | C24: Panditan - Banjarimbo | D24: 1 | E24: Panditan | F24: 0.2 | G24: JN | H24: 1.2 | I24: 4.2 | J24: 5.2 | K24: 1 | L24: P | M24: T | N24: I | O24: B | P24: G | R24: M | S24: B | T24: LS | W24: B
D25: 2 | E25: Jagul 1 | F25: 0.7 | G25: JN | H25: 16 | I25: 4.5 | J25: 5.5 | K25: 2 | L25: P | M25: T | N25: I | O25: B | P25: G | R25: Y | S25: B | T25: LS | W25: B
D26: 3 | E26: Jagul 2 | F26: 1 | G26: JN | H26: 1.4 | I26: 6 | J26: =I26+2 -> 8 | K26: 1 | L26: P | M26: T | N26: I | O26: B | P26: G | R26: M | S26: B | T26: LS | W26: B
D27: 4 | E27: Jagul 3 | F27: 1.1 | G27: JN | H27: 1.4 | I27: 6 | J27: =I27+2 -> 8 | K27: 1 | L27: P | M27: T | N27: I | O27: B | P27: G | R27: M | S27: B | T27: LS | W27: B
D28: 5 | E28: Jagul 4 | F28: 1.6 | G28: JN | H28: 1.4 | I28: 5 | J28: =I28+2 -> 7 | K28: 1 | L28: P | M28: T | N28: I | O28: B | P28: G | R28: M | S28: B | T28: LS | W28: B
D29: 6 | E29: Kemamang 1 | F29: 1.6 | G29: JN | H29: 1.4 | I29: 5 | J29: =I29+2 -> 7 | K29: 1 | L29: P | M29: T | N29: I | O29: B | P29: G | R29: M | S29: B | T29: LS | W29: B
D30: 7 | E30: Huda | F30: 1.9 | G30: JN | H30: 1.8 | I30: 6 | J30: =I30+2 -> 8 | K30: 1 | L30: S | M30: T | N30: I | O30: R | P30: G | R30: M | S30: R | T30: LS | W30: B
D31: 8 | E31: Kemamang 2 | F31: 2.3 | G31: JN | H31: 3 | I31: 3.2 | J31: 4.2 | K31: 1 | L31: P | M31: T | N31: I | O31: R | P31: G | R31: M | S31: R | T31: LS | W31: B
D32: 9 | E32: Kemamang 3 | F32: 2.4 | G32: JN | H32: 1.2 | I32: 6 | J32: =I32+2 -> 8 | K32: 1 | L32: P | M32: T | N32: I | O32: B | P32: G | R32: M | S32: B | T32: LS | W32: B
D33: 10 | E33: Kemamang 4 | F33: 2.5 | G33: JN | H33: 1.4 | I33: 6 | J33: =I33+2 -> 8 | K33: 1 | L33: P | M33: T | N33: I | O33: B | P33: G | R33: M | S33: B | T33: LS | W33: B
A34: 61 | B34: 6.4 | C34: Lumbang - Panditan | D34: 1 | E34: Kuburan 1 | F34: 0.2 | G34: JN | H34: 1.2 | I34: 6 | J34: =I34+2 -> 8 | K34: 1 | L34: P | M34: T | N34: I | O34: B | P34: G | R34: M | S34: B | T34: LS | W34: B
D35: 2 | E35: Kuburan 2 | F35: 0.3 | G35: JN | H35: 1.4 | I35: 6 | J35: =I35+2 -> 8 | K35: 1 | L35: P | M35: T | N35: I | O35: B | P35: G | R35: M | S35: B | T35: LS | W35: B
D36: 3 | E36: Kuburan 3 | F36: 0.4 | G36: JN | H36: 1.4 | I36: 6 | J36: =I36+2 -> 8 | K36: 1 | L36: P | M36: T | N36: I | O36: B | P36: G | R36: M | S36: B | T36: LS | W36: B
D37: 4 | E37: Sidah | F37: 0.7 | G37: JN | H37: 1.4 | I37: 7.5 | J37: =I37+2 -> 9.5 | K37: 1 | L37: P | M37: T | N37: I | O37: B | P37: G | R37: M | S37: B | T37: LS | W37: B
D38: 5 | E38: Kasumo | F38: 0.8 | G38: JN | H38: 1.4 | I38: 6 | J38: =I38+2 -> 8 | K38: 1 | L38: P | M38: T | N38: I | O38: B | P38: G | R38: M | S38: B | T38: LS | W38: B
D39: 6 | E39: Tiari 1 | F39: 1 | G39: JN | H39: 3.9 | I39: 6.5 | J39: =I39+2 -> 8.5 | K39: 1 | L39: P | M39: T | N39: I | O39: B | P39: G | R39: Y | S39: B | T39: LS | W39: B
D40: 7 | E40: Tiari 2 | F40: 1.1 | G40: JN | H40: 1.4 | I40: 6 | J40: =I40+2 -> 8 | K40: 1 | L40: P | M40: T | N40: I | O40: B | P40: G | R40: M | S40: B | T40: LS | W40: B
D41: 8 | E41: Liprak | F41: 1.3 | G41: JN | H41: 9.8 | I41: 6 | J41: =I41+2 -> 8 | K41: 1 | L41: P | M41: T | N41: I | O41: B | P41: G | R41: Y | S41: B | T41: LS | W41: B
D42: 9 | E42: SD Barat | F42: 1.8 | G42: JN | H42: 1.2 | I42: 6 | J42: =I42+2 -> 8 | K42: 1 | L42: P | M42: T | N42: I | O42: B | P42: G | R42: M | S42: B | T42: LS | W42: B
D43: 10 | E43: Sirat | F43: 1.9 | G43: JN | H43: 1.2 | I43: 6 | J43: =I43+2 -> 8 | K43: 1 | L43: P | M43: T | N43: I | O43: B | P43: G | R43: M | S43: B | T43: LS | W43: B
D44: 11 | E44: Sekunyit | F44: 2.1 | G44: JN | H44: 16.5 | I44: 3.5 | J44: 4.5 | K44: 2 | L44: P | M44: T | N44: I | O44: B | P44: G | R44: Y | S44: R | T44: LS | V44: R | W44: R
D45: 12 | E45: Jakariyah | F45: 2.2 | G45: JN | H45: 1.4 | I45: 6 | J45: =I45+2 -> 8 | K45: 1 | L45: P | M45: T | N45: I | O45: B | P45: G | R45: M | S45: B | T45: LS | V45: B | W45: B
D46: 13 | E46: Gondang | F46: 2.5 | G46: JN | H46: 1.8 | I46: 4.5 | J46: =I46+2 -> 6.5 | K46: 1 | L46: P | M46: T | N46: I | O46: B | P46: G | R46: M | S46: B | T46: LS | V46: B | W46: B
D47: 14 | E47: Mu'adi | F47: 2.7 | G47: JN | H47: 1.2 | I47: 6 | J47: =I47+2 -> 8 | K47: 1 | L47: P | M47: T | N47: I | O47: B | P47: G | R47: M | S47: B | T47: LS | V47: B | W47: B
D48: 15 | E48: Jabon | F48: 2.9 | G48: JN | H48: 10 | I48: 5.5 | J48: =I48+2 -> 7.5 | K48: 1 | L48: P | M48: T | N48: I | O48: B | P48: G | R48: Y | S48: B | T48: LS | V48: B | W48: B
D49: 16 | E49: Jolik | F49: 3.2 | G49: JN | H49: 1.2 | I49: 6 | J49: =I49+2 -> 8 | K49: 1 | L49: P | M49: T | N49: I | O49: B | P49: G | R49: M | S49: B | T49: LS | V49: B | W49: B
D50: 17 | E50: Jajang | F50: 3.4 | G50: JN | H50: 1.2 | I50: 6 | J50: =I50+2 -> 8 | K50: 1 | L50: P | M50: T | N50: I | O50: B | P50: G | R50: M | S50: B | T50: LS | V50: B | W50: B
D51: 18 | E51: Suci | F51: 3.6 | G51: JN | H51: 4.2 | I51: 3.8 | J51: 4.8 | K51: 1 | L51: P | M51: T | N51: I | O51: B | P51: G | R51: Y | S51: B | T51: LS | V51: B | W51: B
D52: 19 | E52: Ploso | F52: 3.9 | G52: JN | H52: 4.2 | I52: 4 | J52: 5 | K52: 1 | L52: P | M52: T | N52: I | O52: B | P52: G | R52: M | S52: B | T52: LS | V52: B | W52: B
D53: 20 | E53: Watuudel | F53: 4.1 | G53: JN | H53: 1.8 | I53: 7 | J53: =I53+2 -> 9 | K53: 1 | L53: P | M53: T | N53: I | O53: B | P53: G | R53: M | S53: B | T53: LS | V53: B | W53: B
A54: IKHTISAR INVENTARISASI JEMBATAN
A55: PROPINSI | C55: : JAWA TIMUR (35) | X55: Hal | Y55: : 2
A56: KABUPATEN | C56: : PASURUAN (14) | X56: Dari | Y56: : 4
A57: KECAMATAN | C57: : LUMBANG
A59: No. Ruas | B59: Panjang | C59: Nama Pangkal-Ujung Ruas (K1) | D59: No.Urut | E59: Nama Jembatan/Sungai (>=2,0 m) | F59: PAL km | G59: Tipe Penye-berangan | H59: Ukuran | L59: Tipe/ Kondisi (Gunakan Kode Standar di K10L)
B60: (km) | H60: Panjang (m) | I60: Lebar (m) | K60: Jumlah Bentang | L60: Bangunan Atas | P60: Lantai | R60: Sandaran | T60: Pondasi | W60: Kepala Jemb. & Pilar
I61: Jalur | J61: Total | L61: Tipe | M61: Bahan | N61: Asal | O61: Kond | P61: Bahan | Q61: Knd | R61: Bahan | S61: Kond | T61: Tipe | U61: Bahan | V61: Kond | W61: Tipe | X61: Bahan | Y61: Kond
D62: 1 | E62: 2 | F62: 3 | G62: 4 | H62: 5 | I62: 6.1 | J62: 6.2 | K62: 7 | L62: 8 | M62: 9 | N62: 10 | O62: 11 | P62: 12 | Q62: 13 | R62: 14 | S62: 15 | T62: 16 | U62: 17 | V62: 18 | W62: 19 | X62: 20 | Y62: 21
A63: 62 | B63: 5.4 | C63: Lumbang - Kronto | D63: 1 | E63: Emul | F63: 0 | G63: JN | H63: 180 | I63: 5 | J63: =I63+2 -> 7 | K63: 1 | L63: P | M63: T | N63: I | O63: B | P63: G | R63: Y | S63: B | T63: LS | W63: B
D64: 2 | E64: Sa'ut | F64: 0.1 | G64: JN | H64: 140 | I64: 5 | J64: =I64+2 -> 7 | K64: 1 | L64: P | M64: T | N64: I | O64: B | P64: G | R64: M | S64: B | T64: LS | W64: B
D65: 3 | E65: Blumbang | F65: 0.3 | G65: JN | H65: 140 | I65: 5 | J65: =I65+2 -> 7 | K65: 1 | L65: P | M65: T | N65: I | O65: B | P65: G | R65: M | S65: B | T65: LS | W65: B
D66: 4 | E66: Sumber 1 | F66: 0.6 | G66: JN | H66: 140 | I66: 6 | J66: =I66+2 -> 8 | K66: 1 | L66: P | M66: T | N66: I | O66: B | P66: G | R66: M | S66: B | T66: LS | W66: B
D67: 5 | E67: Sumber 2 | F67: 0.6 | G67: JN | H67: 140 | I67: 5 | J67: =I67+2 -> 7 | K67: 1 | L67: P | M67: T | N67: I | O67: B | P67: G | R67: M | S67: B | T67: LS | W67: B
D68: 6 | E68: Trembes | F68: 1.1 | G68: JN | H68: 520 | I68: 3.5 | J68: 4.5 | K68: 1 | L68: P | M68: T | N68: I | O68: B | P68: G | R68: Y | S68: B | T68: LS | W68: B
D69: 7 | E69: Tengger | F69: 1.1 | G69: JN | H69: 19 | I69: 3.5 | J69: 4.5 | K69: 2 | L69: P | M69: T | N69: I | O69: B | P69: G | R69: Y | S69: B | T69: LS | W69: B
D70: 8 | E70: Japar | F70: 2.4 | G70: JN | H70: 140 | I70: 5 | J70: =I70+2 -> 7 | K70: 1 | L70: P | M70: T | N70: I | O70: B | P70: G | R70: M | S70: B | T70: LS | W70: B
D71: 9 | E71: Jono | F71: 2.7 | G71: JN | H71: 520 | I71: 4 | J71: 5 | K71: 1 | L71: P | M71: T | N71: I | O71: B | P71: G | R71: Y | S71: B | T71: LS | W71: B
D72: 10 | E72: Kepel 1 | F72: 2.8 | G72: JN | H72: 140 | I72: 4 | J72: 5 | K72: 1 | L72: P | M72: T | N72: I | O72: B | P72: G | R72: M | S72: B | T72: LS | W72: B
D73: 11 | E73: Kepel 2 | F73: 3 | G73: JN | H73: 340 | I73: 3.5 | J73: 4.5 | K73: 1 | L73: P | M73: T | N73: I | O73: B | P73: G | R73: Y | S73: R | T73: LS | W73: B
D74: 12 | E74: Sumber Pancur | F74: 3.1 | G74: JN | H74: 340 | I74: 7 | J74: =I74+2 -> 9 | K74: 1 | L74: P | M74: T | N74: I | O74: B | P74: G | R74: M | S74: B | T74: LS | W74: B
D75: 13 | E75: Kuburan Pancur | F75: 3.4 | G75: JN | H75: 1 | I75: 1 | J75: 2 | K75: 1 | L75: P | M75: T | N75: I | O75: B | P75: G | R75: M | S75: B | T75: LS | W75: B
D76: 14 | E76: Gading | F76: 3.6 | G76: JN | H76: 8.2 | I76: 5.2 | J76: =I76+2 -> 7.2 | K76: 1 | L76: P | M76: T | N76: I | O76: B | P76: G | R76: Y | S76: B | T76: LS | W76: B
D77: 15 | E77: Ndawung | F77: 3.9 | G77: JN | H77: 3 | I77: 5.2 | J77: =I77+2 -> 7.2 | K77: 1 | L77: P | M77: T | N77: I | O77: B | P77: G | R77: M | S77: B | T77: LS | W77: B
D78: 16 | E78: Kloncing 1 | F78: 4 | G78: JN | H78: 1.4 | I78: 5.2 | J78: =I78+2 -> 7.2 | K78: 1 | L78: P | M78: T | N78: I | O78: B | P78: G | R78: M | S78: B | T78: LS | W78: B
D79: 17 | E79: Kloncing 2 | F79: 4 | G79: JN | H79: 1.4 | I79: 5.2 | J79: =I79+2 -> 7.2 | K79: 1 | L79: P | M79: T | N79: I | O79: B | P79: G | R79: M | S79: B | T79: LS | W79: B
D80: 18 | E80: Kloncing 3 | F80: 4.1 | G80: JN | H80: 1.4 | I80: 5.2 | J80: =I80+2 -> 7.2 | K80: 1 | L80: P | M80: T | N80: I | O80: B | P80: G | R80: M | S80: B | T80: LS | W80: B
D81: 19 | E81: Waringin | F81: 4.1 | G81: JN | H81: 1.4 | I81: 5.2 | J81: =I81+2 -> 7.2 | K81: 1 | L81: P | M81: T | N81: I | O81: B | P81: G | R81: M | S81: B | T81: LS | W81: B
D82: 20 | E82: Klesem 1 | F82: 4.1 | G82: JN | H82: 10.5 | I82: 5 | J82: =I82+2 -> 7 | K82: 2 | L82: P | M82: T | N82: I | O82: B | P82: G | R82: Y | S82: B | T82: LS | W82: B
D83: 21 | E83: Klesem 2 | F83: 4.2 | G83: JN | H83: 1.4 | I83: 5 | J83: =I83+2 -> 7 | K83: 1 | L83: P | M83: T | N83: I | O83: B | P83: G | R83: M | S83: R | T83: LS | W83: B
D84: 22 | E84: Klesem 3 | F84: 4.3 | G84: JN | H84: 1.4 | I84: 5 | J84: =I84+2 -> 7 | K84: 1 | L84: P | M84: T | N84: I | O84: B | P84: G | R84: M | S84: S | T84: LS | W84: B
D85: 23 | E85: Klesem 4 | F85: 4.4 | G85: JN | H85: 1.2 | I85: 5 | J85: =I85+2 -> 7 | K85: 1 | L85: P | M85: T | N85: I | O85: B | P85: G | R85: M | S85: B | T85: LS | W85: B
D86: 24 | E86: Durin | F86: 4.4 | G86: JN | H86: 1.4 | I86: 5 | J86: =I86+2 -> 7 | K86: 1 | L86: P | M86: T | N86: I | O86: B | P86: G | R86: M | S86: B | T86: LS | W86: B
D87: 25 | E87: Nariati | F87: 4.5 | G87: JN | H87: 1.4 | I87: 5 | J87: =I87+2 -> 7 | K87: 1 | L87: P | M87: T | N87: I | O87: B | P87: G | R87: M | S87: B | T87: LS | W87: B
D88: 26 | E88: Cedam 1 | F88: 4.6 | G88: JN | H88: 1.4 | I88: 5 | J88: =I88+2 -> 7 | K88: 1 | L88: P | M88: T | N88: I | O88: B | P88: G | R88: M | S88: B | T88: LS | W88: B
D89: 27 | E89: Cedam 2 | F89: 4.7 | G89: JN | H89: 1.4 | I89: 4.2 | J89: 5.2 | K89: 1 | L89: P | M89: T | N89: I | O89: B | P89: G | R89: M | S89: B | T89: LS | W89: B
D90: 28 | E90: Cedam 3 | F90: 4.8 | G90: JN | H90: 1.2 | I90: 4 | J90: 5 | K90: 1 | L90: P | M90: T | N90: I | O90: B | P90: G | R90: M | S90: B | T90: LS | W90: B
D91: 29 | E91: Petung | F91: 5 | G91: JN | H91: 3.4 | I91: 5 | J91: =I91+2 -> 7 | K91: 1 | L91: P | M91: T | N91: I | O91: B | P91: G | R91: Y | S91: R | T91: LS | W91: B
D92: 30 | E92: Jring | F92: 5.1 | G92: JN | H92: 1.8 | I92: 5 | J92: =I92+2 -> 7 | K92: 1 | L92: P | M92: T | N92: I | O92: B | P92: G | R92: Y | S92: B | T92: LS | W92: B
D93: 31 | E93: Sokeh | F93: 5.2 | G93: JN | H93: 5.5 | I93: 5 | J93: =I93+2 -> 7 | K93: 1 | L93: P | M93: T | N93: I | O93: B | P93: G | R93: Y | S93: B | T93: LS | W93: B
D94: 32 | E94: Kronto | F94: 5.3 | G94: JN | H94: 1.4 | I94: 6 | J94: =I94+2 -> 8 | K94: 1 | L94: P | M94: T | N94: I | O94: B | P94: G | R94: M | S94: B | T94: LS | W94: B
A95: 63 | C95: Pancur - Wonorejo | D95: 1 | E95: Petungroto 1 | F95: 0.2 | G95: JN | H95: 1 | I95: 5 | J95: =I95+2 -> 7 | K95: 1 | L95: P | M95: T | N95: I | O95: B | P95: G | R95: M | W95: B
D96: 2 | E96: Petungroto 2 | F96: 0.3 | G96: JN | H96: 1.8 | I96: 4.2 | J96: 5.2 | K96: 1 | L96: P | M96: T | N96: I | O96: B | P96: G | R96: M | W96: B
D97: 3 | E97: Petungroto 3 | F97: 0.6 | G97: JN | H97: 1.4 | I97: 4.2 | J97: 5.2 | K97: 1 | L97: P | M97: T | N97: I | O97: B | P97: G | R97: M | W97: B
D98: 4 | E98: Ngepoh | F98: 0.9 | G98: JN | H98: 6.5 | I98: 4.2 | J98: 5.2 | K98: 1 | L98: P | M98: T | N98: I | O98: B | P98: G | R98: Y | W98: B
A99: 79 | B99: 45 | C99: Banjarimbo - Welulang | D99: 1 | E99: Gadung 1 | F99: 0 | G99: JN | H99: 1.4 | I99: 6 | J99: =I99+2 -> 8 | K99: 1 | L99: P | M99: T | N99: I | O99: B | P99: G | R99: M | S99: B | T99: LS | W99: B
D100: 2 | E100: Gadung 2 | F100: 0.4 | G100: JN | H100: 1.4 | I100: 6 | J100: =I100+2 -> 8 | K100: 1 | L100: P | M100: T | N100: I | O100: B | P100: G | R100: M | S100: B | T100: LS | W100: B
D101: 3 | E101: Gadung 3 | F101: 1.7 | G101: JN | H101: 2.5 | I101: 4.5 | J101: 5.5 | K101: 1 | L101: P | M101: T | N101: I | O101: B | P101: G | R101: M | S101: B | T101: LS | W101: B
D102: 4 | E102: Sidodadi | F102: 3.7 | G102: JN | H102: 3 | I102: 5 | J102: =I102+2 -> 7 | K102: 1 | L102: P | M102: T | N102: I | O102: B | P102: G | R102: M | S102: B | T102: LS | W102: B
...

Sheet Pasrepan
A1: IKHTISAR INVENTARISASI JEMBATAN
A2: PROPINSI | C2: : JAWA TIMUR (35) | X2: Hal | Y2: : 1
A3: KABUPATEN | C3: : PASURUAN (14) | X3: Dari | Y3: : 1
A4: KECAMATAN | C4: : PASREPAN
A6: No. Ruas | B6: Panjang | C6: Nama Pangkal-Ujung Ruas (K1) | D6: No.Urut | E6: Nama Jembatan/Sungai (>=2,0 m) | F6: PAL km | G6: Tipe Penye-berangan | H6: Ukuran | L6: Tipe/ Kondisi (Gunakan Kode Standar di K10L)
B7: (km) | H7: Panjang (m) | I7: Lebar | K7: Jumlah Bentang | L7: Bangunan Atas | P7: Lantai | R7: Sandaran | T7: Pondasi | W7: Kepala Jemb. & Pilar
I8: Jalur | J8: Total | L8: Tipe | M8: Bahan | N8: Asal | O8: Kond | P8: Bahan | Q8: Knd | R8: Bahan | S8: Kond | T8: Tipe | U8: Bahan | V8: Kond | W8: Tipe | X8: Bahan | Y8: Kond
D9: 1 | E9: 2 | F9: 3 | G9: 4 | H9: 5 | I9: 6.1 | J9: 6.2 | K9: 7 | L9: 8 | M9: 9 | N9: 10 | O9: 11 | P9: 12 | Q9: 13 | R9: 14 | S9: 15 | T9: 16 | U9: 17 | V9: 18 | W9: 19 | X9: 20 | Y9: 21
A10: 101 | B10: 3.5 | C10: Kemiri - Ampelsari | D10: 1 | E10: SMP | F10: 0.1 | G10: JN | H10: 1 | I10: 5 | J10: 7 | K10: 1 | L10: D | M10: T | N10: I | O10: 0 | P10: T | Q10: 0 | R10: M | S10: 0 | T10: LS | U10: M | V10: 0 | W10: A | X10: T | Y10: 0
D11: 2 | E11: Kali Besar | F11: 0.2 | G11: JN | H11: 1 | I11: 5 | J11: 8 | K11: 1 | L11: D | M11: T | N11: I | O11: 0 | P11: T | Q11: 0 | R11: M | S11: 0 | T11: LS | U11: M | V11: 0 | W11: A | X11: T | Y11: 0
D12: 3 | E12: Kali Mati | F12: 0.3 | G12: JN | H12: 1 | I12: 5 | J12: 6 | K12: 1 | L12: D | M12: T | N12: I | O12: 0 | P12: T | Q12: 0 | R12: M | S12: 0 | T12: LS | U12: M | V12: 0 | W12: A | X12: T | Y12: 0
D13: 4 | E13: SD | F13: 0.4 | G13: JN | H13: 1 | I13: 5 | J13: 7 | K13: 1 | L13: D | M13: T | N13: I | O13: 0 | P13: T | Q13: 0 | R13: M | S13: 0 | T13: LS | U13: M | V13: 0 | W13: A | X13: T | Y13: 0
D14: 5 | E14: Mushala | F14: 0.5 | G14: JN | H14: 1 | I14: 5 | J14: 7 | K14: 1 | L14: D | M14: T | N14: I | O14: 0 | P14: T | Q14: 0 | R14: M | S14: 0 | T14: LS | U14: M | V14: 0 | W14: A | X14: T | Y14: 0
D15: 6 | E15: Pondok | F15: 0.5 | G15: JN | H15: 1 | I15: 5 | J15: 7 | K15: 1 | L15: D | M15: T | N15: I | O15: 0 | P15: T | Q15: 0 | R15: M | S15: 0 | T15: LS | U15: M | V15: 0 | W15: A | X15: T | Y15: 0
A16: 6095 | B16: 1.5 | C16: Ngepoh - Pasrepan | D16: 1 | E16: SD | F16: 0.1 | G16: JN | H16: 1 | I16: 5 | J16: 7 | K16: 1 | L16: D | M16: T | N16: I | O16: 0 | P16: T | Q16: 0 | R16: Y | S16: 0 | T16: LS | U16: M | V16: 0 | W16: A | X16: T | Y16: 0
D17: 2 | E17: Mushala | F17: 0.2 | G17: JN | H17: 1 | I17: 5 | J17: 7 | K17: 1 | L17: D | M17: T | N17: I | O17: 0 | P17: T | Q17: 0 | R17: M | S17: 0 | T17: LS | U17: M | V17: 0 | W17: A | X17: T | Y17: 0
D18: 3 | E18: Kios Bensin | F18: 0.3 | G18: JN | H18: 1 | I18: 5 | J18: 6 | K18: 1 | L18: D | M18: T | N18: I | O18: 0 | P18: T | Q18: 0 | R18: M | S18: 0 | T18: LS | U18: M | V18: 0 | W18: A | X18: T | Y18: 0
D19: 4 | E19: Pasar Buah | F19: 0.4 | G19: JN | H19: 1 | I19: 5 | J19: 5 | K19: 1 | L19: D | M19: T | N19: I | O19: 0 | P19: T | Q19: 0 | R19: M | S19: 0 | T19: LS | U19: M | V19: 0 | W19: A | X19: T | Y19: 0
A20: 90603 | B20: 3.5 | C20: Sapulante - Tempuran | D20: 1 | E20: Pertigaan | F20: 0.1 | G20: JN | H20: 1 | I20: 5 | J20: 6 | K20: 1 | L20: D | M20: T | N20: I | O20: 0 | P20: T | Q20: 0 | R20: M | S20: 0 | T20: LS | U20: M | V20: 0 | W20: A | X20: T | Y20: 0
D21: 2 | E21: Kali Mati | F21: 0.2 | G21: JN | H21: 1 | I21: 5 | J21: 6 | K21: 1 | L21: D | M21: T | N21: I | O21: 0 | P21: T | Q21: 0 | R21: M | S21: 0 | T21: LS | U21: M | V21: 0 | W21: A | X21: T | Y21: 0
D22: 3 | E22: Prodo | F22: 0.3 | G22: JN | H22: 1 | I22: 5 | J22: 7 | K22: 1 | L22: D | M22: T | N22: I | O22: 0 | P22: T | Q22: 0 | R22: M | S22: 0 | T22: LS | U22: M | V22: 0 | W22: A | X22: T | Y22: 0
D23: 4 | E23: Masjid | F23: 0.4 | G23: JN | H23: 1 | I23: 5 | J23: 6 | K23: 1 | L23: D | M23: T | N23: I | O23: 0 | P23: T | Q23: 0 | R23: M | S23: 0 | T23: LS | U23: M | V23: 0 | W23: A | X23: T | Y23: 0
D24: 5 | E24: Madrasah | F24: 0.5 | G24: JN | H24: 1 | I24: 5 | J24: 7 | K24: 1 | L24: D | M24: T | N24: I | O24: 0 | P24: T | Q24: 0 | R24: M | S24: 0 | T24: LS | U24: M | V24: 0 | W24: A | X24: T | Y24: 0
A25: 35 | B25: 7 | C25: Poh Gading - Bayeman | D25: 1 | E25: Kali Mati | F25: 0.1 | G25: JN | H25: 1 | I25: 5 | J25: 7 | K25: 1 | L25: D | M25: 1 | N25: I | O25: 0 | P25: T | Q25: 0 | R25: M | S25: 0 | T25: LS | U25: M | V25: 0 | W25: A | X25: T | Y25: 0
D26: 2 | E26: Selep | F26: 0.2 | G26: JN | H26: 1 | I26: 5 | J26: 6 | K26: 1 | L26: D | M26: 1 | N26: I | O26: 0 | P26: T | Q26: 0 | R26: M | S26: 0 | T26: LS | U26: M | V26: 0 | W26: A | X26: T | Y26: 0
D27: 3 | E27: Pasar | F27: 0.3 | G27: JN | H27: 1 | I27: 5 | J27: 7 | K27: 1 | L27: D | M27: 1 | N27: I | O27: 0 | P27: T | Q27: 0 | R27: Y | S27: 0 | T27: LS | U27: M | V27: 0 | W27: A | X27: T | Y27: 0
D28: 4 | E28: Bayeman | F28: 0.4 | G28: JN | H28: 1 | I28: 5 | J28: 8 | K28: 1 | L28: D | M28: 1 | N28: I | O28: 0 | P28: T | Q28: 0 | R28: Y | S28: 0 | T28: LS | U28: M | V28: 0 | W28: A | X28: T | Y28: 0
A29: 169 | B29: 9 | C29: Kedung pengaron - Sapulate | D29: 1 | E29: Kali Mati | F29: 0.1 | G29: JN | H29: 1 | I29: 5 | J29: 7 | K29: 1 | L29: D | M29: T | N29: I | O29: 0 | P29: T | Q29: 0 | R29: M | S29: 0 | T29: LS | U29: M | V29: 0 | W29: A | X29: T | Y29: 0
D30: 2 | E30: Impres | F30: 0.2 | G30: JN | H30: 1 | I30: 5 | J30: 7 | K30: 1 | L30: D | M30: T | N30: I | O30: 0 | P30: T | Q30: 0 | R30: M | S30: 0 | T30: LS | U30: M | V30: 0 | W30: A | X30: T | Y30: 0
D31: 3 | E31: Madrasah | F31: 0.3 | G31: JN | H31: 1 | I31: 5 | J31: 6 | K31: 1 | L31: D | M31: T | N31: I | O31: 0 | P31: T | Q31: 0 | R31: y | S31: 0 | T31: LS | U31: M | V31: 0 | W31: A | X31: T | Y31: 0
D32: 4 | E32: Mushala | F32: 0.4 | G32: JN | H32: 1 | I32: 5 | J32: 7 | K32: 1 | L32: D | M32: T | N32: I | O32: 0 | P32: T | Q32: 0 | R32: y | S32: 0 | T32: LS | U32: M | V32: 0 | W32: A | X32: T | Y32: 0
D33: 5 | E33: Kali Mati | F33: 0.5 | G33: JN | H33: 1 | I33: 5 | J33: 7 | K33: 1 | L33: D | M33: T | N33: I | O33: 0 | P33: T | Q33: 0 | R33: y | S33: 0 | T33: LS | U33: M | V33: 0 | W33: A | X33: T | Y33: 0
D34: 6 | E34: Selep | F34: 0.6 | G34: JN | H34: 1 | I34: 5 | J34: 7 | K34: 1 | L34: D | M34: T | N34: I | O34: 0 | P34: T | Q34: 0 | R34: M | S34: 0 | T34: LS | U34: M | V34: 0 | W34: A | X34: T | Y34: 0
D35: 7 | E35: Ampel sari | F35: 0.7 | G35: JN | H35: 1 | I35: 5 | J35: 6 | K35: 1 | L35: D | M35: T | N35: I | O35: 0 | P35: T | Q35: 0 | R35: M | S35: 0 | T35: LS | U35: M | V35: 0 | W35: A | X35: T | Y35: 0
D36: 8 | E36: Ampel sari | F36: 0.8 | G36: JN | H36: 1 | I36: 5 | J36: 7 | K36: 1 | L36: D | M36: T | N36: I | O36: 0 | P36: T | Q36: 0 | R36: M | S36: 0 | T36: LS | U36: M | V36: 0 | W36: A | X36: T | Y36: 0
A37: 66 | B37: 10.5 | C37: Kudu - Pasrepan | D37: 1 | E37: Gorong-gorong Poh Gedang /12 | F37: 0.2 | G37: JN | H37: 1 | I37: 5 | J37: 5 | K37: 1 | L37: D | M37: T | N37: I | O37: 0 | P37: T | Q37: 0 | R37: M | S37: 0 | T37: LS | U37: M | V37: 0 | W37: A | X37: T | Y37: 0
D38: 2 | E38: Jembatan Poh Gedang/13 | F38: 1.3 | G38: JN | H38: 4 | I38: 5 | J38: 4 | K38: 1 | L38: D | M38: T | N38: I | O38: 0 | P38: T | Q38: 0 | R38: M | S38: 0 | T38: LS | U38: M | V38: 0 | W38: A | X38: T | Y38: 0
D39: 3 | E39: Gorong-gorong Poh Gedang /14 | F39: 2.1 | G39: JN | H39: 2 | I39: 5 | J39: 5 | K39: 1 | L39: D | M39: T | N39: I | O39: 0 | P39: T | Q39: 0 | R39: M | S39: 0 | T39: LS | U39: M | V39: 0 | W39: A | X39: T | Y39: 0
A40: 66 | B40: 10.5 | C40: Kudu - Pasrepan | D40: 1 | E40: Jembatan Sumber Pitu | F40: 0.1 | G40: JN | H40: 1 | I40: 4.6 | J40: 8 | K40: 1 | L40: 0 | M40: M | N40: 2 | O40: R | P40: T | Q40: 0 | R40: M | S40: 0 | T40: LS | U40: M | V40: 0 | W40: A | X40: T | Y40: 0
D41: 2 | E41: Tempuran/1/Gorong-gorong | F41: 0.1 | G41: JN | H41: 1 | I41: 5 | J41: 5 | K41: 1 | L41: 0 | M41: M | N41: 2 | O41: 0 | P41: T | Q41: 0 | R41: M | S41: 0 | T41: LS | U41: M | V41: 0 | W41: A | X41: T | Y41: 0
D42: 3 | E42: Tempuran/Kejuron | F42: 0.1 | G42: JN | H42: 1 | I42: 5 | J42: 10 | K42: 1
D43: 4 | E43: Kejuron 2 | F43: 0.1 | G43: JN | H43: 2 | I43: 5 | J43: 2 | K43: 1 | O43: 0
D44: 5 | E44: Ampel sari 1 | G44: JN | H44: 4 | I44: 5 | J44: 5 | O44: 0
D45: 6 | E45: Gorong - Gorong Ampelsari 2 | G45: JN | H45: 1 | I45: 5 | J45: 5
D46: 7 | E46: Gorong - Gorong Ampelsari 3 | G46: JN | H46: 1 | I46: 5 | J46: 5
D47: 8 | E47: Ampelsari perbatasan | G47: JN | H47: 5 | I47: 5 | J47: 5 | O47: R
A48: 66 | B48: 10.5 | C48: Kudu - Pasrepan | D48: 1 | E48: Poh Gedang / 1/ Gorong-gorong | H48: 1 | I48: 5 | J48: 5 | K48: 1 | L48: D | M48: T | N48: I | O48: 0 | P48: T | Q48: 0 | R48: M | S48: 0 | T48: LS | U48: M | V48: 0 | W48: A | X48: T | Y48: 0
D49: 2 | E49: Gorong-gorong Poh Gedang 2 | H49: 1 | I49: 5 | J49: 5 | K49: 1 | L49: D | M49: T | N49: I | O49: 0 | P49: T | Q49: 0 | R49: M | S49: 0 | T49: LS | U49: M | V49: 0 | W49: A | X49: T | Y49: 0
D50: 3 | E50: Gorong-gorong Poh Gedang 3 | H50: 1 | I50: 5 | J50: 5 | K50: 1 | L50: D | M50: T | N50: I | O50: 0 | P50: T | Q50: 0 | R50: M | S50: 0 | T50: LS | U50: M | V50: 0 | W50: A | X50: T | Y50: 0
D51: 4 | E51: Jembatan Poh Gedang/4 | H51: 5 | I51: 5 | J51: 7 | K51: 1 | L51: D | M51: T | N51: I | O51: 0 | P51: T | Q51: 0 | R51: M | S51: 0 | T51: LS | U51: M | V51: 0 | W51: A | X51: T | Y51: 0
D52: 5 | E52: Jembatan Poh Gedang/5 | H52: 35 | I52: 9 | J52: 35 | K52: 1 | L52: D | M52: B | N52: I | O52: 0 | P52: T | Q52: 0 | R52: B | S52: 0 | T52: LS | U52: M | V52: 0 | W52: LS | X52: M | Y52: 0
D53: 6 | E53: Jembatan Poh Gedang/6 | H53: 1 | I53: 5 | J53: 5 | K53: 1 | L53: D | M53: T | N53: I | O53: 0 | P53: T | Q53: 0 | R53: M | S53: 0 | T53: LS | U53: M | V53: 0 | W53: A | X53: T | Y53: 0
D54: 7 | E54: Jembatan Poh Gedang/7 | H54: 1 | I54: 5 | J54: 5 | K54: 1 | L54: D | M54: T | N54: I | O54: 0 | P54: T | Q54: 0 | R54: M | S54: 0 | T54: LS | U54: M | V54: 0 | W54: A | X54: T | Y54: 0
D55: 8 | E55: Gorong-gorong Poh Gedang/8 | H55: 1 | I55: 5 | J55: 5 | K55: 1 | L55: D | M55: T | N55: I | O55: 0 | P55: T | Q55: 0 | R55: M | S55: 0 | T55: LS | U55: M | V55: 0 | W55: A | X55: T | Y55: 0
D56: 9 | E56: Jembatan Poh Gedang/9 | H56: 7 | I56: 6 | J56: 6 | K56: 1 | L56: D | M56: T | N56: I | O56: 0 | P56: T | Q56: 0 | R56: M | S56: 0 | T56: LS | U56: M | V56: 0 | W56: A | X56: T | Y56: 0
D57: 10 | E57: Jembatan Poh Gedang/10 | H57: 1 | I57: 5 | J57: 5 | K57: 1 | L57: D | M57: T | N57: I | O57: 0 | P57: T | Q57: 0 | R57: M | S57: 0 | T57: LS | U57: M | V57: 0 | W57: A | X57: T | Y57: 0
D58: 11 | E58: Gorong-gorong Poh Gedang/11 | H58: 1 | I58: 5 | J58: 5 | K58: 1 | L58: D | M58: T | N58: I | O58: 0 | P58: T | Q58: 0 | R58: M | S58: 0 | T58: LS | U58: M | V58: 0 | W58: A | X58: T | Y58: 0

Sheet Kejayan
A1: IKHTISAR INVENTARISASI JEMBATAN
A2: PROPINSI | C2: : JAWA TIMUR (35) | X2: Hal | Y2: : 1
A3: KABUPATEN | C3: : PASURUAN (14) | X3: Dari | Y3: : 1
A4: KECAMATAN | C4: : KEJAYAN
A6: No. Ruas | B6: Panjang | C6: Nama Pangkal-Ujung Ruas (K1) | D6: No.Urut | E6: Nama Jembatan/Sungai (>=2,0 m) | F6: PAL km | G6: Tipe Penye-berangan | H6: Ukuran | L6: Tipe/ Kondisi (Gunakan Kode Standar di K10L)
B7: (km) | H7: Panjang (m) | I7: Lebar | K7: Jumlah Bentang | L7: Bangunan Atas | P7: Lantai | R7: Sandaran | T7: Pondasi | W7: Kepala Jemb. & Pilar
I8: Jalur | J8: Total | L8: Tipe | M8: Bahan | N8: Asal | O8: Kond | P8: Bahan | Q8: Knd | R8: Bahan | S8: Kond | T8: Tipe | U8: Bahan | V8: Kond | W8: Tipe | X8: Bahan | Y8: Kond
D9: 1 | E9: 2 | F9: 3 | G9: 4 | H9: 5 | I9: 6.1 | J9: 6.2 | K9: 7 | L9: 8 | M9: 9 | N9: 10 | O9: 11 | P9: 12 | Q9: 13 | R9: 14 | S9: 15 | T9: 16 | U9: 17 | V9: 18 | W9: 19 | X9: 20 | Y9: 21
A10: 25 | B10: 4 | C10: Pacarkeling-Wrati | D10: 1 | E10: Pacarkeling | F10: 0.7403 | G10: JN | H10: 11 | I10: 2 | J10: 3
A11: 29 | B11: 3 | C11: Linggo-Randuagung | D11: 1 | E11: Linggo | F11: 0.7453 | G11: JN | H11: 4.5 | I11: 2 | J11: 3
A12: 31 | B12: 7.33 | C12: Kejayan-Kedungpengaron | D12: 1 | E12: Kejayan | F12: 0.7848 | G12: JN | H12: 6 | I12: 2 | J12: 6
A13: 87 | B13: 7.41 | C13: Wrati-Semut | D13: 1 | E13: Wrati | F13: 0.829 | G13: JN | H13: 6 | I13: 2 | J13: 3
A14: 103 | B14: 7.3 | C14: Kejayan-Paras | D14: 1 | E14: Kejayan | F14: 0.709 | G14: JN | H14: 5 | I14: 2 | J14: 3
A15: 189 | B15: 3.2 | C15: Linggo-Kedemungan | D15: 1 | E15: Linggo | F15: 0.7495 | G15: JN | H15: 7.5 | I15: 2 | J15: 5
A16: 241 | B16: 7 | C16: Kepuh-Klangrong | D16: 1 | E16: Kepuh | F16: 0.361 | G16: JN | H16: 3.5 | I16: 2 | J16: 3
A17: 257 | B17: 2.5 | C17: Kedungpengaron-Benerwojo | D17: 1 | E17: Kedungpengaron | F17: 0.452 | G17: JN | H17: 6 | I17: 2 | J17: 3
A18: 258 | B18: 3.15 | C18: Pacar Keling-Sumbersuko | D18: 1 | E18: Pacar Keling | F18: 0.271 | G18: JN | H18: 3 | I18: 2 | J18: 2.5
A19: 270 | B19: 3.5 | C19: Bajangan-Patebon | D19: 1 | E19: Bajangan | F19: 0.9679 | G19: JN | H19: 4 | I19: 2 | J19: 3
A20: 90702 | B20: 5.5 | C20: Ambal Ambil-Ngembal | D20: 1 | E20: Ambal Ambil | F20: 0.9301 | G20: JN | H20: 3.5 | I20: 2 | J20: 3
A21: 90703 | B21: 5 | C21: Lorokan-Sidowayah | D21: 1 | E21: Lorokan | F21: 0.738 | G21: JN | H21: 3.5 | I21: 2 | J21: 2
... A25: 90713 | B25: 2.5 | C25: Tundosuruh-Tebas | D25: 1 | E25: Tundosuruh | F25: 0.9737 | G25: JN | H25: 6 | I25: 2 | J25: 2

Sheet Wonorejo
A1: IKHTISAR INVENTARISASI JEMBATAN
A2: PROPINSI | C2: : JAWA TIMUR (35) | X2: Hal | Y2: : 1
A3: KABUPATEN | C3: : PASURUAN (14) | X3: Dari | Y3: : 1
A4: KECAMATAN | C4: : WONOREJO
A6: No. Ruas | B6: Panjang | C6: Nama Pangkal-Ujung Ruas (K1) | D6: No.Urut | E6: Nama Jembatan/Sungai (>=2,0 m) | F6: PAL km | G6: Tipe Penye-berangan | H6: Ukuran | L6: Tipe/ Kondisi (Gunakan Kode Standar di K10L)
B7: (km) | H7: Panjang (m) | I7: Lebar | K7: Jumlah Bentang | L7: Bangunan Atas | P7: Lantai | R7: Sandaran | T7: Pondasi | W7: Kepala Jemb. & Pilar
I8: Jalur | J8: Total | L8: Tipe | M8: Bahan | N8: Asal | O8: Kond | P8: Bahan | Q8: Knd | R8: Bahan | S8: Kond | T8: Tipe | U8: Bahan | V8: Kond | W8: Tipe | X8: Bahan | Y8: Kond
D9: 1 | E9: 2 | F9: 3 | G9: 4 | H9: 5 | I9: 6.1 | J9: 6.2 | K9: 7 | L9: 8 | M9: 9 | N9: 10 | O9: 11 | P9: 12 | Q9: 13 | R9: 14 | S9: 15 | T9: 16 | U9: 17 | V9: 18 | W9: 19 | X9: 20 | Y9: 21
A10: 18 | B10: 2.9 | C10: Blembem-Pajaran | D10: 1 | E10: Blembem 1 | F10: 0.3201 | G10: JN | H10: 4.6 | I10: 2 | J10: 2.75 | K10: 1 | L10: 0
A11: 21 | B11: 2.1 | C11: Blembem-Areng-areng | D11: 1 | E11: Blembem 2 | F11: 0.3184 | G11: JN | H11: 3.8 | I11: 2 | J11: 2.6 | K11: 1 | L11: 0
A12: 22 | B12: 3.6 | C12: Wonorejo-Blembem | D12: 1 | E12: Wonorejo | F12: 0.3347 | G12: JN | H12: 2.5 | I12: 2 | J12: 4 | K12: 1 | L12: 0
A13: 216 | B13: 4 | C13: Bakalan-Karangmenggah | D13: 1 | E13: Bakalan | F13: 0.5212 | G13: JN | H13: 3.6 | I13: 2 | J13: 4.5 | K13: 1 | L13: 0
A14: 228 | B14: 3 | C14: Karangmenggah-Tamansari | D14: 1 | E14: Karangmenggah | F14: 0.5227 | G14: JN | H14: 7 | I14: 2 | J14: 4 | K14: 2 | L14: 0
A15: 230 | B15: 1.8 | C15: Cobanblimbing-Tamansari | D15: 1 | E15: Cobanblimbing | F15: 0.3155 | G15: JN | H15: 3 | I15: 2 | J15: 2.75 | K15: 1 | L15: 0
A16: 90805 | B16: 2 | C16: Sambisirah-Karangasem | D16: 1 | E16: Sambisirah | F16: 0.3464 | G16: JN | H16: 2.75 | I16: 2 | J16: 3 | K16: 1 | L16: 0
A17: 90807 | B17: 2.2 | C17: Karangasem-Kandangdukuh | D17: 1 | E17: Karangasem | F17: 0.5384 | G17: JN | H17: 4.5 | I17: 2 | J17: 2.75 | K17: 1 | L17: 0
A18: 90808 | B18: 2.2 | C18: Karangsono-Rebono | D18: 1 | E18: Karangsono | F18: 0.5281 | G18: JN | H18: 9 | I18: 2 | J18: 4 | K18: 1 | L18: 0
A19: 90812 | B19: 1.5 | C19: Tumpuk-Pakijangan | D19: 1 | E19: Tumpuk | F19: 0.3502 | G19: JN | H19: 3.5 | I19: 2 | J19: 3 | K19: 1 | L19: 0

Sheet Beji
A1: IKHTISAR INVENTARISASI JEMBATAN
A2: PROPINSI | C2: : JAWA TIMUR (35)
A3: KABUPATEN | C3: : PASURUAN (14)
A4: KECAMATAN | C4: : BEJI
A7: No. Ruas | B7: Panjang | C7: Nama Pangkal-Ujung Ruas (K1) | D7: No.Urut | E7: Nama Jembatan/Sungai (>=2,0 m) | F7: PAL km | G7: Tipe Penye-berangan | H7: Ukuran | L7: Tipe/ Kondisi (Gunakan Kode Standar di K10L)
B8: (km) | H8: Panjang (m) | I8: Lebar | K8: Jumlah Bentang | L8: Bangunan Atas | P8: Lantai | R8: Sandaran | T8: Pondasi | W8: Kepala Jemb. & Pilar
I9: Jalur | J9: Total | L9: Tipe | M9: Bahan | N9: Asal | O9: Kond | P9: Bahan | Q9: Knd | R9: Bahan | S9: Kond | T9: Tipe | U9: Bahan | V9: Kond | W9: Tipe | X9: Bahan | Y9: Kond
D10: 1 | E10: 2 | F10: 3 | G10: 4 | H10: 5 | I10: 6.1 | J10: 6.2 | K10: 7 | L10: 8 | M10: 9 | N10: 10 | O10: 11 | P10: 12 | Q10: 13 | R10: 14 | S10: 15 | T10: 16 | U10: 17 | V10: 18 | W10: 19 | X10: 20 | Y10: 21
A11: 5 | B11: 2.3 | C11: Gunung Gangsir-Cangkring malang | D11: 1 | E11: Gunung Gangsir 1 | F11: 1.1 | G11: JN | H11: 5.5 | I11: 4.7 | J11: 5.7 | K11: 1
A12: 6 | B12: 6 | C12: Gondang legi-Randupitu | D12: 1 | E12: Gondang legi 1 | F12: 2.2 | G12: JN | H12: 6 | I12: 6.8 | J12: 8.8 | K12: 1
A13: 114 | B13: 3.2 | C13: Gondang legi-Kedungringin | D13: 1 | E13: Gondang legi 2 | F13: 0.2 | G13: JN | H13: 2 | I13: 4 | J13: 6 | K13: 1
A14: 150 | B14: 2.7 | C14: Beji-Sidowayah | D14: 1 | E14: Beji | F14: 1.3 | G14: JN | H14: 2 | I14: 5 | J14: 7 | K14: 1
A15: 165 | B15: 3.7 | C15: Cangkring Malang-Wonokoyo | D15: 1 | E15: Cangkring Malang | F15: 0.9 | G15: JN | H15: 5 | I15: 7.2 | J15: 9.2 | K15: 1
A16: 173 | B16: 1.9 | C16: Gajahbendo-Pagak | D16: 1 | E16: Gajahbendo | F16: 0.3 | G16: JN | H16: 4.5 | I16: 5 | J16: 7 | K16: 1
A17: 266 | B17: 3.1 | C17: Baujeng-Tanggul | D17: 1 | E17: Baujeng | F17: 0.3 | G17: JN | H17: 3.5 | I17: 3.5 | J17: 4.5 | K17: 1
A18: 6043 | B18: 1 | C18: Wonokoyo-Babat | D18: 1 | E18: Watu Kisi | F18: 1.5 | G18: JN | H18: 12 | I18: 3.5 | J18: 4.5 | K18: 1
A19: 6046 | B19: 0.9 | C19: Winong-Kesemi | D19: 1 | E19: Winong | F19: 1 | G19: JN | H19: 9 | I19: 3.5 | J19: 4.5 | K19: 1
A20: 91403 | B20: 2 | C20: Rodowo-Banyulegi | D20: 1 | E20: Rodowo | F20: 0.3 | G20: JN | H20: 5 | I20: 3.5 | J20: 4.5 | K20: 1
A21: 91404 | B21: 1 | C21: Beji-Pilangsari | D21: 1 | E21: Beji | F21: 0.1 | G21: JN | H21: 3.5 | I21: 4 | J21: 5 | K21: 1
A22: 91407 | B22: 2.9 | C22: Kenep-Gunungsari | D22: 1 | E22: Kenep | F22: 1.3 | G22: JN | H22: 3.5 | I22: 3 | J22: 4 | K22: 1
... A26: 91416 | B26: 2.3 | C26: Beji-Kedungringin | D26: 1 | E26: Beji | F26: 1.7 | G26: JN | H26: 16.5 | I26: 3 | J26: 4 | K26: 4

Sheet Bangil
A1: IKHTISAR INVENTARISASI JEMBATAN
A2: PROPINSI | C2: : JAWA TIMUR (35) | X2: Hal | Y2: : 1
A3: KABUPATEN | C3: : PASURUAN (14) | X3: Dari | Y3: : 2
A4: KECAMATAN | C4: : BANGIL
A6: No. Ruas | B6: Panjang | C6: Nama Pangkal-Ujung Ruas (K1) | D6: No.Urut | E6: Nama Jembatan/Sungai (>=2,0 m) | F6: PAL km | G6: Tipe Penyeberangan | H6: Ukuran | L6: Tipe/ Kondisi (Gunakan Kode Standar di K10L)
B7: (km) | H7: Panjang (m) | I7: Lebar (m) | K7: Jumlah Bentang | L7: Bangunan Atas | P7: Lantai | R7: Sandaran | T7: Pondasi | W7: Kepala Jemb. & Pilar
I8: Jalur | J8: Total | L8: Tipe | M8: Bahan | N8: Asal | O8: Kond | P8: Bahan | Q8: Knd | R8: Bahan | S8: Kond | T8: Tipe | U8: Bahan | V8: Kond | W8: Tipe | X8: Bahan | Y8: Kond
D9: 1 | E9: 2 | F9: 3 | G9: 4 | H9: 5 | I9: 6.1 | J9: 6.2 | K9: 7 | L9: 8 | M9: 9 | N9: 10 | O9: 11 | P9: 12 | Q9: 13 | R9: 14 | S9: 15 | T9: 16 | U9: 17 | V9: 18 | W9: 19 | X9: 20 | Y9: 21
A10: 91501 | B10: 2.1 | C10: Kel. Latek - Maharsari | D10: 1 | E10: Beton Plat/Sungai Kekedeman | F10: 0.3 | G10: S | H10: 0 | I10: 4 | J10: =I10+1 -> 5 | L10: Y | M10: M | O10: I | P10: T | Q10: O | R10: M | S10: O
D11: 2 | E11: Sungai Mesangan | F11: 1.015 | G11: S | H11: 4 | I11: 4.5 | J11: =I11+1 -> 5.5 | L11: B | M11: T | O11: O | P11: T | Q11: O | R11: T | S11: O
D12: 3 | E12: Sungai Mawarwi | F12: 1.145 | G12: S | H12: 1.5 | I12: 4 | J12: =I12+1 -> 5 | L12: B | M12: T | O12: O | P12: T | Q12: O | R12: B
D13: 4 | E13: Sungai Mawarwi | F13: 1.7 | G13: S | H13: 1.5 | I13: 4 | J13: =I13+1 -> 5 | L13: B | M13: T | O13: O | P13: T | Q13: O | R13: B
D14: 5 | E14: Sungai Mawarwi | F14: 0.05 | G14: S | H14: 1.5 | I14: 4 | J14: =I14+1 -> 5 | L14: B | M14: T | O14: O | P14: T | Q14: O | R14: B
A15: 91811 | B15: 0.8 | C15: Kalirejo - Manarwi | D15: 1 | E15: S | F15: 0.4 | H15: 0 | I15: 4 | J15: =I15+1 -> 5
A16: 91501 | B16: 2.1 | C16: Kel. Latek - Manarwi | D16: 1 | E16: S. Keradenan | F16: 1.05 | H16: 4 | I16: 2.5 | J16: =I16+1 -> 3.5
D17: 2 | E17: S. Keradenan | F17: 1.08 | H17: 4 | I17: 2.5 | J17: =I17+1 -> 3.5
D18: 3 | E18: S. Keradenan | F18: 1.43 | H18: 4 | I18: 2.5 | J18: =I18+1 -> 3.5
D19: 4 | F19: 1.549 | H19: 4 | I19: 2.5 | J19: =I19+1 -> 3.5
D20: 5 | E20: S. Manarwi | F20: 0.162 | H20: 4 | I20: 2.5 | J20: =I20+1 -> 3.5
A21: 91502 | B21: 1.95 | C21: Masangan - Keradenan | D21: 1 | E21: S. Bodong | F21: 0.75 | G21: S | H21: 1 | I21: 4 | J21: =I21+1 -> 5 | L21: B | M21: T | N21: I | O21: O
D22: 2 | E22: S. Bodong | F22: 0.4 | G22: S | H22: 1 | I22: 4 | J22: =I22+1 -> 5 | L22: B | M22: T | N22: I | O22: O
D23: 3 | E23: S. Bodong | F23: 0.6 | G23: S | H23: 1 | I23: 4 | J23: =I23+1 -> 5 | L23: B | M23: T | N23: I | O23: O
D24: 4 | E24: S. Bodong | F24: 1.43 | G24: S | H24: 10 | I24: 4 | J24: =I24+1 -> 5 | L24: S | M24: K | N24: I | O24: K | P24: TM | Q24: B
A25: 91505 | B25: 1.25 | C25: Raci - Balungbendo | D25: 1 | E25: Raci | F25: 0.04 | G25: S | H25: 4 | I25: 6 | J25: =I25+2 -> 8 | L25: B | M25: T | N25: I | O25: O | P25: TM | Q25: O
D26: 2 | E26: Raci | F26: 0.2 | G26: S | H26: 2.5 | I26: 7.5 | J26: =I26+2 -> 9.5 | L26: B | M26: T | N26: I | O26: O | P26: TM | Q26: O
A27: 91504 | B27: 1.5 | C27: Raci - Gerongan/Pandelegan | D27: 1 | E27: Pandelegan | F27: 0.135 | G27: S | H27: 4.5 | I27: 2.5 | J27: =I27+1 -> 3.5 | L27: B | M27: T | N27: I | O27: O | P27: T | Q27: O
A28: 109 | B28: 1.25 | C28: Jl. Sidowayah - Kolorsari | D28: 1 | F28: 0.03 | G28: S | H28: 3 | I28: 7 | J28: =I28+2 -> 9 | L28: B | M28: T | O28: B | P28: T | Q28: B | R28: M | S28: B
D29: 2 | F29: 0.1 | G29: S | H29: 1 | I29: 7 | J29: =I29+2 -> 9 | L29: B | M29: T | O29: B | P29: T | Q29: B | R29: M | S29: B
D30: 3 | F30: 0.18 | G30: S | H30: 1 | I30: 7 | J30: =I30+2 -> 9 | L30: B | M30: T | O30: B | P30: T | Q30: B | R30: M | S30: B
D31: 4 | F31: 2.75 | G31: S | H31: 1 | I31: 7 | J31: =I31+2 -> 9 | L31: B | M31: T | O31: B | P31: T | Q31: B | R31: M | S31: B
D32: 5 | F32: 0.41 | G32: S | H32: 1 | I32: 7 | J32: =I32+2 -> 9 | L32: B | M32: T | O32: B | P32: T | Q32: B | R32: M | S32: B
D33: 6 | F33: 0.53 | G33: S | H33: 1 | I33: 7 | J33: =I33+2 -> 9 | L33: B | M33: T | O33: B | P33: T | Q33: B | R33: M | S33: B
D34: 7 | F34: 0.65 | G34: S | H34: 1 | I34: 7 | J34: =I34+2 -> 9 | L34: B | M34: T | O34: B | P34: T | Q34: B | R34: M | S34: B
D35: 8 | F35: 0.79 | G35: S | H35: 2 | I35: 7 | J35: =I35+2 -> 9 | L35: B | M35: T | O35: B | P35: T | Q35: B | R35: M | S35: B
D36: 9 | F36: 0.88 | G36: S | H36: 1.5 | I36: 7 | J36: =I36+2 -> 9 | L36: B | M36: T | O36: B | P36: T | Q36: B | R36: M | S36: B
D37: 10 | F37: 1.05 | G37: S | H37: 1.5 | I37: 7 | J37: =I37+2 -> 9 | L37: B | M37: T | O37: B | P37: T | Q37: B | R37: M | S37: B
D38: 11 | F38: 1.15 | G38: S | H38: 1.5 | I38: 7 | J38: =I38+2 -> 9 | L38: B | M38: T | O38: B | P38: T | Q38: B | R38: M | S38: B
A39: 91508 | B39: 1.85 | C39: Jl. Kolorsari - Bekacak | D39: 1 | E39: S.Kolorsari | F39: 0 | G39: S | H39: 1 | I39: 5.5 | J39: =I39+2 -> 7.5 | L39: E | M39: T | O39: B | P39: T | Q39: B | R39: M
D40: 2 | E40: S.Bekacak | F40: 7.25 | G40: S | H40: 1 | I40: 4.8 | J40: =I40+1 -> 5.8 | L40: B | M40: T | O40: B | P40: T | Q40: B | R40: M
D41: 3 | E41: DAM Pengairan | F41: 1.15 | G41: S
D42: 4 | F42: 1.165 | G42: S | H42: 0.8 | I42: 5 | J42: =I42+2 -> 7 | L42: B | M42: T | O42: B | P42: T | Q42: B | R42: T | S42: M
D43: 5 | F43: 11.25 | G43: S | H43: 0.8 | I43: 5 | J43: =I43+2 -> 7 | L43: Y | M43: T | O43: B | P43: T | Q43: B | R43: T | S43: M
D44: 6 | F44: 11.65 | G44: S | H44: 1 | I44: 8 | J44: =I44+2 -> 10 | L44: B | M44: T | O44: B | P44: T | Q44: B | R44: T | S44: M
D45: 7 | F45: 1.73 | G45: S | H45: 0 | I45: 5 | J45: =I45+2 -> 7 | L45: Y | M45: T | O45: B | P45: T | Q45: B | R45: T | S45: M
A46: 4031 | B46: 0.9 | C46: Jl. Apel - Jl. Apel | D46: 1 | F46: 0.4 | G46: S | H46: 2.5 | I46: 7 | J46: =I46+2 -> 9 | L46: B | M46: T | O46: B | P46: T | Q46: B | R46: T | S46: B
D47: 2 | F47: 0.19 | G47: S | H47: 1 | I47: 7 | J47: =I47+2 -> 9 | L47: B | M47: T | O47: B | P47: T | Q47: B | R47: T | S47: M
D48: 3 | F48: 0.3 | G48: S | H48: 1 | I48: 7 | J48: =I48+2 -> 9 | L48: B | M48: T | O48: B | P48: T | Q48: B | R48: T | S48: M
D49: 4 | F49: 0.395 | G49: S | H49: 1 | I49: 7 | J49: =I49+2 -> 9 | L49: B | M49: T | O49: B | P49: T | Q49: B | R49: T | S49: M
D50: 5 | F50: 0.43 | G50: S | H50: 2.5 | I50: 7 | J50: =I50+2 -> 9 | L50: B | M50: T | O50: B | P50: T | Q50: B | R50: T | S50: M
D51: 6 | F51: 0.45 | G51: S | H51: 1 | I51: 7 | J51: =I51+2 -> 9 | L51: B | M51: T | O51: B | P51: T | Q51: B | R51: T | S51: M
D52: 7 | F52: 0.89 | G52: S | H52: 1 | I52: 7 | J52: =I52+2 -> 9 | L52: B | M52: T | O52: R | P52: T | Q52: R
A53: 4039 | B53: 0.25 | C53: Jl. Jambu - Jl. Jambu | D53: 1 | F53: 0.245 | G53: S | H53: 2 | I53: 5 | J53: =I53+2 -> 7 | L53: B | M53: T | O53: B | P53: T | Q53: B | R53: T | S53: B
A54: 4004 | B54: 0.55 | C54: Jl. Anggur - Jl. Anggur | D54: 1 | E54: Plat | F54: 0.25 | G54: S | H54: 1 | I54: 4 | J54: =I54+1 -> 5 | L54: Y | M54: T | O54: B | P54: T | Q54: B | S54: R
D55: 2 | F55: 0.54 | G55: S | H55: 1 | I55: 4 | J55: =I55+1 -> 5 | L55: Y | M55: T | O55: B | P55: T | Q55: B | S55: B
A56: 4033 | B56: 0.75 | C56: Jl. Kepiting - Jl. Kepiting | D56: 1 | F56: 0.5 | G56: S | H56: 1 | I56: 5 | J56: =I56+2 -> 7 | L56: B | M56: T | O56: B | P56: T | Q56: B | R56: M
D57: 2 | F57: 0.55 | G57: S | H57: 1 | I57: 5 | J57: =I57+2 -> 7 | L57: B | M57: T | O57: B | P57: T | Q57: B | R57: M
D58: 3 | E58: Sungai Dermo | F58: 0.75 | G58: S | H58: 1.5 | I58: 3.5 | J58: =I58+1 -> 4.5 | L58: B | M58: T | O58: B | P58: T | Q58: B | R58: T
A59: 4021 | B59: 1.2 | C59: Jl. Salem - JL. Salem | D59: 1 | F59: 0.1 | G59: S | H59: 1 | L59: B | M59: T | O59: B | P59: T | Q59: B | R59: M | S59: B
D60: 2 | F60: 2.5 | G60: S | H60: 0.60x2 | L60: Y | M60: T | O60: B | P60: T | Q60: A | R60: M | S60: RS
D61: 3 | E61: Sungai Segok | F61: 0.6 | G61: S | H61: 12 | L61: B | M61: T | O61: B | P61: T | Q61: B | R61: T | S61: B
A62: 140 | B62: 2.95 | C62: Glanggang - Kalirejo | D62: 1 | E62: Gorong | F62: 0.02 | G62: S | H62: 0.6 | I62: 7 | J62: =I62+2 -> 9 | L62: B | M62: T | O62: B
D63: 2 | E63: Gorong | F63: 11 | G63: S | H63: 1 | I63: 7 | J63: =I63+2 -> 9 | L63: B | M63: T | O63: B
D64: 3 | E64: Gorong | F64: 1.49 | G64: S | H64: 1.5 | I64: 7 | J64: =I64+2 -> 9 | L64: B | M64: T | O64: RS
D65: 4 | E65: Sungai Kalirejo | F65: 2.25 | G65: S | H65: 1.50x2 | I65: 7 | J65: =I65+2 -> 9 | L65: B | M65: T | O65: B
A66: IKHTISAR INVENTARISASI JEMBATAN
A67: PROPINSI | C67: : JAWA TIMUR (35) | X67: Hal | Y67: : 1
A68: KABUPATEN | C68: : PASURUAN (14) | X68: Dari | Y68: : 2
A69: KECAMATAN | C69: : BANGIL
A71: No. Ruas | B71: Panjang | C71: Nama Pangkal-Ujung Ruas (K1) | D71: No.Urut | E71: Nama Jembatan/Sungai (>=2,0 m) | F71: PAL km | G71: Tipe Penyeberangan | H71: Ukuran | L71: Tipe/ Kondisi (Gunakan Kode Standar di K10L)
B72: (km) | H72: Panjang (m) | I72: Lebar (m) | K72: Jumlah Bentang | L72: Bangunan Atas | P72: Lantai | R72: Sandaran | T72: Pondasi | W72: Kepala Jemb. & Pilar
I73: Jalur | J73: Total | L73: Tipe | M73: Bahan | N73: Asal | O73: Kond | P73: Bahan | Q73: Knd | R73: Bahan | S73: Kond | T73: Tipe | U73: Bahan | V73: Kond | W73: Tipe | X73: Bahan | Y73: Kond
D74: 1 | E74: 2 | F74: 3 | G74: 4 | H74: 5 | I74: 6.1 | J74: 6.2 | K74: 7 | L74: 8 | M74: 9 | N74: 10 | O74: 11 | P74: 12 | Q74: 13 | R74: 14 | S74: 15 | T74: 16 | U74: 17 | V74: 18 | W74: 19 | X74: 20 | Y74: 21
A75: 4017 | B75: 0.95 | C75: Jl. Bandeng - Jl. Bandeng | D75: 1 | F75: 0.1 | G75: S | H75: 2 | I75: 7 | J75: =I75+2 -> 9 | L75: B | M75: T | O75: B
C76: Jl.Salak | D76: 1 | F76: 0.05 | G76: Gat | H76: 1 | I76: 4.5 | J76: =I76+1 -> 5.5 | O76: O | P76: B | Q76: I | R76: I | S76: O | W76: M
D77: 2 | F77: 0.1 | G77: Gat | H77: 1 | I77: 4.8 | J77: =I77+1 -> 5.8
C78: Jl.Anjur | D78: 1 | E78: Gat.plat beton | F78: 2.6 | H78: 1 | I78: 4 | J78: =I78+1 -> 5 | L78: O | Y78: Rusak
D79: 2 | F79: 5.3 | H79: 1 | I79: 4 | J79: =I79+1 -> 5
C80: Jl.Jeruk | D80: 1 | F80: 90 | H80: 1 | I80: 4.2 | J80: =I80+1 -> 5.2
A81: 4025 | B81: 0.7 | C81: Jl. Nanas - Jl. Rambutan | D81: 1 | E81: S.Lumpang Bolong I | F81: 0.42 | G81: S | H81: 2 | I81: 5.2 | J81: =I81+2 -> 7.2 | K81: 1 | L81: B | M81: T | N81: O | P81: T | Q81: O | R81: M | S81: O
D82: 2 | E82: S.Lumpang Bolong II | F82: 0.63 | G82: S | H82: 2 | I82: 4.8 | J82: =I82+1 -> 5.8 | K82: 1 | L82: B | M82: T | N82: O | P82: T | Q82: O | R82: M | S82: O
A83: 4040 | B83: 0.6 | C83: Jl. BM - jL. Oro-oro Ombo | D83: 1 | E83: Saluran 1 | F83: 0.5 | G83: S | H83: 1 | I83: 7.5 | J83: =I83+2 -> 9.5 | K83: 1 | L83: B | M83: T | O83: O | P83: T | R83: M | S83: O | V83: O | W83: M
A84: 134 | B84: 2.6 | C84: Dermo - Kalianyar | D84: 1 | E84: Jembatan Dermo | F84: 0.2 | G84: S | H84: 1 | I84: 5.2 | J84: =I84+2 -> 7.2 | K84: 1 | L84: B | M84: T | O84: O | P84: T | Q84: O | R84: M | S84: O
D85: 2 | E85: Jembatan Gempeng I | F85: 0.35 | G85: S | H85: 2 | I85: 4.8 | J85: =I85+1 -> 5.8 | K85: 1 | L85: B | M85: T | O85: O | P85: T | Q85: O | R85: M | S85: O
D86: 3 | E86: Jembatan Gempeng II | F86: 0.835 | G86: S | H86: 1 | I86: 6.2 | J86: =I86+2 -> 8.2 | K86: 1 | L86: B | M86: T | O86: O | P86: T | Q86: O | R86: M | S86: O
D87: 4 | E87: Jembatan Gempeng III | F87: 0.94 | G87: S | H87: 2 | I87: 6.3 | J87: =I87+2 -> 8.3 | K87: 1 | L87: B | M87: T | O87: O | P87: T | Q87: O | R87: M | S87: O
D88: 5 | E88: Jembatan Manarwi I | F88: 1.1 | G88: S | H88: 1 | I88: 8 | J88: =I88+2 -> 10 | K88: 1 | L88: B | M88: T | O88: O | P88: T | Q88: O | R88: M | S88: O
D89: 6 | E89: Jembatan Manarwi II | F89: 1.6 | G89: S | H89: 1 | I89: 6.2 | J89: =I89+2 -> 8.2 | K89: 1 | L89: B | M89: T | O89: O | P89: T | Q89: O | R89: M | S89: O
D90: 7 | E90: Kalianyar | F90: 22.5 | G90: S | H90: 1.5 | I90: 6.2 | J90: =I90+2 -> 8.2 | K90: 1 | L90: B | M90: T | O90: O | P90: T | Q90: O | R90: M | S90: O
A91: 94 | B91: 1 | C91: Kalirejo - Kalianyar | D91: 1 | E91: Beto Plat Kalirejo | F91: 0.135 | G91: S | H91: 0.6 | I91: 6.2 | J91: =I91+2 -> 8.2 | K91: 1 | L91: B | M91: T | O91: O | P91: T | Q91: O | R91: M | S91: O
D92: 2 | E92: Sungai Kalirejo | F92: 0.46 | G92: S | H92: 2 | I92: 6.2 | J92: =I92+2 -> 8.2 | K92: 1 | L92: B | M92: T | O92: O | P92: T | Q92: O | R92: M | S92: O
D93: 3 | E93: Jembatan Kalirejo | F93: 0.6 | G93: S | H93: 6.5 | I93: 4.8 | J93: =I93+1 -> 5.8 | K93: 1 | L93: GT | M93: T | O93: O | P93: T | Q93: O | R93: M | S93: O | W93: 4pilar | X93: B | Y93: O

Sheet Rembang
A1: IKHTISAR INVENTARISASI JEMBATAN
A2: PROPINSI | C2: : JAWA TIMUR (35)
A3: KABUPATEN | C3: : PASURUAN (14)
A4: KECAMATAN | C4: : REMBANG
A7: No. Ruas | B7: Panjang | C7: Nama Pangkal-Ujung Ruas (K1) | D7: No.Urut | E7: Nama Jembatan/Sungai (>=2,0 m) | F7: PAL km | G7: Tipe Penye-berangan | H7: Ukuran | L7: Tipe/ Kondisi (Gunakan Kode Standar di K10L)
B8: (km) | H8: Panjang (m) | I8: Lebar | K8: Jumlah Bentang | L8: Bangunan Atas | P8: Lantai | R8: Sandaran | T8: Pondasi | W8: Kepala Jemb. & Pilar
I9: Jalur | J9: Total | L9: Tipe | M9: Bahan | N9: Asal | O9: Kond | P9: Bahan | Q9: Knd | R9: Bahan | S9: Kond | T9: Tipe | U9: Bahan | V9: Kond | W9: Tipe | X9: Bahan | Y9: Kond
D10: 1 | E10: 2 | F10: 3 | G10: 4 | H10: 5 | I10: 6.1 | J10: 6.2 | K10: 7 | L10: 8 | M10: 9 | N10: 10 | O10: 11 | P10: 12 | Q10: 13 | R10: 14 | S10: 15 | T10: 16 | U10: 17 | V10: 18 | W10: 19 | X10: 20 | Y10: 21
A11: 11 | B11: 7 | C11: Wonokerto-Bangil | D11: 1 | E11: Wonokerto | F11: 2.1 | G11: S | H11: 6 | I11: 3.5 | J11: 3.5 | K11: 1 | L11: 0
A12: 12 | B12: 3.9 | C12: Blawi-Rembang | D12: 1 | E12: Blawi | F12: 0.1 | G12: S | H12: 4 | I12: 4 | J12: 5 | K12: 1 | L12: 0
A13: 13 | B13: 4 | C13: Rembang-Kalisat | D13: 1 | E13: Rembang | F13: 3.7 | G13: S | H13: 6.7 | I13: 4.5 | J13: 5 | K13: 1 | L13: 0
A14: 16 | B14: 2 | C14: Kalisat-Pajaran | D14: 1 | E14: Kalisat | F14: 0.3 | G14: S | H14: 3 | I14: 4 | J14: 5 | K14: 1 | L14: 0
A15: 17 | B15: 4.95 | C15: Pajaran-Ngempit | D15: 1 | E15: Pajaran | F15: 3.7 | G15: S | H15: 5 | I15: 2.5 | J15: 3.5 | K15: 1 | L15: 0
A16: 113 | B16: 3.56 | C16: Rembang-Oro-oro ombo | D16: 1 | E16: Rembang 1 | F16: 0.1 | G16: S | H16: 4.8 | I16: 4 | J16: 5 | K16: 1 | L16: 0
A17: 141 | B17: 4.3 | C17: Rembang-Kanigoro | D17: 1 | E17: Rembang 2 | F17: 0.2 | G17: S | H17: 4.8 | I17: 7 | J17: 7.5 | K17: 1 | L17: 0
A18: 214 | B18: 5 | C18: Ketapan-Candibinangun | D18: 1 | E18: J. Cengkilih | F18: 0.8 | G18: S | H18: 6.9 | I18: 2.5 | J18: 2.5 | K18: 1 | L18: 0
A19: 6001 | B19: 1.2 | C19: Pekoren-Pekoren | D19: 1 | E19: J. Subon | F19: 0.15 | G19: S | H19: 3.5 | I19: 3 | J19: 3 | K19: 1 | L19: 0
A20: 91601 | B20: 3 | C20: Rombo Wetan-Rokunci | D20: 1 | E20: J. Sembon | F20: 1.85 | G20: S | H20: 3 | I20: 2 | J20: 2 | K20: 1 | L20: 0
A21: 91602 | D21: 1 | F21: 1.45 | G21: S | H21: 3 | I21: 2.5 | J21: 3 | K21: 1 | L21: 0
A22: 91603 | B22: 3.3 | C22: Karangpanas-Nganglang | D22: 1 | E22: Karangpanas | F22: 0.65 | G22: S | H22: 3.8 | I22: 3 | J22: 4 | K22: 1 | L22: 0
A23: 91604 | B23: 2.5 | C23: Pekoren-Sumberglagah | D23: 1 | E23: J. Bunul Kidul | F23: 0.5 | G23: S | H23: 5 | I23: 4 | J23: 6 | K23: 1 | L23: 0
A24: 91605 | B24: 3 | C24: Watulunyu-Banjarsari | D24: 1 | E24: Watulunyu | F24: 0.6 | G24: S | H24: 7.5 | I24: 3.5 | J24: 3.5 | K24: 1 | L24: 0
A25: 91607 | B25: 2 | C25: Sumberglagah-Sumberglagah | D25: 1 | E25: Sumberglagah | F25: 0.1 | G25: S | H25: 2.4 | I25: 2.5 | J25: 4 | K25: 1 | L25: 0
A26: 91608 | B26: 1.1 | C26: Kanigoro-Siyar | D26: 1 | E26: Kanigoro | F26: 0.3 | G26: S | H26: 0.8 | I26: 3 | J26: 4 | K26: 1 | L26: 0
A27: 91609 | B27: 1.25 | C27: Orobulu-Kanigoro | D27: 1 | E27: Orobulu | F27: 1.6 | G27: S | H27: 2.8 | I27: 3 | J27: 3 | K27: 1 | L27: 0
A28: 91611 | B28: 2 | C28: Kalisat-Candibinangun | D28: 1 | E28: Kalisat | F28: 0.9 | G28: S | H28: 2.5 | I28: 3 | J28: 3.5 | K28: 1 | L28: 0

Sheet Rejoso
A1: IKHTISAR INVENTARISASI JEMBATAN
A2: PROPINSI | C2: : JAWA TIMUR (35)
A3: KABUPATEN | C3: : PASURUAN (14)
A4: KECAMATAN | C4: : REJOSO
A7: No. Ruas | B7: Panjang | C7: Nama Pangkal-Ujung Ruas (K1) | D7: No.Urut | E7: Nama Jembatan/Sungai (>=2,0 m) | F7: PAL km | G7: Tipe Penye-berangan | H7: Ukuran | L7: Tipe/ Kondisi (Gunakan Kode Standar di K10L)
B8: (km) | H8: Panjang (m) | I8: Lebar | K8: Jumlah Bentang | L8: Bangunan Atas | P8: Lantai | R8: Sandaran | T8: Pondasi | W8: Kepala Jemb. & Pilar
I9: Jalur | J9: Total | L9: Tipe | M9: Bahan | N9: Asal | O9: Kond | P9: Bahan | Q9: Knd | R9: Bahan | S9: Kond | T9: Tipe | U9: Bahan | V9: Kond | W9: Tipe | X9: Bahan | Y9: Kond
D10: 1 | E10: 2 | F10: 3 | G10: 4 | H10: 5 | I10: 6.1 | J10: 6.2 | K10: 7 | L10: 8 | M10: 9 | N10: 10 | O10: 11 | P10: 12 | Q10: 13 | R10: 14 | S10: 15 | T10: 16 | U10: 17 | V10: 18 | W10: 19 | X10: 20 | Y10: 21
A11: 40 | B11: 4.8 | C11: Rejoso-Penataan | D11: 1 | E11: Tahunan | F11: 143.4 | G11: S | H11: 11.2 | I11: 2 | J11: 6 | K11: 1 | L11: 0
A12: 137 | B12: 1.9 | C12: Pekangkungan-Bakalan | D12: 1 | E12: Pekangkungan | F12: 199.1 | G12: S | H12: 3 | I12: 2 | J12: 5 | K12: 1 | L12: 0
A13: 166 | B13: 4.5 | C13: Pateguran-Segoropuro | D13: 1 | E13: Pateguran | F13: 414.1 | G13: A | H13: 2 | I13: 2 | J13: 2.4 | K13: 1 | L13: 0
A14: 197 | B14: 2.5 | C14: Kawisrejo-Sadengrejo | D14: 1 | E14: Kawisrejo | F14: 156.8 | G14: S | H14: 2 | I14: 2 | J14: 6 | K14: 1 | L14: 0
A15: 211 | B15: 2.5 | C15: Kemantrenrejo-Segoropuro | D15: 1 | E15: Kemantrenrejo | F15: 418.4 | G15: A | H15: 2 | I15: 2 | J15: 5.5 | K15: 1 | L15: 0
A16: 268 | B16: 4 | C16: Tenggilisrejo-Sadengrejo | D16: 1 | E16: Tenggilisrejo | F16: 152.7 | G16: S | H16: 2 | I16: 2 | J16: 3 | K16: 1 | L16: 0
A17: 269 | B17: 1.5 | C17: Ketegan-Darah | D17: 1 | E17: Ketegan | F17: 2472.9 | G17: A | H17: 11.2 | I17: 2 | J17: 4 | K17: 1 | L17: 0
A18: 271 | B18: 3.3 | C18: Suklan-Kedawung kulon | D18: 1 | E18: Suklan | F18: 442.9 | G18: A | H18: 12.8 | I18: 2 | J18: 3.5 | K18: 1 | L18: 0
A19: 5001 | B19: 4 | C19: Pateguran-Pandean | D19: 1 | E19: Pateguran | F19: 370.8 | G19: A | H19: 4.6 | I19: 2 | J19: 3.6 | K19: 2 | L19: 0
A20: 5002 | B20: 4 | C20: Tambaklekok-Rejoso | D20: 1 | E20: Tambaklekok | F20: 149.1 | G20: A | H20: 2.5 | I20: 2 | J20: 3.4 | K20: 1 | L20: 0
A21: 6014 | B21: 1.4 | C21: Ngemplak-Toyaning | D21: 1 | E21: Ngemplak | F21: 437.5 | G21: A | H21: 2 | I21: 2 | J21: 3.4 | K21: 1 | L21: 0
A22: 6015 | B22: 1.2 | C22: Telbuk-Toyaning | D22: 1 | E22: Telbuk | F22: 439.5 | G22: A | H22: 12.8 | I22: 2 | J22: 3.2 | K22: 1 | L22: 0
... A31: 92008 | B31: 1.5 | C31: Sekarputih-Tanjung | D31: 1 | E31: Sekarputih | F31: 352.9 | G31: A | H31: 2 | I31: 2 | J31: 6 | K31: 1 | L31: 0

Sheet Winongan
A1: IKHTISAR INVENTARISASI JEMBATAN
A2: PROPINSI | C2: : JAWA TIMUR (35)
A3: KABUPATEN | C3: : PASURUAN (14)
A4: KECAMATAN | C4: : WINONGAN
A7: No. Ruas | B7: Panjang | C7: Nama Pangkal-Ujung Ruas (K1) | D7: No.Urut | E7: Nama Jembatan/Sungai (>=2,0 m) | F7: PAL km | G7: Tipe Penye-berangan | H7: Ukuran | L7: Tipe/ Kondisi (Gunakan Kode Standar di K10L)
B8: (km) | H8: Panjang (m) | I8: Lebar | K8: Jumlah Bentang | L8: Bangunan Atas | P8: Lantai | R8: Sandaran | T8: Pondasi | W8: Kepala Jemb. & Pilar
I9: Jalur | J9: Total | L9: Tipe | M9: Bahan | N9: Asal | O9: Kond | P9: Bahan | Q9: Knd | R9: Bahan | S9: Kond | T9: Tipe | U9: Bahan | V9: Kond | W9: Tipe | X9: Bahan | Y9: Kond
D10: 1 | E10: 2 | F10: 3 | G10: 4 | H10: 5 | I10: 6.1 | J10: 6.2 | K10: 7 | L10: 8 | M10: 9 | N10: 10 | O10: 11 | P10: 12 | Q10: 13 | R10: 14 | S10: 15 | T10: 16 | U10: 17 | V10: 18 | W10: 19 | X10: 20 | Y10: 21
A11: 39 | B11: 2.5 | C11: Tenggilis-Penataan | D11: 1 | E11: Tenggilis | F11: 0.45 | G11: S | H11: 6 | I11: 5 | J11: 6 | K11: 1 | L11: 0
A12: 41 | B12: 2.3 | C12: Talang-Penataan | D12: 1 | E12: Talang | F12: 0.1 | G12: S | H12: 7.2 | I12: 5 | J12: 6 | K12: 1 | L12: 0
A13: 43 | B13: 4.5 | C13: Winongan-Umbulan | D13: 1 | E13: Winongan | F13: 2.3 | G13: S | H13: 4 | I13: 3 | J13: 3 | K13: 1 | L13: 0
A14: 168 | B14: 9.51 | C14: Bandaran-Pancur | D14: 1 | E14: Bandaran | F14: 1.4 | G14: S | H14: 10.8 | I14: 5 | J14: 5 | K14: 1 | L14: 0
A15: 195 | B15: 4.15 | C15: Umbulan-Kedungrejo | D15: 1 | E15: Umbulan | F15: 0.3 | G15: S | H15: 9.9 | I15: 2.5 | J15: 3.5 | K15: 2 | L15: 0
A16: 219 | B16: 2.5 | C16: Kedungrejo-Karangtengah | D16: 1 | E16: Kedungrejo | F16: 1.2 | G16: S | H16: 7.2 | I16: 3 | J16: 3 | K16: 1 | L16: 0
A17: 224 | B17: 1.4 | C17: Banyubiru-Sruwi | D17: 1 | E17: Banyubiru | F17: 0.3 | G17: S | H17: 3.6 | I17: 3 | J17: 3 | K17: 1 | L17: 0
A18: 236 | B18: 2 | C18: Lemah abang-Minggir | D18: 1 | E18: Lemah abang | F18: 0.5 | G18: S | H18: 5 | I18: 3 | J18: 3 | K18: 1 | L18: 0
A19: 92101 | B19: 2.1 | C19: Mendalan-Menyarik | D19: 1 | E19: Mendalan | F19: 2.2 | G19: S | H19: 7.5 | I19: 3 | J19: 3.2 | K19: 1 | L19: 0
A20: 92103 | B20: 1.25 | C20: Prodo-Karangpandan | D20: 1 | E20: Prodo | F20: 0.9 | G20: S | H20: 2.9 | I20: 3.6 | J20: 4 | K20: 1 | L20: 0
A21: 92104 | B21: 1.1 | C21: Lebak-Prodo | D21: 1 | E21: Lebak 1 | F21: 0.05 | G21: S | H21: 13.5 | I21: 3 | J21: 3 | K21: 1 | L21: 0
A22: 92105 | B22: 1.69 | C22: Lebak-Sidepan | D22: 1 | E22: Lebak 2 | F22: 1.1 | G22: S | H22: 2.9 | I22: 3 | J22: 3 | K22: 1 | L22: 0
A23: 92106 | B23: 1.1 | C23: Sidepan-Menyarik | D23: 1 | E23: Sidepan | F23: 0.1 | G23: S | H23: 13 | I23: 2 | J23: 3 | K23: 1 | L23: 0

Sheet Grati
A1: IKHTISAR INVENTARISASI JEMBATAN
A2: PROPINSI | C2: : JAWA TIMUR (35)
A3: KABUPATEN | C3: : PASURUAN (14)
A4: KECAMATAN | C4: : GRATI
A7: No. Ruas | B7: Panjang | C7: Nama Pangkal-Ujung Ruas (K1) | D7: No.Urut | E7: Nama Jembatan/Sungai (>=2,0 m) | F7: PAL km | G7: Tipe Penye-berangan | H7: Ukuran | L7: Tipe/ Kondisi (Gunakan Kode Standar di K10L)
B8: (km) | H8: Panjang (m) | I8: Lebar | K8: Jumlah Bentang | L8: Bangunan Atas | P8: Lantai | R8: Sandaran | T8: Pondasi | W8: Kepala Jemb. & Pilar
I9: Jalur | J9: Total | L9: Tipe | M9: Bahan | N9: Asal | O9: Kond | P9: Bahan | Q9: Knd | R9: Bahan | S9: Kond | T9: Tipe | U9: Bahan | V9: Kond | W9: Tipe | X9: Bahan | Y9: Kond
D10: 1 | E10: 2 | F10: 3 | G10: 4 | H10: 5 | I10: 6.1 | J10: 6.2 | K10: 7 | L10: 8 | M10: 9 | N10: 10 | O10: 11 | P10: 12 | Q10: 13 | R10: 14 | S10: 15 | T10: 16 | U10: 17 | V10: 18 | W10: 19 | X10: 20 | Y10: 21
A11: 47 | B11: 2.5 | C11: Trewung-Menangas | D11: 1 | E11: Trewung | F11: 0.1 | G11: S | H11: 4.5 | I11: 3.5 | J11: 4 | K11: 1 | L11: 0
A12: 49 | B12: 3 | C12: Ngopak-Kedawung | D12: 1 | E12: Ngopak | F12: 0.1 | G12: S | H12: 4 | I12: 4 | J12: 4.5 | K12: 1 | L12: 0
A13: 50 | B13: 3 | C13: Grati-Trewung | D13: 1 | E13: Grati | F13: 0.55 | G13: S | H13: 3 | I13: 4 | J13: 4.5 | K13: 1 | L13: 0
A14: 52 | B14: 3.5 | C14: Semambung-Sumurwaru | D14: 1 | E14: Semambung | F14: 0.15 | G14: S | H14: 3 | I14: 4.5 | J14: 4 | K14: 1 | L14: 0
A15: 53 | B15: 2.3 | C15: Cukurgondang-Bandilan | D15: 1 | E15: Cukurgondang | F15: 2.05 | G15: S | H15: 6 | I15: 3.5 | J15: 4 | K15: 2 | L15: 0
A16: 55 | B16: 2.8 | C16: Plososari-Cukurgondang | D16: 1 | E16: Plososari | F16: 0.13 | G16: S | H16: 4 | I16: 3.1 | J16: 3.5 | K16: 1 | L16: 0
A17: 56 | B17: 1.7 | C17: Sumber anyar-Cukurgondang | D17: 1 | E17: Sumber anyar | F17: 0.2 | G17: S | H17: 3 | I17: 2.5 | J17: 3 | K17: 1 | L17: 0
A18: 57 | B18: 2 | C18: Cukur gondang-Wot galih | D18: 1 | E18: Cukur gondang | F18: 0.8 | G18: S | H18: 3 | I18: 3 | J18: 3.5 | K18: 1 | L18: 0
A19: 123 | B19: 4.35 | C19: Trewung-Karangjati | D19: 1 | E19: Trewung | F19: 0.02 | G19: S | H19: 10.5 | I19: 3 | J19: 3.5 | K19: 1 | L19: 0
A20: 142 | B20: 4 | C20: Plososari-Trewung | D20: 1 | E20: Plososari | F20: 0.38 | G20: S | H20: 2 | I20: 3 | J20: 3.5 | K20: 1 | L20: 0
A21: 175 | B21: 4.6 | C21: Bandilan-Sumberdawe | D21: 1 | E21: Bandilan | F21: 0 | G21: S | H21: 3.5 | I21: 2.5 | J21: 3 | K21: 1 | L21: 0
A22: 220 | B22: 4.8 | C22: Parasan-Kedawung wetan | D22: 1 | E22: Parasan | F22: 0.9 | G22: S | H22: 3.5 | I22: 2.5 | J22: 3 | K22: 1 | L22: 0
... A28: 92205 | B28: 1.1 | C28: Trewung-Karanglo | D28: 1 | E28: Trewung | F28: 0.7 | G28: S | H28: 3 | I28: 3 | J28: 2.5 | K28: 1 | L28: 0

Sheet nguling
A1: IKHTISAR INVENTARISASI JEMBATAN
A2: PROPINSI | C2: : JAWA TIMUR (35)
A3: KABUPATEN | C3: : PASURUAN (14)
A4: KECAMATAN | C4: : NGULING
A7: No. Ruas | B7: Panjang | C7: Nama Pangkal-Ujung Ruas (K1) | D7: No.Urut | E7: Nama Jembatan/Sungai (>=2,0 m) | F7: PAL km | G7: Tipe Penye-berangan | H7: Ukuran | L7: Tipe/ Kondisi (Gunakan Kode Standar di K10L)
B8: (km) | H8: Panjang (m) | I8: Lebar | K8: Jumlah Bentang | L8: Bangunan Atas | P8: Lantai | R8: Sandaran | T8: Pondasi | W8: Kepala Jemb. & Pilar
I9: Jalur | J9: Total | L9: Tipe | M9: Bahan | N9: Asal | O9: Kond | P9: Bahan | Q9: Knd | R9: Bahan | S9: Kond | T9: Tipe | U9: Bahan | V9: Kond | W9: Tipe | X9: Bahan | Y9: Kond
D10: 1 | E10: 2 | F10: 3 | G10: 4 | H10: 5 | I10: 6.1 | J10: 6.2 | K10: 7 | L10: 8 | M10: 9 | N10: 10 | O10: 11 | P10: 12 | Q10: 13 | R10: 14 | S10: 15 | T10: 16 | U10: 17 | V10: 18 | W10: 19 | X10: 20 | Y10: 21
A11: 51 | B11: 4.5 | C11: Watestani-Sanganom | D11: 1 | E11: Nguling | F11: 2.5105 | G11: S | H11: 4.8 | I11: 2 | J11: 5.2 | K11: 1 | L11: 0
A12: 54 | D12: 1 | F12: 2.7746 | G12: S | H12: 2 | I12: 2 | J12: 3.8 | K12: 1 | L12: 0
A13: 59 | D13: 1 | F13: 2.7824 | G13: S | H13: 8 | I13: 2 | J13: 3 | K13: 1 | L13: 0
A14: 138 | D14: 1 | F14: 2.7878 | G14: S | H14: 11 | I14: 2 | J14: 2.8 | K14: 1 | L14: 0
A15: 139 | D15: 1 | F15: 2.7862 | G15: S | H15: 17.5 | I15: 2 | J15: 5.2 | K15: 2 | L15: 0
A16: 161 | B16: 3 | C16: Sedarum-Kedawang | D16: 1 | E16: Nguling | F16: 2.7837 | G16: S | H16: 2 | I16: 2 | J16: 5.2 | K16: 1 | L16: 0
A17: 179 | D17: 1 | F17: 2.7946 | G17: S | H17: 6 | I17: 2 | J17: 5.2 | K17: 1 | L17: 0
A18: 6030 | D18: 1 | F18: 2.792 | G18: S | H18: 4 | I18: 2 | J18: 5.5 | K18: 1 | L18: 0
A19: 92403 | D19: 1 | F19: 2.8863 | G19: S | H19: 5.6 | I19: 2 | J19: 3.8 | K19: 2 | L19: 0

Sheet Bagor
C1: IKHTISAR INVENTARISASI JEMBATAN
C2: PROPINSI | E2: : JAWA TIMUR (35)
C3: KABUPATEN | E3: : NGANJUK
C4: KECAMATAN | E4: : BAGOR
C6: No. Ruas | D6: Panjang (km) | E6: Nama Pangkal-Ujung Ruas (K1) | F6: No.Urut | G6: Nomor Jembatan | H6: Nama Jembatan/Sungai (>=2,0 m) | I6: PAL km | J6: Tipe Penye-berangan | K6: Ukuran | O6: Tipe/ Kondisi (Gunakan oe Standar di K10L)
K7: Panjang (m) | L7: Lebar | N7: Jumlah Bentang | O7: Bangunan Atas | S7: Lantai | U7: Sandaran | W7: Pondasi | Z7: Kepala Jemb. & Pilar
B8: No. ID | L8: Jalur | M8: Total | O8: Tipe | P8: Bahan | Q8: Asal | R8: Kond | S8: Bahan | T8: Kond | U8: Bahan | V8: Kond | W8: Tipe | X8: Bahan | Y8: Kond | Z8: Tipe | AA8: Bahan | AB8: Kond
F9: 1 | H9: 2 | I9: 3 | J9: 4 | K9: 5 | L9: 6.1 | M9: 6.2 | N9: 7 | O9: 8 | P9: 9 | Q9: 10 | R9: 11 | S9: 12 | T9: 13 | U9: 14 | V9: 15 | W9: 16 | X9: 17 | Y9: 18 | Z9: 19 | AA9: 20 | AB9: 21
A10: 9021 | B10: 108 | C10: 64.1 | D10: 0.6 | E10: Gemenggeng - Tawang | F10: 1 | G10: 18.0064.001 | H10: Jembatan Kali Tawang | I10: =AE10-AD10 -> 0 | J10: S | K10: 2.6 | L10: 3 | M10: 3 | N10: 1 | O10: M | P10: T | Q10: I | R10: 0 | S10: T | T10: 0 | U10: Y | V10: 0 | W10: LS | X10: M | Y10: 0 | Z10: P | AA10: M | AB10: 0
A12: 136 | B12: 138 | C12: 76 | D12: 2.5 | E12: Kerep - Kidul | F12: 1 | G12: 18,0076,001 | H12: Jembatan Kali Kendalrejo | I12: =AE12-AD12 -> 2.6 | J12: S | K12: 8 | L12: 4 | M12: 4 | N12: 4 | O12: M | P12: T | Q12: I | R12: 0 | S12: T | T12: 1 | U12: Y | V12: 0 | W12: LS | X12: M | Y12: 0 | Z12: P | AA12: M | AB12: 0 | AD12: ='[1]NGANJUK''Z'!$L$253 -> 426.1 | AE12: 428.7
A14: 9020 | B14: 140 | C14: 78 | D14: 1.38 | E14: Gemenggeng - Sidokare | F14: 1 | G14: 18,0078,001 | H14: Jembatan Gemenggeng | I14: =AE14-AD14 -> 0 | J14: S | K14: 4 | L14: 5 | M14: 5 | N14: 1 | O14: M | P14: T | Q14: I | R14: 0 | S14: T | T14: 0 | U14: Y | V14: 0 | W14: LS | X14: M | Y14: 0 | Z14: P | AA14: M | AB14: 0 | AD14: ='[1]NGANJUK''Z'!$L$35 -> 273.2 | AE14: 273.2
B16: 141 | F16: 2 | G16: 18,0078,002 | H16: Jembatan Gemenggeng 2 | I16: =AE16-AD14 -> 1.1 | J16: S | K16: 3.5 | L16: 3 | M16: 7.2 | N16: 1 | O16: M | P16: T | Q16: I | R16: 0 | S16: T | T16: 0 | U16: Y | V16: 0 | W16: LS | X16: M | Y16: 0 | Z16: P | AA16: M | AB16: 0 | AE16: 274.3
A18: 103 | B18: 142 | C18: 79.1 | D18: 1.7 | E18: Petak - Banaran Kulon | F18: 1 | G18: 18,0079.1,001 | H18: Jembatan Kali Petak 1 | I18: =AE18-AD18 -> 0 | J18: S | K18: 13 | L18: 4 | M18: 4 | N18: 2 | O18: L | P18: T | Q18: I | R18: 0 | S18: T | T18: 0 | U18: Y | V18: 0 | W18: LS | X18: M | Y18: 0 | Z18: P | AA18: M | AB18: 0 | AD18: ='[1]NGANJUK''Z'!$L$234 -> 440.5 | AE18: 440.5
B20: 143 | F20: 2 | G20: 18,0079.1,002 | H20: Jembatan Kali Widas 2 | I20: =AE20-AD20 -> 0.3 | J20: S | K20: 52 | L20: 2.5 | M20: 2.5 | N20: 2 | O20: R | P20: T | Q20: I | R20: 0 | S20: T | T20: 0 | U20: Y | V20: 0 | W20: LS | X20: M | Y20: 0 | Z20: P | AA20: M | AB20: 0 | AD20: ='[1]NGANJUK''Z'!$L$234 -> 440.5 | AE20: 440.8
B22: 144 | F22: 3 | G22: 18,0079.1,003 | H22: Jembatan Kali Petak 2 | I22: =AE22-AD22 -> 0.4 | J22: S | K22: 11 | L22: 3 | M22: 4 | N22: 1 | O22: M | P22: T | Q22: I | R22: 0 | S22: T | T22: 0 | U22: Y | V22: 0 | W22: LS | X22: M | Y22: 0 | Z22: P | AA22: M | AB22: 0 | AD22: ='[1]NGANJUK''Z'!$L$234 -> 440.5 | AE22: 440.9
A24: 156 | B24: 152 | C24: 91.2 | D24: 3.4 | E24: Mojorembun - Banaran Kulon | F24: 3 | G24: 18,0091,2.003 | H24: Jembatan Mojorembun 3 | I24: =AE24-AD24 -> 3.2 | J24: S | K24: 9 | L24: 3 | M24: 3 | N24: 1 | O24: M | P24: T | Q24: I | R24: 0 | S24: T | T24: 0 | U24: Y | V24: 0 | W24: LS | X24: M | Y24: 0 | Z24: P | AA24: M | AB24: 0 | AD24: ='[1]NGANJUK''Z'!$L$259 -> 448 | AE24: 451.2
B26: 153 | F26: 4 | G26: 18,0091,2.004 | H26: Jembatan Mojorembun 4 | I26: =AE26-AD26 -> 3.6 | J26: S | K26: 15 | L26: 3 | M26: 3 | N26: 1 | O26: M | P26: T | Q26: I | R26: 0 | S26: T | T26: 0 | U26: Y | V26: 0 | W26: LS | X26: M | Y26: 0 | Z26: P | AA26: M | AB26: 0 | AD26: ='[1]NGANJUK''Z'!$L$259 -> 448 | AE26: 451.6
B28: 154 | F28: 5 | G28: 18,0091,2.005 | H28: Jembatan Banaran Kulon | I28: 5.35 | J28: S | K28: 15 | L28: 3.5 | M28: 3.5 | N28: 1 | O28: M | P28: T | Q28: I | R28: 0 | S28: T | T28: 0 | U28: Y | V28: 0 | W28: LS | X28: M | Y28: 0 | Z28: P | AA28: M | AB28: 0
A30: 101 | B30: 161 | C30: 96.2 | D30: 1.2 | E30: Dsn.Lungurjaya - Dsn. Tempura | F30: 3 | G30: 18,0096.2,003 | H30: Jembatan Kalituri 2 | I30: =AE30-AD30 -> 3.5 | J30: S | K30: 9 | L30: 4 | M30: 3.5 | N30: 1 | O30: M | P30: T | Q30: I | R30: 0 | S30: T | T30: 0 | U30: Y | V30: 0 | W30: LS | X30: M | Y30: 0 | Z30: P | AA30: M | AB30: 0 | AD30: ='[1]NGANJUK''Z'!$L$231 -> 503.2 | AE30: 506.7
A32: 9011 | B32: 536 | C32: 389.2 | D32: 3.15 | E32: Sekarputih - Guyangan | F32: 4 | G32: 18.0398.2.004 | H32: Kali Widas | I32: 10 | J32: S | K32: 14.4 | L32: 6 | M32: 7.8 | N32: 1 | O32: M | P32: T | Q32: I | R32: 0 | S32: T | T32: 0 | U32: V | V32: 0 | W32: LS | X32: M | Y32: 0 | Z32: B | AA32: M | AB32: 0 | AD32: =I32-#REF! -> #REF!
B34: 537 | F34: 5 | G34: 18.0398.2.005 | H34: Guyangan | I34: 11.3 | J34: S | K34: 4.7 | L34: 6 | M34: 6.4 | N34: 1 | O34: M | P34: T | Q34: I | R34: 0 | S34: T | T34: 0 | U34: V | V34: 0 | W34: LS | X34: M | Y34: 0 | Z34: B | AA34: M | AB34: 0 | AD34: =I34-#REF! -> #REF!
A36: 4065 | B36: 665 | C36: 441 | D36: 1.8 | E36: Cangkringan - Sekarputih | F36: 1 | G36: 18.0441.001 | H36: Jbt.Cangkringan | I36: 0 | J36: S | K36: 2.6 | L36: 5 | N36: 1 | O36: E | P36: M | Q36: I | R36: 0 | S36: M | T36: 0 | U36: M | V36: 0 | W36: LS | X36: M | Y36: 0 | Z36: B | AA36: M | AB36: 0
A38: 9012 | B38: 605 | C38: 442 | D38: 2.8 | E38: Gandu - Balangrejo | F38: 1 | G38: 18'0442'001 | H38: Kali Secang | I38: 0.8 | J38: S | K38: 3 | L38: 3.7 | M38: 4.1 | N38: 1 | O38: E | P38: M | Q38: I | R38: 0 | S38: M | T38: 0 | U38: M | V38: 0 | W38: LS | X38: M | Y38: 0 | Z38: B | AA38: M | AB38: 0 | AC38: =[2]nganjuk!$L$26 -> 971.3 | AD38: =I38-AC38 -> -970.5
A40: 9017 | B40: 606 | C40: 443 | D40: 2.1 | E40: Pesudukuh - Sekarputih | F40: 1 | G40: 18.0443.001 | H40: Pesudukuh I | I40: 0.7 | J40: S | K40: 3 | L40: 3 | M40: 4 | N40: 2 | O40: E | P40: M | Q40: I | R40: 0 | S40: M | T40: 0 | U40: M | V40: 0 | W40: LS | X40: M | Y40: 0 | Z40: B | AA40: M | AB40: 0 | AC40: =[2]nganjuk!$L$36 -> 986.9 | AD40: =I40-#REF! -> #REF!
B42: 607 | F42: 2 | G42: 18.0443.001 | H42: Pesudukuh II | I42: 1 | J42: S | K42: 5.5 | L42: 4 | M42: 4 | N42: 1 | O42: M | P42: T | Q42: I | R42: 0 | S42: T | T42: 0 | U42: V | V42: 0 | W42: LS | X42: M | Y42: 0 | Z42: B | AA42: M | AB42: 0 | AD42: =I42-#REF! -> #REF!
A44: 9013 | B44: 608 | C44: 447 | D44: 0.6 | E44: Sedayu - Wates | F44: 1 | G44: 18.0447.001 | H44: Kali Sedayu | I44: 0.7 | J44: S | K44: 6 | L44: 2.6 | M44: 3 | N44: 1 | O44: M | P44: T | Q44: I | R44: 0 | S44: T | T44: 0 | U44: M | V44: 0 | W44: LS | X44: M | Y44: 0 | Z44: B | AA44: M | AB44: 0 | AC44: =[2]nganjuk!$L$28 -> 975.2 | AD44: =I44-AC44 -> -974.5
A46: 9018 | B46: 609 | C46: 448 | D46: 10.8 | E46: Girirejo - Selorejo | F46: 1 | G46: 18.0448.001 | H46: Jatirejo | I46: 0 | J46: S | K46: 13 | L46: 6 | M46: 6 | N46: 1 | O46: G | P46: B | Q46: I | R46: 0 | S46: T | T46: 0 | U46: V | V46: 0 | W46: LS | X46: M | Y46: 0 | Z46: B | AA46: M | AB46: 0 | AC46: =[2]nganjuk!$L$37 -> 990.3 | AD46: =I46-#REF! -> #REF!
B48: 610 | F48: 2 | G48: 18.0448.002 | H48: Jatirejo II | I48: 0.4 | J48: S | K48: 22.5 | L48: 3.8 | M48: 5.5 | N48: 2 | O48: M | P48: T | Q48: I | R48: 0 | S48: T | T48: 0 | U48: V | V48: 0 | W48: LS | X48: M | Y48: 0 | Z48: B | AA48: M | AB48: 0 | AD48: =I48-#REF! -> #REF!
B50: 611 | F50: 3 | G50: 18.0448.003 | H50: Pilang Bangun | I50: 1.7 | J50: S | K50: 6.1 | L50: 3.5 | M50: 5.5 | N50: 1 | O50: M | P50: T | Q50: I | R50: 0 | S50: T | T50: 0 | U50: V | V50: 0 | W50: LS | X50: M | Y50: 0 | Z50: B | AA50: M | AB50: 0 | AD50: =I50-#REF! -> #REF!
B52: 612 | F52: 4 | G52: 18.0448.004 | H52: Kali Balongrejo | I52: 7 | J52: S | K52: 10 | L52: 6 | M52: 6 | N52: 1 | O52: M | P52: T | Q52: I | R52: 0 | S52: T | T52: 0 | U52: V | V52: 0 | W52: LS | X52: M | Y52: 0 | Z52: B | AA52: M | AB52: 0 | AD52: =I52-#REF! -> #REF!
B54: 613 | F54: 5 | G54: 18.0448.005 | H54: Kali Pojok | I54: 9.5 | J54: S | K54: 11 | L54: 3.5 | M54: 4.1 | N54: 4 | O54: M | P54: T | Q54: I | R54: 0 | S54: T | T54: 0 | U54: V | V54: 0 | W54: LS | X54: M | Y54: 0 | Z54: B | AA54: M | AB54: 0 | AD54: =I54-#REF! -> #REF!
B56: 614 | F56: 6 | G56: 18.0448.006 | H56: Kali Selo | I56: 10.2 | J56: S | K56: 3.1 | L56: 3 | M56: 6.6 | O56: E | P56: M | Q56: I | R56: 0 | S56: M | T56: 0 | U56: M | V56: 0 | W56: LS | X56: M | Y56: 0 | Z56: B | AA56: M | AB56: 0 | AD56: =I56-#REF! -> #REF!
A58: 9020 | B58: 615 | C58: 449 | D58: 1.3 | E58: Ngumpul - Paron | F58: 1 | G58: 18.0449.001 | H58: Kali Paron | I58: 1.2 | J58: S | K58: 14 | L58: 3 | M58: 3 | N58: 2 | O58: P | P58: T | Q58: I | R58: 2 | S58: D | T58: 2 | U58: B | V58: 2 | W58: LS | X58: M | Y58: 0 | Z58: B | AA58: K | AB58: 0 | AC58: =[2]nganjuk!$L$40 -> 13.6 | AD58: =I58-AC58 -> -12.4
A60: 9019 | B60: 616 | C60: 450 | D60: 3.2 | E60: Bagor - Ngumpul | F60: 1 | G60: 18.0450.001 | H60: Kali Plumpung | I60: 0.41 | J60: S | K60: 10 | L60: 5.2 | M60: 5.8 | N60: 2 | O60: M | P60: T | Q60: I | R60: 0 | S60: T | T60: 0 | U60: V | V60: 0 | W60: LS | X60: M | Y60: 0 | Z60: B | AA60: M | AB60: 0 | AC60: =[2]nganjuk!$L$39 -> 8.7 | AD60: =I60-#REF! -> #REF!
B62: 617 | F62: 2 | G62: 18.0450.002 | H62: Kali Bulung | I62: 2.7 | J62: S | K62: 11.5 | L62: 5.2 | M62: 5.8 | N62: 1 | O62: M | P62: T | Q62: I | R62: 0 | S62: T | T62: 0 | U62: V | V62: 0 | W62: LS | X62: M | Y62: 0 | Z62: B | AA62: M | AB62: 0 | AD62: =I62-#REF! -> #REF!
A64: 9022 | B64: 90 | C64: 9038.1 | D64: 0.4 | E64: Sugihwaras - Mojokandel | F64: 1 | G64: 18.9038.1.001 | H64: Kali Juwet | I64: 9.9 | J64: S | K64: 2.3 | L64: 3 | M64: 3 | N64: 1 | O64: E | P64: M | Q64: I | R64: 0 | S64: M | T64: 0 | U64: M | V64: 0 | W64: LS | X64: M | Y64: 0 | Z64: B | AA64: M | AB64: 0 | AC64: =[2]nganjuk!$L$42 -> 45.2 | AD64: =I64-#REF! -> #REF!
B66: 91 | F66: 2 | G66: 18.9038.1.002 | H66: Kali Kere II | I66: 10.7 | J66: S | K66: 2 | L66: 4 | M66: 4 | N66: 1 | O66: E | P66: M | Q66: I | R66: 0 | S66: M | T66: 0 | U66: M | V66: 0 | W66: LS | X66: M | Y66: 0 | Z66: B | AA66: M | AB66: 0 | AD66: =I66-#REF! -> #REF!
C69: LINTASAN/TIPE PENYEBERANGAN (4) | F69: TIPE BANGUNAN ATAS (8) | I69: ASAL BANGUNAN ATAS (10) | L69: TIPE PONDASI (16) | O69: TIPE KEPALA JEMBATAN/PILAR (19) | T69: BAHAN dan/atau BANGUNAN PELENGKAP (9,12,14,17,20)
C70: J N | D70: : Jalan | F70: B | G70: : Gorong - gorong Kotak | I70: W | J70: : Acrow / Bailey | L70: CA | M70: : Cakar Ayam | T70: K | U70: : Kayu | Y70: O | Z70: : Tanah Biasa
C71: K A | D71: : Kereta api | F71: Y | G71: : Gorong - gorong Pipa | I71: A | J71: : Australia | L71: LS | M71: : Langsung | O71: KEPALA JEMBATAN | T71: S | U71: : Pasangan Bata | Y71: A | Z71: : Aspal
C72: S | D72: : Sungai | F72: T | G72: : Gantung | I72: B | J72: : Belanda Baru | L72: TP | M72: : Tiang Pancang | O72: A | P72: : Kep ( Cap ) | T72: M | U72: : Pasangan Batu | Y72: R | Z72: : Kerikil / Pasir
C73: L | D73: : Lain-lain | F73: W | G73: : Sokongan - Gantungan | I73: D | J73: : Belanda Lama | L73: PB | M73: : Bore Pile | O73: B | P73: : Dinding Penuh | T73: G | U73: : Bronjong dan Sejenisnya | Y73: W | Z73: : Macadam
F74: G | G74: : Gelagar | I74: I | J74: : Indonesia | L74: SU | M74: : Sumuran | T74: H | U74: : Pasangan Batu Kosong | Y74: L | Z74: : Lain - lain
C75: KONDISI (11,13,15,18,21) | F75: M | G75: : Gelagar Komposit | I75: J | J75: : Jepang | L75: TU | M75: : Tiang Ulir | O75: P I L A R | T75: D | U75: : Beton Tidak Bertulang
C76: 0 : | D76: baik sekali | F76: L | G76: : Balok Pelengkung | I76: U | J76: : Kalender Hamilton | L76: BR | M76: : Kawat Bronjong | O76: C | P76: : Kep ( Cap ) | T76: T | U76: : Beton Bertulang
C77: 1 : | D77: rusak ringan, memerlukan pemeliharaan secara rutin | F77: E | G77: : Pelengkung | J77: ( Inggris ) | L77: LL | M77: : Lain - lain | O77: P | P77: : Dinding Penuh | T77: P | U77: : Beton Pratekan
C78: 2 : | D78: rusak, perbaikan berkala | F78: P | G78: : Plat | I78: S | J78: : Austria | O78: S | P78: : Satu Kolom | T78: B | U78: : Baja
C79: 3 : | D79: rusak berat, perbaikan secepatnya dalam kurun waktu 1 tahun | F79: R | G79: : Rangka | J79: ( Semi Permanen ) | O79: D | P79: : Dua Kolom | T79: U | U79: : Lantai Baja Bergelombang
C80: 4 : | D80: kritis, penanganan segera | F80: S | G80: : Jembatan Sementara | I80: P | J80: : Australia | O80: T | P80: : Tiga Kolom atau Penuh | T80: Y | U80: : Pipa Baja Diisi Beton
C81: 5 : | D81: jembtaan runtuh | F81: FX | G81: : Ferry | J81: ( Semi Permanen ) | O81: L | P81: : Lain - Lain | T81: J | U81: : Aluminium
F82: KX | G82: : Lintasan Kereta-api | I82: T | J82: : Australia | T82: E | U82: : Neoprene / Karet
F83: WX | G83: : Lintasan Basah | J83: ( Trans Panel ) | T83: F | U83: : Teflon
F84: U | G84: : Lain - lain | I84: R | J84: : Austria | T84: V | U84: : P V C
J85: ( Permanen ) | T85: X | U85: : Geotextile

Sheet Wilangan
C1: IKHTISAR INVENTARISASI JEMBATAN
C2: PROPINSI | E2: : JAWA TIMUR (35)
C3: KABUPATEN | E3: : NGANJUK
C4: KECAMATAN | E4: : WILANGAN
C6: No. Ruas | D6: Panjang (km) | E6: Nama Pangkal-Ujung Ruas (K1) | F6: No.Urut | G6: Nomor Jembatan | H6: Nama Jembatan/Sungai (>=2,0 m) | I6: PAL km | J6: Tipe Penye-berangan | K6: Ukuran | O6: Tipe/ Kondisi (Gunakan oe Standar di K10L)
K7: Panjang (m) | L7: Lebar | N7: Jumlah Bentang | O7: Bangunan Atas | S7: Lantai | U7: Sandaran | W7: Pondasi | Z7: Kepala Jemb. & Pilar
B8: No. ID | L8: Jalur | M8: Total | O8: Tipe | P8: Bahan | Q8: Asal | R8: Kond | S8: Bahan | T8: Kond | U8: Bahan | V8: Kond | W8: Tipe | X8: Bahan | Y8: Kond | Z8: Tipe | AA8: Bahan | AB8: Kond
F9: 1 | H9: 2 | I9: 3 | J9: 4 | K9: 5 | L9: 6.1 | M9: 6.2 | N9: 7 | O9: 8 | P9: 9 | Q9: 10 | R9: 11 | S9: 12 | T9: 13 | U9: 14 | V9: 15 | W9: 16 | X9: 17 | Y9: 18 | Z9: 19 | AA9: 20 | AB9: 21
A10: 103 | B10: 145 | C10: 79.2 | D10: 1.5 | E10: Banaran Kulon - Sukoharjo | F10: 4 | G10: 18,0079.2,004 | H10: Jembatan Kali Petak 3 | I10: 1.56 | J10: S | K10: 11 | L10: 3 | M10: 4 | N10: 1 | O10: M | P10: T | Q10: I | R10: 0 | S10: T | T10: 0 | U10: Y | V10: 0 | W10: LS | X10: M | Y10: 0 | Z10: P | AA10: M | AB10: 0
A12: 16 | B12: 146 | C12: 80 | D12: 1.3 | E12: Bagor Kulon - Ngudikan | F12: 1 | G12: 18,0080,001 | H12: Jembatan Desa Ngudikan | I12: 0.3 | J12: S | K12: 6 | L12: 4 | M12: 4 | N12: 1 | O12: M | P12: T | Q12: I | R12: 0 | S12: T | T12: 0 | U12: Y | V12: 0 | W12: LS | X12: M | Y12: 0 | Z12: P | AA12: M | AB12: 0
B14: 147 | F14: 2 | G14: 18,0080,002 | H14: Jembatan Bagor Kulon | I14: =AE14-AD14 -> 1.2 | J14: S | K14: 11 | L14: 4 | M14: 4 | N14: 1 | O14: M | P14: T | Q14: I | R14: 0 | S14: T | T14: 0 | U14: Y | V14: 0 | W14: LS | X14: M | Y14: 0 | Z14: P | AA14: M | AB14: 0 | AD14: ='[1]NGANJUK''Z'!$L$193 -> 103.6 | AE14: 104.8
A16: 9066 | B16: 148 | C16: 82 | D16: 1 | E16: Ngudikan - Dungbang | F16: 1 | G16: 18,0082,001 | H16: Jembatan DAM Ngudikan | I16: =AE16-AD16 -> 1 | J16: S | K16: 51 | L16: 1.5 | M16: 1.5 | N16: 4 | O16: M | P16: T | Q16: I | R16: 0 | S16: T | T16: 0 | U16: Y | V16: 0 | W16: LS | X16: M | Y16: 0 | Z16: P | AA16: M | AB16: 0 | AD16: ='[1]NGANJUK''Z'!$L$121 -> 897.4 | AE16: 898.4
A18: 29 | B18: 149 | C18: 83 | D18: 2.2 | E18: Ngudikan - Mancon | F18: 1 | G18: 18,0083,001 | H18: Jembatan Desa Mancon | I18: =AE18-AD18 -> 0.1 | J18: S | K18: 12 | L18: 3.5 | M18: 4.5 | N18: 1 | O18: M | P18: T | Q18: I | R18: 0 | S18: T | T18: 0 | U18: Y | V18: 0 | W18: LS | X18: M | Y18: 0 | Z18: P | AA18: M | AB18: 0 | AD18: ='[1]NGANJUK''Z'!$L$202 -> 98.8 | AE18: 98.9
A20: 185 | B20: 155 | C20: 92 | D20: 3.6 | E20: Sukoharjo - Tukdadap | F20: 1 | G20: 18,0092,001 | H20: Jembatan Plosorejo | I20: =AE20-AD20 -> 1.9 | J20: S | K20: 15 | L20: 3.5 | M20: 3.5 | N20: 2 | O20: M | P20: T | Q20: I | R20: 0 | S20: T | T20: 0 | U20: Y | V20: 0 | W20: LS | X20: M | Y20: 0 | Z20: P | AA20: M | AB20: 0 | AD20: ='[1]NGANJUK''Z'!$L$272 -> 454.6 | AE20: 456.5
A22: 9011 | B22: 156 | C22: 93 | D22: 1.1 | E22: Ngudikan - Putuk | F22: 1 | G22: 18,0093,001 | H22: Jembatan Irigasi Ngudikan | I22: =AE22-AD22 -> 0 | J22: S | K22: 3.5 | L22: 5.5 | M22: 5.5 | N22: 1 | O22: M | P22: T | Q22: I | R22: 0 | S22: T | T22: 0 | U22: Y | V22: 0 | W22: LS | X22: M | Y22: 0 | Z22: P | AA22: M | AB22: 0 | AD22: ='[1]NGANJUK''Z'!$L$23 -> 462.5 | AE22: 462.5
B24: 157 | F24: 2 | G24: 18,0093,002 | H24: Jembatan Ngudikan | I24: =AE24-AD22 -> 0.9 | J24: S | K24: 12 | L24: 3.5 | M24: 3.5 | N24: 1 | O24: M | P24: T | Q24: I | R24: 0 | S24: T | T24: 0 | U24: Y | V24: 0 | W24: LS | X24: M | Y24: 0 | Z24: P | AA24: M | AB24: 0 | AE24: 463.4
A26: 9022 | B26: 597 | C26: 437.2 | D26: 4.85 | E26: Bedrek - Sudimoroharjo | F26: 1 | G26: 18,0437.2,001 | H26: Kali Juwet | I26: 9.9 | J26: S | K26: 2.3 | L26: 3 | M26: 3 | N26: 1 | O26: E | P26: M | R26: 0 | S26: M | T26: 0 | U26: M | V26: 0 | W26: LS | X26: M | Y26: 0 | Z26: B | AA26: M | AB26: 0 | AC26: =[2]nganjuk!$L$42 -> 45.2 | AD26: =I26-#REF! -> #REF!
B28: 598 | F28: 2 | G28: 18,0437.2,002 | H28: Kali Kere II | I28: 10.7 | J28: S | K28: 2 | L28: 4 | M28: 4 | N28: 1 | O28: E | P28: M | R28: 0 | S28: M | T28: 0 | U28: M | V28: 0 | W28: LS | X28: M | Y28: 0 | Z28: B | AA28: M | AB28: 0 | AD28: =I28-#REF! -> #REF!
A30: 9002 | B30: 618 | C30: 451.1 | D30: 13.75 | E30: Wilangan - Sudimoroharjo | F30: 1 | G30: 18,0451.1,001 | H30: Jegong | I30: 1.6 | J30: S | K30: 5.5 | L30: 4.2 | M30: 4.5 | N30: 1 | O30: M | P30: T | R30: 0 | S30: T | T30: 0 | U30: V | V30: 0 | W30: LS | X30: M | Y30: 0 | Z30: B | AA30: M | AB30: 0 | AC30: 791.6 | AD30: =I30-#REF! -> #REF!
B32: 619 | F32: 2 | G32: 18,0451.1,002 | H32: Tretekong | I32: 5.6 | J32: S | K32: 2.5 | L32: 5 | M32: 5.5 | N32: 1 | O32: P | P32: T | R32: 0 | S32: T | T32: 0 | U32: V | V32: 0 | W32: LS | X32: M | Y32: 0 | Z32: B | AA32: M | AB32: 0 | AD32: =I32-#REF! -> #REF!
B34: 620 | F34: 3 | G34: 18,0451.1,003 | H34: Kali Gempol | I34: 10.7 | J34: S | K34: 4.5 | L34: 4 | M34: 4 | N34: 1 | O34: M | P34: T | R34: 0 | S34: T | T34: 0 | U34: Y | V34: 0 | W34: LS | X34: M | Y34: 0 | Z34: B | AA34: M | AB34: 0 | AD34: =I34-#REF! -> #REF!
B36: 621 | F36: 4 | G36: 18,0451.1,004 | H36: Kali Kere | I36: 14.3 | J36: S | K36: 4 | L36: 4 | M36: 4 | N36: 1 | O36: M | P36: T | R36: 0 | S36: T | T36: 0 | U36: V | V36: 2 | W36: LS | X36: M | Y36: 0 | Z36: B | AA36: M | AB36: 0 | AD36: =I36-#REF! -> #REF!
C38: LINTASAN/TIPE PENYEBERANGAN (4) | F38: TIPE BANGUNAN ATAS (8) | I38: ASAL BANGUNAN ATAS (10) | L38: TIPE PONDASI (16) | O38: TIPE KEPALA JEMBATAN/PILAR (19) | T38: BAHAN dan/atau BANGUNAN PELENGKAP (9,12,14,17,20)
C39: J N | D39: : Jalan | F39: B | G39: : Gorong - gorong Kotak | I39: W | J39: : Acrow / Bailey | L39: CA | M39: : Cakar Ayam | T39: K | U39: : Kayu | Y39: O | Z39: : Tanah Biasa
C40: K A | D40: : Kereta api | F40: Y | G40: : Gorong - gorong Pipa | I40: A | J40: : Australia | L40: LS | M40: : Langsung | O40: KEPALA JEMBATAN | T40: S | U40: : Pasangan Bata | Y40: A | Z40: : Aspal
C41: S | D41: : Sungai | F41: T | G41: : Gantung | I41: B | J41: : Belanda Baru | L41: TP | M41: : Tiang Pancang | O41: A | P41: : Kep ( Cap ) | T41: M | U41: : Pasangan Batu | Y41: R | Z41: : Kerikil / Pasir
C42: L | D42: : Lain-lain | F42: W | G42: : Sokongan - Gantungan | I42: D | J42: : Belanda Lama | L42: PB | M42: : Bore Pile | O42: B | P42: : Dinding Penuh | T42: G | U42: : Bronjong dan Sejenisnya | Y42: W | Z42: : Macadam
F43: G | G43: : Gelagar | I43: I | J43: : Indonesia | L43: SU | M43: : Sumuran | T43: H | U43: : Pasangan Batu Kosong | Y43: L | Z43: : Lain - lain
C44: KONDISI (11,13,15,18,21) | F44: M | G44: : Gelagar Komposit | I44: J | J44: : Jepang | L44: TU | M44: : Tiang Ulir | O44: P I L A R | T44: D | U44: : Beton Tidak Bertulang
C45: 0 : | D45: baik sekali | F45: L | G45: : Balok Pelengkung | I45: U | J45: : Kalender Hamilton | L45: BR | M45: : Kawat Bronjong | O45: C | P45: : Kep ( Cap ) | T45: T | U45: : Beton Bertulang
C46: 1 : | D46: rusak ringan, memerlukan pemeliharaan secara rutin | F46: E | G46: : Pelengkung | J46: ( Inggris ) | L46: LL | M46: : Lain - lain | O46: P | P46: : Dinding Penuh | T46: P | U46: : Beton Pratekan
C47: 2 : | D47: rusak, perbaikan berkala | F47: P | G47: : Plat | I47: S | J47: : Austria | O47: S | P47: : Satu Kolom | T47: B | U47: : Baja
C48: 3 : | D48: rusak berat, perbaikan secepatnya dalam kurun waktu 1 tahun | F48: R | G48: : Rangka | J48: ( Semi Permanen ) | O48: D | P48: : Dua Kolom | T48: U | U48: : Lantai Baja Bergelombang
C49: 4 : | D49: kritis, penanganan segera | F49: S | G49: : Jembatan Sementara | I49: P | J49: : Australia | O49: T | P49: : Tiga Kolom atau Penuh | T49: Y | U49: : Pipa Baja Diisi Beton
C50: 5 : | D50: jembtaan runtuh | F50: FX | G50: : Ferry | J50: ( Semi Permanen ) | O50: L | P50: : Lain - Lain | T50: J | U50: : Aluminium
F51: KX | G51: : Lintasan Kereta-api | I51: T | J51: : Australia | T51: E | U51: : Neoprene / Karet
F52: WX | G52: : Lintasan Basah | J52: ( Trans Panel ) | T52: F | U52: : Teflon
F53: U | G53: : Lain - lain | I53: R | J53: : Austria | T53: V | U53: : P V C
J54: ( Permanen ) | T54: X | U54: : Geotextile

Sheet Sawahan
C1: IKHTISAR INVENTARISASI JEMBATAN
C2: PROPINSI | E2: : JAWA TIMUR (35)
C3: KABUPATEN | E3: : NGANJUK
C4: KECAMATAN | E4: : SAWAHAN
C6: No. Ruas | D6: Panjang (km) | E6: Nama Pangkal-Ujung Ruas (K1) | F6: No.Urut | G6: Nomor Jembatan | H6: Nama Jembatan/Sungai (>=2,0 m) | I6: PAL km | J6: Tipe Penye-berangan | K6: Ukuran | O6: Tipe/ Kondisi (Gunakan oe Standar di K10L)
K7: Panjang (m) | L7: Lebar | N7: Jumlah Bentang | O7: Bangunan Atas | S7: Lantai | U7: Sandaran | W7: Pondasi | Z7: Kepala Jemb. & Pilar
B8: No. ID | L8: Jalur | M8: Total | O8: Tipe | P8: Bahan | Q8: Asal | R8: Kond | S8: Bahan | T8: Kond | U8: Bahan | V8: Kond | W8: Tipe | X8: Bahan | Y8: Kond | Z8: Tipe | AA8: Bahan | AB8: Kond
F9: 1 | H9: 2 | I9: 3 | J9: 4 | K9: 5 | L9: 6.1 | M9: 6.2 | N9: 7 | O9: 8 | P9: 9 | Q9: 10 | R9: 11 | S9: 12 | T9: 13 | U9: 14 | V9: 15 | W9: 16 | X9: 17 | Y9: 18 | Z9: 19 | AA9: 20 | AB9: 21
A10: 9079 | B10: 551 | C10: 394 | D10: 10 | E10: Bulak/Margopatut - Keduk/Kebonagung | F10: 1 | G10: 18.0394.001 | H10: Jbt. Margopatut | I10: 0 | J10: S | K10: 4.7 | L10: 2.5 | M10: 3.7 | N10: 1 | O10: M | P10: T | Q10: I | R10: 0 | S10: T | T10: 0 | U10: V | V10: 0 | W10: LS | Y10: 0 | Z10: B | AA10: M | AB10: 0
B12: 552 | F12: 2 | G12: 18.0394.002 | H12: Jbt. Jenangan | I12: 0.58 | J12: S | K12: 26.1 | L12: 2.3 | M12: 3.7 | N12: 3 | O12: M | P12: T | Q12: I | R12: 0 | S12: T | T12: 0 | U12: V | V12: 0 | W12: LS | Y12: 0 | Z12: B | AA12: M | AB12: 0
B14: 553 | F14: 3 | G14: 18.0394.003 | H14: Jbt. Jenangan 2 | I14: 0.73 | J14: S | K14: 12 | L14: 3 | N14: 2 | O14: G | P14: B | Q14: I | R14: 2 | S14: D | T14: 2 | U14: B | V14: 0 | W14: LS | Y14: 0 | Z14: B | AA14: M | AB14: 0
B16: 554 | F16: 4 | G16: 18.0394.004 | H16: Jbt. Kali Ledok | I16: 1.2 | J16: S | K16: 7.2 | L16: 2.3 | M16: 3.3 | O16: G | P16: B | Q16: I | R16: 1 | S16: D | T16: 0 | U16: V | V16: 0 | W16: LS | Y16: 0 | Z16: B | AA16: M | AB16: 0
B18: 555 | F18: 5 | G18: 18.0394.005 | H18: Jbt. Margopatut 2 | I18: 2.2 | J18: S | K18: 3 | L18: 3.5 | O18: E | P18: M | Q18: I | R18: 1 | S18: M | T18: 0 | U18: V | V18: 0 | W18: LS | Y18: 0 | Z18: B | AA18: M | AB18: 0
B20: 556 | F20: 6 | G20: 18.0394.006 | H20: Jbt. Sumber Agung | I20: 6.8 | J20: S | K20: 5.2 | L20: 3.2 | O20: M | P20: T | Q20: I | R20: 1 | S20: D | T20: 1 | U20: D | V20: 1 | W20: LS | Y20: 0 | Z20: B | AA20: M | AB20: 0
B22: 557 | F22: 7 | G22: 18.0394.007 | H22: Jbt. Kali Kuncir | I22: 8.6 | J22: S | K22: 33.5 | L22: 2.1 | M22: 3.3 | N22: 3 | O22: G | P22: B | Q22: I | R22: 1 | S22: D | T22: 1 | U22: D | V22: 1 | W22: LS | Y22: 0 | Z22: B | AA22: M | AB22: 0
A24: 9010 | B24: 542 | C24: 393.1 | D24: 14.9 | E24: Ngliman - Tosari | F24: 1 | G24: 18.0393.1.001 | H24: Kali Ngipik | I24: 4.1 | J24: S | K24: 5.5 | L24: 5.5 | M24: 6 | N24: 1 | O24: M | P24: T | Q24: I | R24: 0 | S24: T | T24: 0 | U24: V | V24: 0 | W24: LS | X24: M | Y24: 0 | Z24: B | AA24: M | AB24: 0 | AC24: =[2]nganjuk!$L$23 -> 924.8 | AD24: =I24-#REF! -> #REF!
B26: 543 | F26: 2 | G26: 18.0393.1.002 | H26: Kali Bruno | I26: 4.7 | J26: S | K26: 3.5 | L26: 5.5 | M26: 7.2 | O26: M | P26: T | Q26: I | R26: 0 | S26: T | T26: 0 | U26: Y | V26: 0 | W26: LS | X26: M | Y26: 0 | Z26: B | AA26: M | AB26: 1 | AD26: =I26-#REF! -> #REF!
B28: 544 | F28: 3 | G28: 18.0393.1.003 | H28: Magangan | I28: 6.3 | J28: S | K28: 10.5 | L28: 3.5 | M28: 3.5 | O28: M | P28: T | Q28: I | R28: 0 | S28: T | T28: 0 | U28: V | V28: 0 | W28: LS | X28: M | Y28: 0 | Z28: B | AA28: M | AB28: 0 | AD28: =I28-#REF! -> #REF!
B30: 545 | F30: 4 | G30: 18.0393.1.004 | H30: Koplakan | I30: 8.2 | J30: S | K30: 5.5 | L30: 5.9 | M30: 6 | N30: 1 | O30: G | P30: B | Q30: I | R30: 0 | S30: T | T30: 0 | U30: V | V30: 0 | W30: LS | X30: M | Y30: 0 | Z30: B | AA30: M | AB30: 0 | AD30: =I30-#REF! -> #REF!
B32: 546 | F32: 5 | G32: 18.0393.1.005 | H32: Gemantong | I32: 10.9 | J32: S | K32: 5.1 | L32: 5 | M32: 7.2 | O32: M | P32: T | Q32: I | R32: 0 | S32: T | T32: 0 | U32: V | V32: 0 | W32: LS | X32: M | Y32: 0 | Z32: B | AA32: M | AB32: 0 | AD32: =I32-#REF! -> #REF!
B34: 547 | F34: 6 | G34: 18.0393.1.006 | H34: Kali Mijil | I34: 13.7 | J34: S | K34: 8 | L34: 5 | M34: 5.5 | N34: 1 | O34: M | P34: T | Q34: I | R34: 0 | S34: T | T34: 0 | U34: V | V34: 0 | W34: LS | X34: M | Y34: 0 | Z34: B | AA34: M | AB34: 0 | AD34: =I34-#REF! -> #REF!
A36: 9078 | B36: 558 | C36: 396 | D36: 4.95 | E36: Sawahan - Bareng | F36: 1 | G36: 18.0396.001 | H36: Jbt.Sawahan | I36: 0.15 | J36: S | K36: 2.5 | L36: 3 | M36: 5 | N36: 1 | O36: E | P36: M | R36: 0 | S36: M | T36: 0 | U36: M | V36: 0 | W36: LS | Y36: 0 | Z36: B | AA36: M | AB36: 0 | AD36: =I36-#REF! -> #REF!
B38: 559 | F38: 2 | G38: 18.0396.002 | H38: Jbt. Bareng | I38: 0.47 | J38: S | K38: 22.7 | L38: 3.5 | N38: 2 | O38: M | P38: T | R38: 0 | S38: T | T38: 0 | U38: M | V38: 0 | W38: LS | Y38: 0 | Z38: B | AA38: M | AB38: 0
B40: 560 | F40: 3 | G40: 18.0396.003 | H40: Jbt. Bareng | I40: 1.65 | J40: S | K40: 6 | L40: 3 | N40: 2 | O40: G | P40: B | Q40: I | R40: 0 | S40: T | T40: 0 | U40: Y | V40: 0 | W40: LS | Y40: 0 | Z40: B | AA40: M | AB40: 0
A42: 9002 | B42: 622 | C42: 451.2 | D42: 2.25 | E42: Duren - Jatirejo | F42: 5 | G42: 18.0451.2.005 | H42: Kali Durenan | I42: 15.5 | J42: S | K42: 3 | L42: 3 | M42: 4 | N42: 1 | O42: P | P42: T | Q42: I | R42: 0 | S42: T | T42: 0 | U42: Y | V42: 2 | W42: LS | X42: M | Y42: 0 | Z42: B | AA42: M | AB42: 0 | AD42: =I42-#REF! -> #REF!
A44: 9008 | B44: 623 | C44: 453 | D44: 3.3 | E44: Sidorejo - Duren | F44: 1 | G44: 18.0453.001 | H44: Sidorejo I | I44: 0.1 | J44: S | K44: 4.5 | L44: 3.5 | M44: 4.3 | N44: 2 | O44: E | P44: M | Q44: I | R44: 0 | S44: M | T44: 0 | U44: V | V44: 2 | W44: LS | X44: M | Y44: 0 | Z44: B | AA44: M | AB44: 0 | AC44: =[2]nganjuk!$L$21 -> 905.9 | AD44: =I44-#REF! -> #REF!
B46: 624 | F46: 2 | G46: 18.0453.002 | H46: Sidorejo II | I46: 0.6 | J46: S | K46: 3 | L46: 3.7 | M46: 4.5 | N46: 1 | O46: E | P46: M | Q46: I | R46: 0 | S46: M | T46: 0 | U46: Y | V46: 0 | W46: LS | X46: M | Y46: 0 | Z46: B | AA46: M | AB46: 0 | AD46: =I46-#REF! -> #REF!
B48: 625 | F48: 3 | G48: 18.0453.003 | H48: Jurang Kunci | I48: 2.4 | J48: S | K48: 10.8 | L48: 4 | M48: 4 | N48: 1 | O48: M | P48: T | Q48: I | R48: 0 | S48: T | T48: 0 | U48: V | V48: 0 | W48: LS | X48: M | Y48: 0 | Z48: B | AA48: M | AB48: 0 | AD48: =I48-#REF! -> #REF!
A50: 9007 | B50: 626 | C50: 454 | D50: 4.9 | E50: Duren - Sawahan | F50: 1 | G50: 18.0454.001 | H50: Ledok | I50: 3.3 | J50: S | K50: 7.1 | L50: 3.7 | M50: 4.2 | N50: 1 | O50: M | P50: T | Q50: I | R50: 0 | S50: T | T50: 0 | U50: V | V50: 0 | W50: LS | X50: M | Y50: 0 | Z50: B | AA50: M | AB50: 0 | AC50: =[2]nganjuk!$L$20 -> 900.3 | AD50: =I50-#REF! -> #REF!
B52: 627 | F52: 2 | G52: 18.0454.002 | H52: Tilik | I52: 3.9 | J52: S | K52: 5.5 | L52: 3 | M52: 3.6 | N52: 1 | O52: S | P52: K | Q52: I | R52: 5 | S52: K | T52: 5 | V52: 5 | W52: LS | X52: M | Y52: 0 | Z52: B | AA52: M | AB52: 2 | AD52: =I52-#REF! -> #REF!
B54: 628 | F54: 3 | G54: 18.0454.003 | H54: Kali Mati | I54: 4.3 | J54: S | K54: 2.5 | L54: 3.4 | M54: 4 | N54: 1 | O54: P | P54: T | Q54: I | R54: 0 | S54: T | T54: 0 | U54: Y | V54: 0 | W54: LS | X54: M | Y54: 0 | Z54: B | AA54: M | AB54: 0 | AD54: =I54-#REF! -> #REF!
B56: 629 | F56: 4 | G56: 18.0454.004 | H56: Ledok II | I56: 4.9 | J56: S | K56: 6.3 | L56: 3.3 | M56: 3.9 | N56: 1 | O56: M | P56: T | Q56: I | R56: 0 | S56: T | T56: 0 | U56: Y | V56: 0 | W56: LS | X56: M | Y56: 0 | Z56: B | AA56: M | AB56: 0 | AD56: =I56-#REF! -> #REF!
A58: 9003 | B58: 630 | C58: 457 | D58: 10.2 | E58: Duren - Bendolo | F58: 1 | G58: 18.0457.001 | H58: Duren I | I58: 0.4 | J58: S | K58: 4.5 | L58: 3 | M58: 3.5 | N58: 1 | O58: M | P58: T | Q58: I | R58: 0 | S58: T | T58: 0 | U58: Y | V58: 0 | W58: LS | X58: M | Y58: 0 | Z58: B | AA58: M | AB58: 0 | AC58: =[2]nganjuk!$L$14 -> 809.4 | AD58: =I58-#REF! -> #REF!
B60: 631 | F60: 2 | G60: 18.0457.002 | H60: Kali Galon | I60: 2.2 | J60: S | K60: 19.5 | L60: 4.5 | M60: 6.3 | N60: 3 | O60: M | P60: T | Q60: I | R60: 0 | S60: T | T60: 0 | U60: V | V60: 0 | W60: SU | X60: M | Y60: 0 | Z60: B | AA60: M | AB60: 0 | AD60: =I60-#REF! -> #REF!
B62: 632 | F62: 3 | G62: 18.0457.003 | H62: Bendolo I | I62: 8 | J62: S | K62: 2.7 | L62: 3 | M62: 3 | N62: 1 | O62: M | P62: T | Q62: I | R62: 0 | S62: T | T62: 0 | U62: V | V62: 0 | W62: LS | X62: M | Y62: 0 | Z62: B | AA62: M | AB62: 0 | AD62: =I62-#REF! -> #REF!
B64: 633 | F64: 4 | G64: 18.0457.004 | H64: Bakalan | I64: 8.7 | J64: S | K64: 4.3 | L64: 3 | M64: 3 | N64: 1 | O64: M | P64: T | Q64: I | R64: 0 | S64: T | T64: 0 | U64: V | V64: 0 | W64: LS | X64: M | Y64: 0 | Z64: B | AA64: M | AB64: 0 | AD64: =I64-#REF! -> #REF!
A66: 9004 | B66: 634 | C66: 458 | D66: 1.4 | E66: Tiling - Bendolo | F66: 1 | G66: 18.0458.001 | H66: Bendolo | I66: 0 | J66: S | K66: 15.6 | L66: 6 | M66: 7 | N66: 1 | O66: M | P66: T | Q66: I | R66: 0 | S66: T | T66: 0 | U66: Y | V66: 0 | W66: SU | X66: M | Y66: 0 | Z66: B | AA66: M | AB66: 0 | AC66: =[2]nganjuk!$L$15 -> 820.1 | AD66: =I66-#REF! -> #REF!
B68: 635 | F68: 2 | G68: 18.0458.002 | H68: Bendolo II / Sepituran | I68: 0.8 | J68: S | K68: 5.5 | L68: 4.2 | M68: 4.5 | N68: 1 | O68: M | P68: T | Q68: I | R68: 0 | S68: T | T68: 0 | U68: V | V68: 0 | W68: LS | X68: M | Y68: 0 | Z68: B | AA68: M | AB68: 0 | AD68: =I68-#REF! -> #REF!
A70: 9009 | B70: 648 | C70: 459 | D70: 2 | E70: Duren - Sawahan | F70: 1 | G70: 18.0459.001 | H70: Kali Ledok | I70: 0.6 | J70: S | K70: 7.2 | L70: 3.5 | M70: 4 | N70: 1 | O70: M | P70: T | Q70: I | R70: 0 | S70: T | T70: 0 | U70: V | V70: 0 | W70: LS | X70: M | Y70: 0 | Z70: B | AA70: M | AB70: 0 | AC70: =[2]nganjuk!$L$22 -> 913.5 | AD70: =I70-#REF! -> #REF!
B72: 649 | F72: 2 | G72: 18.0459.002 | H72: Kali Sumber Molor | I72: 1.3 | J72: S | K72: 2.5 | L72: 2.5 | M72: 2.7 | N72: 1 | O72: E | P72: M | Q72: I | R72: 0 | S72: M | T72: 0 | U72: M | V72: 0 | W72: LS | X72: M | Y72: 0 | Z72: B | AA72: M | AB72: 0 | AD72: =I72-#REF! -> #REF!
A74: 9024 | B74: 640 | C74: 9095 | D74: 1.54 | E74: Sidorejo - Siwalan | F74: 1 | G74: 18.9095.001 | H74: Siwalan | I74: 2.7 | J74: S | K74: 3.2 | L74: 3 | M74: 3 | N74: 1 | O74: P | P74: T | Q74: I | R74: 0 | S74: T | T74: 0 | U74: V | V74: 0 | W74: LS | X74: M | Y74: 0 | Z74: B | AA74: M | AB74: 0 | AC74: =[2]nganjuk!$L$48 -> 66 | AD74: =I74-#REF! -> #REF!
B76: 641 | F76: 2 | G76: 18.9095.002 | H76: Siwalan II | I76: 3.6 | J76: S | K76: 2.5 | L76: 3.1 | M76: 3.3 | N76: 1 | O76: M | P76: T | Q76: I | R76: 0 | S76: T | T76: 0 | U76: V | V76: 0 | W76: LS | X76: M | Y76: 0 | Z76: B | AA76: M | AB76: 0 | AD76: =I76-#REF! -> #REF!
A78: 9005 | B78: 642 | C78: 9097 | D78: 1.6 | E78: Bumo - Ngebo | F78: 1 | G78: 18.9097.001 | H78: Bomo I | I78: 0.1 | J78: S | K78: 3 | L78: 3.7 | M78: 4.1 | N78: 1 | O78: P | P78: T | Q78: I | R78: 0 | S78: T | T78: 0 | U78: V | V78: 0 | W78: LS | X78: M | Y78: 0 | Z78: B | AA78: M | AB78: 0 | AC78: =[2]nganjuk!$L$16 -> 824.1 | AD78: =I78-#REF! -> #REF!
C81: LINTASAN/TIPE PENYEBERANGAN (4) | F81: TIPE BANGUNAN ATAS (8) | I81: ASAL BANGUNAN ATAS (10) | L81: TIPE PONDASI (16) | O81: TIPE KEPALA JEMBATAN/PILAR (19) | T81: BAHAN dan/atau BANGUNAN PELENGKAP (9,12,14,17,20)
C82: J N | D82: : Jalan | F82: B | G82: : Gorong - gorong Kotak | I82: W | J82: : Acrow / Bailey | L82: CA | M82: : Cakar Ayam | T82: K | U82: : Kayu | Y82: O | Z82: : Tanah Biasa
C83: K A | D83: : Kereta api | F83: Y | G83: : Gorong - gorong Pipa | I83: A | J83: : Australia | L83: LS | M83: : Langsung | O83: KEPALA JEMBATAN | T83: S | U83: : Pasangan Bata | Y83: A | Z83: : Aspal
C84: S | D84: : Sungai | F84: T | G84: : Gantung | I84: B | J84: : Belanda Baru | L84: TP | M84: : Tiang Pancang | O84: A | P84: : Kep ( Cap ) | T84: M | U84: : Pasangan Batu | Y84: R | Z84: : Kerikil / Pasir
C85: L | D85: : Lain-lain | F85: W | G85: : Sokongan - Gantungan | I85: D | J85: : Belanda Lama | L85: PB | M85: : Bore Pile | O85: B | P85: : Dinding Penuh | T85: G | U85: : Bronjong dan Sejenisnya | Y85: W | Z85: : Macadam
F86: G | G86: : Gelagar | I86: I | J86: : Indonesia | L86: SU | M86: : Sumuran | T86: H | U86: : Pasangan Batu Kosong | Y86: L | Z86: : Lain - lain
C87: KONDISI (11,13,15,18,21) | F87: M | G87: : Gelagar Komposit | I87: J | J87: : Jepang | L87: TU | M87: : Tiang Ulir | O87: P I L A R | T87: D | U87: : Beton Tidak Bertulang
C88: 0 : | D88: baik sekali | F88: L | G88: : Balok Pelengkung | I88: U | J88: : Kalender Hamilton | L88: BR | M88: : Kawat Bronjong | O88: C | P88: : Kep ( Cap ) | T88: T | U88: : Beton Bertulang
C89: 1 : | D89: rusak ringan, memerlukan pemeliharaan secara rutin | F89: E | G89: : Pelengkung | J89: ( Inggris ) | L89: LL | M89: : Lain - lain | O89: P | P89: : Dinding Penuh | T89: P | U89: : Beton Pratekan
C90: 2 : | D90: rusak, perbaikan berkala | F90: P | G90: : Plat | I90: S | J90: : Austria | O90: S | P90: : Satu Kolom | T90: B | U90: : Baja
C91: 3 : | D91: rusak berat, perbaikan secepatnya dalam kurun waktu 1 tahun | F91: R | G91: : Rangka | J91: ( Semi Permanen ) | O91: D | P91: : Dua Kolom | T91: U | U91: : Lantai Baja Bergelombang
C92: 4 : | D92: kritis, penanganan segera | F92: S | G92: : Jembatan Sementara | I92: P | J92: : Australia | O92: T | P92: : Tiga Kolom atau Penuh | T92: Y | U92: : Pipa Baja Diisi Beton
C93: 5 : | D93: jembtaan runtuh | F93: FX | G93: : Ferry | J93: ( Semi Permanen ) | O93: L | P93: : Lain - Lain | T93: J | U93: : Aluminium
F94: KX | G94: : Lintasan Kereta-api | I94: T | J94: : Australia | T94: E | U94: : Neoprene / Karet
F95: WX | G95: : Lintasan Basah | J95: ( Trans Panel ) | T95: F | U95: : Teflon
F96: U | G96: : Lain - lain | I96: R | J96: : Austria | T96: V | U96: : P V C
J97: ( Permanen ) | T97: X | U97: : Geotextile

Sheet Nganjuk
C1: IKHTISAR INVENTARISASI JEMBATAN
C2: PROPINSI | E2: : JAWA TIMUR (35)
C3: KABUPATEN | E3: : NGANJUK
C4: KECAMATAN | E4: : NGANJUK
C6: No. Ruas | D6: Panjang (km) | E6: Nama Pangkal-Ujung Ruas (K1) | F6: No.Urut | G6: Nomor Jembatan | H6: Nama Jembatan/Sungai (>=2,0 m) | I6: PAL km | J6: Tipe Penye-berangan | K6: Ukuran | O6: Tipe/ Kondisi (Gunakan oe Standar di K10L)
K7: Panjang (m) | L7: Lebar | N7: Jumlah Bentang | O7: Bangunan Atas | S7: Lantai | U7: Sandaran | W7: Pondasi | Z7: Kepala Jemb. & Pilar
B8: No. ID | L8: Jalur | M8: Total | O8: Tipe | P8: Bahan | Q8: Asal | R8: Kond | S8: Bahan | T8: Kond | U8: Bahan | V8: Kond | W8: Tipe | X8: Bahan | Y8: Kond | Z8: Tipe | AA8: Bahan | AB8: Kond
F9: 1 | H9: 2 | I9: 3 | J9: 4 | K9: 5 | L9: 6.1 | M9: 6.2 | N9: 7 | O9: 8 | P9: 9 | Q9: 10 | R9: 11 | S9: 12 | T9: 13 | U9: 14 | V9: 15 | W9: 16 | X9: 17 | Y9: 18 | Z9: 19 | AA9: 20 | AB9: 21
A10: 30 | B10: 99 | C10: 54 | D10: 2.3 | E10: Krajan Dua - Jegles | F10: 1 | G10: 18.0054.001 | H10: Jembatan Begadung | I10: =AE10-AD10 -> 0.9 | J10: S | K10: 2 | L10: 11 | M10: 11 | N10: 1 | O10: P | P10: T | Q10: I | R10: 0 | S10: T | T10: 0 | U10: Y | V10: 0 | W10: LS | X10: M | Y10: 0 | Z10: P | AA10: M | AB10: 0 | AD10: ='[1]NGANJUK''Z'!$L$203 -> 305 | AE10: 305.9
B12: 100 | F12: 2 | G12: 18.0054.002 | H12: Jembatan Mangundikaran | I12: =AE12-AD10 -> 2.1 | J12: S | K12: 25 | L12: 6 | M12: 8 | N12: 1 | O12: M | P12: T | Q12: I | R12: 0 | S12: T | T12: 0 | U12: Y | V12: 0 | W12: LS | X12: M | Y12: 0 | Z12: P | AA12: M | AB12: 0 | AE12: 307.1
A14: 21 | B14: 109 | C14: 65.2 | D14: 1.6 | E14: Kedungdowo - Kedungdowo | F14: 1 | G14: 18.0065.2.001 | H14: Jembatan Kali Ngrangkul | I14: =AE14-AD14 -> 0 | J14: S | K14: 23 | L14: 3 | M14: 3 | N14: 2 | O14: M | P14: T | Q14: I | R14: 0 | S14: T | T14: 0 | U14: Y | V14: 0 | W14: LS | X14: M | Y14: 0 | Z14: P | AA14: M | AB14: 0
A16: 9095 | B16: 352 | C16: 172.2 | D16: 1.4 | E16: Kramat - Ganungkidul | F16: 2 | G16: 18.0172.2.002 | H16: Kali Ganung | I16: 3.9 | J16: S | K16: 14 | L16: 6.1 | N16: 1 | O16: M | P16: T | Q16: I | R16: 0 | S16: T | T16: 0 | U16: V | V16: 0 | W16: LS | X16: M | Y16: 0 | Z16: A | AA16: T | AB16: 0 | AD16: =I16-#REF! -> #REF!
A18: 4061 | B18: 373 | C18: 221 | D18: 3.3 | E18: Mangundikaran - Ploso | F18: 1 | G18: 18.0221.001 | H18: Jbt.Payaman | I18: 1.55 | J18: S | K18: 5.5 | L18: 11.5 | M18: 14.5 | N18: 1 | O18: M | P18: T | Q18: I | R18: 0 | S18: T | T18: 0 | U18: V | V18: 0 | W18: LS | X18: M | Y18: 0 | Z18: B | AA18: M | AB18: 0
A20: 4124 | B20: 374 | C20: 223 | D20: 1.5 | E20: Ganung - Kramat | F20: 1 | G20: 18.0223.001 | H20: Jbt.Ganung | I20: 0.15 | J20: S | K20: 2.7 | L20: 3.5 | N20: 1 | O20: E | P20: B | Q20: I | R20: 0 | S20: T | T20: 0 | U20: M | V20: 0 | W20: LS | X20: M | Y20: 0 | Z20: B | AA20: M | AB20: 0
B22: 375 | F22: 2 | G22: 18.0223.002 | H22: Jbt.Ganung II | I22: 0.8 | J22: S | K22: 17 | L22: 5.4 | N22: 2 | O22: M | P22: T | Q22: I | R22: 0 | S22: T | T22: 1 | U22: V | V22: 0 | W22: LS | X22: M | Y22: 1 | Z22: B | AA22: M | AB22: 1
A24: 4125 | B24: 376 | C24: 224 | D24: 0.8 | E24: Kramat - Tanjungrejo | F24: 1 | G24: 18.0224.001 | H24: Jbt.Kramat | I24: 0 | J24: S | K24: 3.4 | L24: 4 | N24: 1 | O24: M | P24: T | Q24: I | R24: 0 | S24: T | T24: 0 | U24: V | V24: 0 | W24: LS | X24: M | Y24: 0 | Z24: B | AA24: M | AB24: 0
A26: 4123 | B26: 377 | C26: 225 | D26: 0.95 | E26: Kramat - Kramat | F26: 1 | G26: 18.0225.001 | H26: Jbt.Kramat | I26: 1 | J26: S | K26: 4.7 | L26: 8 | N26: 1 | O26: M | P26: T | Q26: I | R26: 0 | S26: T | T26: 0 | U26: V | V26: 0 | W26: LS | X26: M | Y26: 0 | Z26: B | AA26: M | AB26: 0
A28: 4094 | B28: 566 | C28: 397 | D28: 0.7 | E28: Kauman - Kauman | F28: 1 | G28: 18.0397.001 | H28: Jbt.Kauman | I28: 0.5 | J28: S | K28: 2.6 | L28: 10 | N28: 1 | O28: M | P28: T | Q28: I | R28: 0 | S28: M | T28: 0 | U28: M | V28: 0 | W28: LS | X28: M | Y28: 0 | Z28: B | AA28: M | AB28: 0
A30: 4095 | B30: 567 | C30: 398 | D30: 0.9 | E30: Kauman - Bogo | F30: 1 | G30: 18.0398.001 | H30: Jbt.Kauman | I30: 0.15 | J30: S | K30: 6 | L30: 4.7 | N30: 1 | O30: E | P30: B | Q30: I | R30: 0 | S30: T | T30: 0 | U30: V | V30: 0 | W30: LS | X30: M | Y30: 0 | Z30: B | AA30: M | AB30: 0
B32: 568 | F32: 2 | G32: 18.0398.002 | H32: Jbt.Kauman II | I32: 0.2 | J32: S | K32: 5.8 | L32: 5 | N32: 1 | O32: E | P32: B | Q32: I | R32: 0 | S32: T | T32: 0 | U32: V | V32: 0 | W32: LS | X32: M | Y32: 0 | Z32: B | AA32: M | AB32: 0
A34: 4102 | B34: 569 | C34: 400 | D34: 0.1 | E34: Kauman - Kauman | F34: 1 | G34: 18.0400.001 | H34: Jbt.Kauman II | I34: 0.1 | J34: S | K34: 3.5 | L34: 8 | N34: 1 | O34: M | P34: T | Q34: I | R34: 0 | S34: T | T34: 0 | U34: V | V34: 0 | W34: LS | X34: M | Y34: 0 | Z34: B | AA34: M | AB34: 0
A36: 4064 | B36: 570 | C36: 401 | D36: 2.6 | E36: Payaman - Cangkringan | F36: 1 | G36: 18.0401.001 | H36: Jbt.Cangkringan | I36: 1.9 | J36: S | K36: 24.2 | L36: 6.8 | M36: 7.8 | N36: 2 | O36: M | P36: T | Q36: I | R36: 0 | S36: T | T36: 0 | U36: V | V36: 0 | W36: SU | X36: M | Y36: 0 | Z36: B | AA36: M | AB36: 0
A38: 4088 | B38: 571 | C38: 404 | D38: 1.6 | E38: Payaman - Kartoharjo | F38: 1 | G38: 18.0404.001 | H38: Jbt.Payaman | I38: 0.05 | J38: S | K38: 4 | L38: 4.5 | N38: 1 | O38: M | P38: T | Q38: I | R38: 0 | S38: T | T38: 0 | U38: V | V38: 0 | W38: LS | X38: M | Y38: 0 | Z38: B | AA38: M | AB38: 0
B40: 572 | F40: 2 | G40: 18.0404.002 | H40: Jbt.Kartoharjo | I40: 1 | J40: S | K40: 3 | L40: 8 | N40: 1 | O40: M | P40: T | Q40: I | R40: 0 | S40: T | T40: 0 | U40: V | V40: 0 | W40: LS | X40: M | Y40: 0 | Z40: B | AA40: M | AB40: 0
A42: 4081 | B42: 573 | C42: 405 | D42: 0.4 | E42: Kartoharjo - Kauman | F42: 1 | G42: 18.0405.001 | H42: Jbt.Kartoharjo | I42: 0 | J42: S | K42: 3.3 | L42: 5 | N42: 1 | O42: M | P42: T | Q42: I | R42: 0 | S42: T | T42: 0 | U42: V | V42: 0 | W42: LS | X42: M | Y42: 0 | Z42: B | AA42: M | AB42: 0
A44: 9044 | B44: 574 | C44: 409 | D44: 0.7 | E44: Ploso - Jatirejo | F44: 1 | G44: 18.0409.001 | H44: Ploso | I44: 0.2 | J44: S | K44: 24.5 | L44: 3.5 | M44: 3.9 | N44: 2 | O44: G | P44: B | Q44: I | R44: 0 | S44: T | T44: 0 | U44: V | V44: 0 | W44: LS | X44: M | Y44: 0 | Z44: B | AA44: M | AB44: 0 | AC44: =[2]nganjuk!$L$77 -> 93.6 | AD44: =I44-AC44 -> -93.4
A46: 9045 | B46: 575 | C46: 412.1 | D46: 0.7 | E46: Jatirejo - Jatirejo | F46: 1 | G46: 18.0412.1.001 | H46: Jatirejo | I46: 0.4 | J46: S | K46: 2.8 | L46: 6 | M46: 6.6 | N46: 1 | O46: M | P46: T | Q46: I | R46: 0 | S46: T | T46: 0 | U46: V | V46: 0 | W46: LS | X46: M | Y46: 0 | Z46: B | AA46: M | AB46: 0 | AC46: =[2]nganjuk!$L$78 -> 96.3 | AD46: =I46-#REF! -> #REF!
A48: 9043 | B48: 577 | C48: 413.2 | D48: 0.65 | E48: Ploso - Ploso | F48: 1 | G48: 18.0413.2.001 | H48: Kali Buntung | I48: 1.5 | J48: S | K48: 3 | L48: 4.1 | M48: 4.5 | N48: 1 | O48: M | P48: T | Q48: I | R48: 0 | S48: T | T48: 0 | U48: V | V48: 0 | W48: LS | X48: M | Y48: 0 | Z48: A | AA48: T | AB48: 0 | AC48: =[2]nganjuk!$L$76 -> 91.6 | AD48: =I48-AC48 -> -90.1
A50: 4005 | B50: 95 | C50: 4009 | D50: 0.9 | E50: Citarum - Citarum | F50: 1 | G50: 18.4009.001 | H50: Jembatan Jl. Citarum | I50: =AE50-AD50 -> 0 | J50: S | K50: 4 | L50: 3 | M50: 3 | N50: 1 | O50: P | P50: T | Q50: I | R50: 0 | S50: T | T50: 0 | U50: Y | V50: 0 | W50: LS | X50: M | Y50: 0 | Z50: P | AA50: M | AB50: 0
A52: 4012 | B52: 96 | C52: 4011 | D52: 0.4 | E52: Serayu - Perum Mangundikaran | F52: 1 | G52: 18.4011.001 | H52: Jembatan Saluran Widas | I52: =AE52-AD52 -> 0 | J52: S | K52: 12 | L52: 5 | M52: 6 | N52: 1 | O52: M | P52: T | Q52: I | R52: 0 | S52: T | T52: 0 | U52: Y | V52: 0 | W52: LS | X52: M | Y52: 0 | Z52: P | AA52: M | AB52: 0
A54: 4091 | B54: 647 | C54: 4112 | D54: 0.45 | E54: Kartoharjo - Kauman | F54: 1 | G54: 18.4112.001 | H54: Jbt.Kartoharjo | I54: 0.2 | J54: S | K54: 2.4 | L54: 5.2 | N54: 1 | O54: M | P54: T | Q54: I | R54: 0 | S54: T | T54: 0 | U54: V | V54: 0 | W54: LS | X54: M | Y54: 0 | Z54: B | AA54: M | AB54: 0
A56: 4106 | B56: 666 | C56: 4116 | D56: 0.2 | E56: Kauman - Kauman | F56: 1 | G56: 18.4116.001 | H56: Jbt.Kauman II | I56: 0 | J56: S | K56: 2.5 | L56: 6.5 | N56: 1 | O56: M | P56: T | Q56: I | R56: 0 | S56: T | T56: 0 | U56: M | V56: 0 | W56: LS | X56: M | Y56: 0 | Z56: B | AA56: M | AB56: 0
A58: 9022 | B58: 92 | C58: 9038.2 | D58: 0.3 | E58: Ringinanom - Sugihwaras | F58: 3 | G58: 18.9038.2.003 | H58: Jembatan Kuturejo 2 | I58: 0.6 | J58: S | K58: 3 | L58: 2 | M58: 2 | N58: 1 | O58: P | P58: T | Q58: I | R58: 0 | S58: T | T58: 0 | U58: Y | V58: 0 | W58: LS | X58: M | Y58: 0 | Z58: P | AA58: M | AB58: 0 | AD58: =I58-#REF! -> #REF!
C61: LINTASAN/TIPE PENYEBERANGAN (4) | F61: TIPE BANGUNAN ATAS (8) | I61: ASAL BANGUNAN ATAS (10) | L61: TIPE PONDASI (16) | O61: TIPE KEPALA JEMBATAN/PILAR (19) | T61: BAHAN dan/atau BANGUNAN PELENGKAP (9,12,14,17,20)
C62: J N | D62: : Jalan | F62: B | G62: : Gorong - gorong Kotak | I62: W | J62: : Acrow / Bailey | L62: CA | M62: : Cakar Ayam | T62: K | U62: : Kayu | Y62: O | Z62: : Tanah Biasa
C63: K A | D63: : Kereta api | F63: Y | G63: : Gorong - gorong Pipa | I63: A | J63: : Australia | L63: LS | M63: : Langsung | O63: KEPALA JEMBATAN | T63: S | U63: : Pasangan Bata | Y63: A | Z63: : Aspal
C64: S | D64: : Sungai | F64: T | G64: : Gantung | I64: B | J64: : Belanda Baru | L64: TP | M64: : Tiang Pancang | O64: A | P64: : Kep ( Cap ) | T64: M | U64: : Pasangan Batu | Y64: R | Z64: : Kerikil / Pasir
C65: L | D65: : Lain-lain | F65: W | G65: : Sokongan - Gantungan | I65: D | J65: : Belanda Lama | L65: PB | M65: : Bore Pile | O65: B | P65: : Dinding Penuh | T65: G | U65: : Bronjong dan Sejenisnya | Y65: W | Z65: : Macadam
F66: G | G66: : Gelagar | I66: I | J66: : Indonesia | L66: SU | M66: : Sumuran | T66: H | U66: : Pasangan Batu Kosong | Y66: L | Z66: : Lain - lain
C67: KONDISI (11,13,15,18,21) | F67: M | G67: : Gelagar Komposit | I67: J | J67: : Jepang | L67: TU | M67: : Tiang Ulir | O67: P I L A R | T67: D | U67: : Beton Tidak Bertulang
C68: 0 : | D68: baik sekali | F68: L | G68: : Balok Pelengkung | I68: U | J68: : Kalender Hamilton | L68: BR | M68: : Kawat Bronjong | O68: C | P68: : Kep ( Cap ) | T68: T | U68: : Beton Bertulang
C69: 1 : | D69: rusak ringan, memerlukan pemeliharaan secara rutin | F69: E | G69: : Pelengkung | J69: ( Inggris ) | L69: LL | M69: : Lain - lain | O69: P | P69: : Dinding Penuh | T69: P | U69: : Beton Pratekan
C70: 2 : | D70: rusak, perbaikan berkala | F70: P | G70: : Plat | I70: S | J70: : Austria | O70: S | P70: : Satu Kolom | T70: B | U70: : Baja
C71: 3 : | D71: rusak berat, perbaikan secepatnya dalam kurun waktu 1 tahun | F71: R | G71: : Rangka | J71: ( Semi Permanen ) | O71: D | P71: : Dua Kolom | T71: U | U71: : Lantai Baja Bergelombang
C72: 4 : | D72: kritis, penanganan segera | F72: S | G72: : Jembatan Sementara | I72: P | J72: : Australia | O72: T | P72: : Tiga Kolom atau Penuh | T72: Y | U72: : Pipa Baja Diisi Beton
C73: 5 : | D73: jembtaan runtuh | F73: FX | G73: : Ferry | J73: ( Semi Permanen ) | O73: L | P73: : Lain - Lain | T73: J | U73: : Aluminium
F74: KX | G74: : Lintasan Kereta-api | I74: T | J74: : Australia | T74: E | U74: : Neoprene / Karet
F75: WX | G75: : Lintasan Basah | J75: ( Trans Panel ) | T75: F | U75: : Teflon
F76: U | G76: : Lain - lain | I76: R | J76: : Austria | T76: V | U76: : P V C
J77: ( Permanen ) | T77: X | U77: : Geotextile

Sheet Berbek
C1: IKHTISAR INVENTARISASI JEMBATAN
C2: PROPINSI | E2: : JAWA TIMUR (35) | G2: 1.65
C3: KABUPATEN | E3: : NGANJUK | G3: =0.48+G2 -> 2.13
C4: KECAMATAN | E4: : BERBEK
C6: No. Ruas | D6: Panjang (km) | E6: Nama Pangkal-Ujung Ruas (K1) | F6: No.Urut | G6: Nomor Jembatan | H6: Nama Jembatan/Sungai (>=2,0 m) | I6: PAL km | J6: Tipe Penye-berangan | K6: Ukuran | O6: Tipe/ Kondisi (Gunakan oe Standar di K10L)
K7: Panjang (m) | L7: Lebar | N7: Jumlah Bentang | O7: Bangunan Atas | S7: Lantai | U7: Sandaran | W7: Pondasi | Z7: Kepala Jemb. & Pilar
B8: No. ID | L8: Jalur | M8: Total | O8: Tipe | P8: Bahan | Q8: Asal | R8: Kond | S8: Bahan | T8: Kond | U8: Bahan | V8: Kond | W8: Tipe | X8: Bahan | Y8: Kond | Z8: Tipe | AA8: Bahan | AB8: Kond
F9: 1 | H9: 2 | I9: 3 | J9: 4 | K9: 5 | L9: 6.1 | M9: 6.2 | N9: 7 | O9: 8 | P9: 9 | Q9: 10 | R9: 11 | S9: 12 | T9: 13 | U9: 14 | V9: 15 | W9: 16 | X9: 17 | Y9: 18 | Z9: 19 | AA9: 20 | AB9: 21
A10: 9073 | B10: 466 | C10: 348.3 | D10: 1.9 | E10: Ngrawan - Berbek | F10: 6 | G10: 18.0348.3.006 | H10: Jbt. Ngrawan | I10: 12.55 | J10: S | K10: 3.8 | L10: 6 | M10: 6.3 | N10: 1 | O10: M | P10: T | R10: 0 | S10: T | T10: 0 | U10: V | V10: 0 | W10: LS | Z10: B | AA10: M | AB10: 0
A12: 9057 | B12: 507 | C12: 376.1 | D12: 1.9 | E12: Kacangan - Teken Glagahan | F12: 1 | G12: 18.0376.1.001 | H12: Kauman | I12: 0.25 | J12: S | K12: 21.5 | L12: 6 | M12: 6.6 | N12: 2 | O12: M | P12: T | Q12: I | R12: 0 | S12: T | T12: 0 | U12: V | V12: 0 | W12: LS | X12: M | Y12: 0 | Z12: A | AA12: T | AB12: 0 | AC12: =[2]nganjuk!$L$94 -> 25.15 | AD12: =I12-#REF! -> #REF!
B14: 508 | F14: 2 | G14: 18.0376.1.002 | H14: Kedung Gerit kanan | I14: 0.6 | J14: S | K14: 7 | L14: 8 | M14: 8.6 | N14: 1 | O14: M | P14: T | Q14: I | R14: 0 | S14: T | T14: 0 | U14: V | V14: 0 | W14: LS | X14: M | Y14: 0 | Z14: B | AA14: M | AB14: 0 | AD14: =I14-#REF! -> #REF!
B16: 509 | F16: 3 | G16: 18.0376.1.003 | H16: Ngrawan | I16: 1.95 | J16: S | K16: 6 | L16: 8.1 | M16: 8.5 | N16: 1 | O16: M | P16: T | Q16: I | R16: 0 | S16: T | T16: 0 | U16: V | V16: 0 | W16: LS | X16: M | Y16: 0 | Z16: B | AA16: M | AB16: 0 | AD16: =I16-#REF! -> #REF!
A18: 9133 | B18: 510 | C18: 378 | D18: 1.8 | E18: Bendungrejo - Mlilir | F18: 1 | G18: 18.0378.001 | H18: Jbt.Bendungrejo | I18: 0 | J18: S | K18: 4 | L18: 4 | N18: 1 | O18: E | P18: M | Q18: I | R18: 0 | S18: D | T18: 0 | U18: V | V18: 0 | W18: LS | X18: M | Y18: 0 | Z18: B | AA18: M | AB18: 0 | AC18: =[2]nganjuk!$L$202 -> 4.1 | AD18: =I18-#REF! -> #REF!
B20: 511 | F20: 2 | G20: 18.0378.002 | H20: Jbt.Bandes | I20: 0.2 | J20: S | K20: 4 | L20: 3 | M20: 5 | N20: 1 | O20: Y | P20: T | Q20: I | R20: 0 | S20: D | T20: 0 | U20: M | V20: 0 | W20: LS | X20: M | Y20: 0 | Z20: B | AA20: M | AB20: 0 | AD20: =I20-#REF! -> #REF!
A22: 9134 | B22: 512 | C22: 379.1 | D22: 3.3 | E22: Sambirobyong - Sambirobyong | F22: 1 | G22: 18.0379.1.001 | H22: Jbt.Bendung Ngrambe | I22: 0.1 | J22: S | K22: 45.5 | L22: 3 | M22: 3.4 | N22: 5 | O22: E | P22: B | Q22: I | R22: 1 | S22: T | T22: 0 | U22: B | V22: 1 | W22: SU | X22: M | Y22: 0 | Z22: B | AA22: M | AB22: 0 | AC22: =[2]nganjuk!$L$203 -> 6.8 | AD22: =I22-AC22 -> -6.7
A24: 9127 | B24: 513 | C24: 380 | D24: 3 | E24: Berbek - Gayu | F24: 1 | G24: 18.0380.001 | H24: Jbt. Mlilir | I24: 0.5 | J24: S | K24: 6.4 | L24: 3 | M24: 5 | N24: 1 | O24: Y | P24: M | Q24: I | R24: 0 | S24: M | T24: 0 | U24: M | V24: 0 | W24: LS | X24: M | Y24: 0 | Z24: B | AA24: M | AB24: 0 | AC24: =[2]nganjuk!$L$191 -> 45.05 | AD24: =I24-#REF! -> #REF!
B26: 514 | F26: 2 | G26: 18.0380.002 | H26: Jbt. Mlilir II | I26: 0.85 | J26: S | K26: 21 | L26: 3 | N26: 3 | O26: G | P26: B | Q26: I | R26: 0 | S26: D | T26: 0 | U26: V | V26: 0 | W26: SU | X26: M | Y26: 0 | Z26: B | AA26: M | AB26: 0 | AD26: =I26-#REF! -> #REF!
B28: 515 | F28: 3 | G28: 18.0380.003 | H28: Jbt. Mlilir III | I28: 1.3 | J28: S | K28: 21.5 | L28: 3 | N28: 3 | O28: G | P28: B | Q28: I | R28: 0 | S28: T | T28: 0 | U28: B | V28: 0 | W28: SU | X28: M | Y28: 0 | Z28: B | AA28: M | AB28: 0 | AD28: =I28-#REF! -> #REF!
B30: 516 | F30: 4 | G30: 18.0380.004 | H30: Jbt. Gayu | I30: 3.25 | J30: S | K30: 19.8 | L30: 2.6 | N30: 3 | O30: G | P30: B | Q30: I | R30: 0 | S30: T | T30: 0 | U30: V | V30: 0 | W30: SU | X30: M | Y30: 0 | Z30: B | AA30: M | AB30: 0 | AD30: =I30-#REF! -> #REF!
A32: 9126 | B32: 517 | C32: 381 | D32: 0.6 | E32: Berbek - Berbek | F32: 1 | G32: 18.0381.001 | H32: Jbt. Berbek | I32: 0.15 | J32: S | K32: 6 | L32: 6 | M32: 8 | N32: 2 | O32: M | P32: T | Q32: I | R32: 0 | S32: T | T32: 0 | U32: V | V32: 0 | W32: LS | X32: M | Y32: 0 | Z32: B | AA32: M | AB32: 0 | AC32: =[2]nganjuk!$L$190 -> 44.8 | AD32: =I32-AC32 -> -44.65
A34: 9128 | B34: 518 | C34: 382 | D34: 2 | E34: Nitis - Bendungrejo | F34: 1 | G34: 18.0382.001 | H34: Jbt. Gayu II | I34: 1.5 | J34: S | K34: 3.6 | L34: 3 | N34: 1 | O34: E | P34: M | Q34: I | R34: 0 | S34: M | T34: 0 | U34: M | V34: 0 | W34: LS | X34: M | Y34: 0 | Z34: B | AA34: M | AB34: 0 | AC34: =[2]nganjuk!$L$193 -> 49.8 | AD34: =I34-AC34 -> -48.3
A36: 9125 | B36: 521 | C36: 383.2 | D36: 0.75 | E36: Wonotakan - Berbek | F36: 3 | G36: 18.0383.2.003 | H36: Jbt. Kali Kedung Gerit | I36: 1.45 | J36: S | K36: 4.8 | L36: 4 | M36: 6.2 | N36: 1 | O36: M | P36: T | Q36: I | R36: 0 | S36: D | T36: 0 | U36: V | V36: 0 | W36: LS | X36: M | Y36: 0 | Z36: B | AA36: M | AB36: 0 | AD36: =I36-#REF! -> #REF!
A38: 9011 | B38: 533 | C38: 389.1 | D38: 8.2 | E38: Kuncir - Sonopatik | F38: 1 | G38: 18.0389.1.001 | H38: Balongrejo | I38: 6.8 | J38: S | K38: 8.1 | L38: 6 | M38: 6.2 | N38: 2 | O38: M | P38: T | Q38: I | R38: 0 | S38: T | T38: 0 | U38: V | V38: 0 | W38: LS | X38: M | Y38: 0 | Z38: B | AA38: M | AB38: 0 | AD38: ='[1]NGANJUK''Z'!$L$23 -> 462.5 | AE38: 462.5
B40: 534 | F40: 2 | G40: 18.0389.1.002 | H40: Kali Giliran | I40: 7.2 | J40: S | K40: 4.5 | L40: 6 | M40: 6.2 | N40: 1 | O40: M | P40: T | Q40: I | R40: 0 | S40: T | T40: 0 | U40: V | V40: 0 | W40: LS | X40: M | Y40: 0 | Z40: B | AA40: M | AB40: 0 | AE40: 463.4
B42: 535 | F42: 3 | G42: 18.0398.1.003 | H42: Kali Karangrejo | I42: 8.2 | J42: S | K42: 2.8 | L42: 6 | M42: 8.8 | N42: 2 | O42: M | P42: T | Q42: I | R42: 0 | S42: T | T42: 0 | U42: V | V42: 0 | W42: SU | X42: M | Y42: 0 | Z42: A | AA42: T | AB42: 0
A44: 9085 | B44: 539 | C44: 390.2 | D44: 0.85 | E44: Kedungampel - Kedungampel | F44: 1 | G44: 18.0390.2.002 | H44: Jbt. Cempoko | I44: 2.21 | J44: S | K44: 4.6 | L44: 3.5 | N44: 1 | O44: M | P44: T | Q44: I | R44: 0 | S44: T | T44: 0 | U44: V | V44: 0 | W44: LS | X44: M | Y44: 0 | Z44: B | AA44: M | AB44: 0
A46: 9010 | B46: 548 | C46: 393.2 | D46: 4.1 | E46: Salamrejo - Jegles | F46: 7 | G46: 18.0393.2.007 | H46: Kali Salamrojo | I46: 15.5 | J46: S | K46: 5.2 | L46: 4.6 | M46: 6.6 | N46: 1 | O46: M | P46: T | Q46: I | R46: 0 | S46: T | T46: 0 | U46: V | V46: 0 | W46: LS | X46: M | Y46: 0 | Z46: B | AA46: M | AB46: 0 | AD46: =I46-#REF! -> #REF!
B48: 549 | F48: 8 | G48: 18.0393.2.008 | H48: Kali Keplok | I48: 17.5 | J48: S | K48: 3.5 | L48: 5 | M48: 7 | N48: 1 | O48: M | P48: T | Q48: I | R48: 0 | S48: T | T48: 0 | U48: V | V48: 0 | W48: LS | X48: M | Y48: 0 | Z48: B | AA48: M | AB48: 0 | AD48: =I48-#REF! -> #REF!
B50: 550 | F50: 9 | G50: 18.0393.2.009 | H50: Kuncir | I50: 19.1 | J50: S | K50: 25.2 | L50: 6.1 | M50: 7 | N50: 3 | O50: M | P50: T | Q50: I | R50: 0 | S50: T | T50: 0 | U50: V | V50: 0 | W50: LS | X50: M | Y50: 0 | Z50: B | AA50: M | AB50: 0 | AD50: =I50-#REF! -> #REF!
B52: 650 | F52: 10 | G52: 18.0393.2.010 | H52: Kuncir II | I52: 19.2 | J52: S | K52: 17.1 | L52: 4.5 | M52: 4.5 | N52: 2 | O52: M | P52: T | Q52: I | R52: 0 | S52: T | T52: 0 | U52: V | V52: 1 | W52: LS | X52: M | Y52: 0 | Z52: B | AA52: M | AB52: 0 | AD52: =I52-#REF! -> #REF!
A54: 9045 | B54: 576 | C54: 412.2 | D54: 0.85 | E54: Tanggungan - Gejangan | F54: 2 | G54: 18.0412.2.002 | H54: Jatirejo II | I54: 1.2 | J54: S | K54: 2.8 | L54: 6 | M54: 6.6 | N54: 1 | O54: M | P54: T | Q54: I | R54: 0 | S54: T | T54: 0 | U54: V | V54: 0 | W54: LS | X54: M | Y54: 0 | Z54: B | AA54: M | AB54: 0 | AD54: =I54-#REF! -> #REF!
A56: 9051 | B56: 583 | C56: 419.2 | D56: 0.5 | E56: Patranrejo - Patanrejo | F56: 3 | G56: 18.0419.2.003 | H56: Jbt. Patran Rejo | I56: 2.13 | J56: S | K56: 9 | L56: 4 | M56: 4 | N56: 1 | O56: P | P56: T | Q56: I | R56: 0 | S56: T | T56: 0 | U56: Y | V56: 0 | W56: LS | X56: M | Y56: 0 | Z56: P | AA56: M | AB56: 0 | AD56: ='[1]NGANJUK''Z'!$L$89 -> 817.9 | AE56: 819.6
A58: 9055 | B58: 667 | C58: 423 | D58: 1 | E58: Kacangan - Sengkut | F58: 1 | G58: 18.0423.001 | H58: Kali Sumber Windu | I58: 0.55 | J58: S | K58: 9.7 | L58: 3.6 | N58: 1 | O58: M | P58: T | Q58: I | R58: 1 | S58: T | T58: 1 | U58: V | V58: 1 | W58: LS | X58: M | Y58: 1 | Z58: B | AA58: M | AB58: 1 | AC58: =[2]nganjuk!$L$92 -> 22.75 | AD58: =I58-AC58 -> -22.2
A60: 9056 | B60: 584 | C60: 424 | D60: 0.85 | E60: Sengkut - Kacangan | F60: 1 | G60: 18.0424.001 | H60: Sengkul | I60: 0.05 | J60: S | K60: 5.4 | L60: 3 | M60: 4.3 | N60: 1 | O60: E | P60: M | Q60: I | R60: 0 | S60: M | T60: 0 | U60: V | V60: 0 | W60: LS | X60: M | Y60: 0 | Z60: B | AA60: M | AB60: 0 | AC60: =[2]nganjuk!$L$93 -> 24.15 | AD60: =I60-#REF! -> #REF!
B62: 585 | F62: 2 | G62: 18.0424.002 | H62: Kacangan | I62: 0.6 | J62: S | K62: 18.5 | L62: 3 | M62: 3.6 | N62: 2 | O62: G | P62: B | Q62: I | R62: 0 | S62: T | T62: 0 | U62: V | V62: 0 | W62: LS | X62: M | Y62: 0 | Z62: B | AA62: M | AB62: 0 | AD62: =I62-#REF! -> #REF!
B64: 586 | F64: 3 | G64: 18.0424.003 | H64: Kali Kanalan | I64: 0.8 | J64: S | K64: 2 | L64: 3 | M64: 4 | N64: 1 | O64: E | P64: M | Q64: I | R64: 0 | S64: M | T64: 0 | U64: M | V64: 0 | W64: LS | X64: M | Y64: 0 | Z64: B | AA64: M | AB64: 0 | AD64: =I64-#REF! -> #REF!
A66: 9026 | B66: 587 | C66: 426 | D66: 1.1 | E66: Tiripan - Tiripan | F66: 1 | G66: 18.0426.001 | H66: Kali Pengkol | I66: 0.9 | J66: S | K66: 22 | L66: 3.5 | M66: 3.5 | N66: 3 | O66: M | P66: T | Q66: I | R66: 0 | S66: T | T66: 0 | U66: V | V66: 0 | W66: LS | X66: M | Y66: 0 | Z66: B | AA66: M | AB66: 0 | AC66: =[2]nganjuk!$L$55 -> 64.6 | AD66: =I66-#REF! -> #REF!
A68: 9025 | B68: 588 | C68: 428 | D68: 12.5 | E68: Tiripan - Ds. Sumberurip | F68: 1 | G68: 18.0428.001 | H68: Sumber Urip | I68: 0.8 | J68: S | K68: 15.8 | L68: 3 | M68: 3.4 | N68: 2 | O68: M | P68: T | Q68: I | R68: 0 | S68: T | T68: 0 | U68: V | V68: 0 | W68: LS | X68: M | Y68: 0 | Z68: B | AA68: M | AB68: 0 | AC68: =[2]nganjuk!$L$51 -> 85.8 | AD68: =I68-#REF! -> #REF!
B70: 589 | F70: 2 | G70: 18.0428.002 | H70: Bandung | I70: 1.5 | J70: S | K70: 11 | L70: 6.8 | N70: 2 | O70: M | P70: T | Q70: I | R70: 0 | S70: T | T70: 0 | U70: V | V70: 0 | W70: LS | X70: M | Y70: 0 | Z70: A | AA70: T | AB70: 0 | AD70: =I70-#REF! -> #REF!
B72: 590 | F72: 3 | G72: 18.0428.003 | H72: Kali Sumber Urip II | I72: 2.5 | J72: S | K72: 11 | L72: 4.5 | M72: 6.9 | N72: 1 | O72: M | P72: T | Q72: I | R72: 0 | S72: T | T72: 0 | U72: V | V72: 0 | W72: LS | X72: M | Y72: 0 | Z72: B | AA72: M | AB72: 0 | AD72: =I72-#REF! -> #REF!
B74: 591 | F74: 4 | G74: 18.0428.004 | H74: Kali Tunggak | I74: 9.6 | J74: S | K74: 4.5 | L74: 3 | M74: 3 | N74: 1 | O74: M | P74: T | Q74: I | R74: 0 | S74: T | T74: 0 | U74: V | V74: 0 | W74: LS | X74: M | Y74: 0 | Z74: B | AA74: M | AB74: 0 | AD74: =I74-#REF! -> #REF!
A76: 9028 | B76: 592 | C76: 430 | D76: 2.7 | E76: Girirejo - Sumberurip | F76: 1 | G76: 18.0430.001 | H76: Kali Tunggak | I76: 1.8 | J76: S | K76: 10.5 | L76: 3 | M76: 3.5 | N76: 2 | O76: M | P76: T | Q76: I | R76: 0 | S76: T | T76: 0 | U76: V | V76: 0 | W76: LS | X76: M | Y76: 0 | Z76: B | AA76: M | AB76: 0 | AC76: =[2]nganjuk!$L$57 -> 69.5 | AD76: =I76-AC76 -> -67.7
A78: 9031 | B78: 593 | C78: 431 | D78: 1.4 | E78: Grajakan - Bulu | F78: 1 | G78: 18.0431.001 | H78: Kali Grajagan | I78: 0.6 | J78: S | K78: 4.8 | L78: 2.5 | M78: 2.9 | N78: 1 | O78: M | P78: T | Q78: I | R78: 0 | S78: T | T78: 0 | U78: Y | V78: 0 | W78: LS | X78: M | Y78: 0 | Z78: B | AA78: M | AB78: 0 | AC78: =[2]nganjuk!$L$60 -> 77.1 | AD78: =I78-AC78 -> -76.5
A80: 9021 | B80: 594 | C80: 434 | D80: 0.9 | E80: Girirejo - Bulu | F80: 1 | G80: 18.0434.001 | H80: Jembatan Kali Tawang | I80: =AE80-AD80 -> 0 | J80: S | K80: 2.6 | L80: 3 | M80: 3 | N80: 1 | O80: M | P80: T | Q80: I | R80: 0 | S80: T | T80: 0 | U80: Y | V80: 0 | W80: LS | X80: M | Y80: 0 | Z80: P | AA80: M | AB80: 0
A82: 9029 | B82: 595 | C82: 435 | D82: 1.3 | E82: Sumberurip - Bulu | F82: 1 | G82: 18.0435.001 | H82: Kali Brayung | I82: 0.1 | J82: S | K82: 2 | L82: 3 | M82: 3.5 | N82: 1 | O82: M | P82: T | Q82: I | R82: 0 | S82: T | T82: 0 | U82: V | V82: 0 | W82: LS | X82: M | Y82: 0 | Z82: B | AA82: M | AB82: 0 | AC82: =[2]nganjuk!$L$58 -> 73.3 | AD82: =I82-#REF! -> #REF!
B84: 596 | F84: 2 | G84: 18.0435.002 | H84: Kali Bulu | I84: 0.9 | J84: S | K84: 8.2 | L84: 2.5 | M84: 3.1 | N84: 1 | O84: E | P84: T | Q84: I | R84: 0 | S84: T | T84: 0 | U84: V | V84: 0 | W84: LS | X84: M | Y84: 0 | Z84: B | AA84: M | AB84: 0 | AD84: =I84-#REF! -> #REF!
A86: 9035 | B86: 599 | C86: 438 | D86: 1.55 | E86: Sumberurip - Dk. Jebon | F86: 1 | G86: 18.0438.001 | H86: Kali Bujel | I86: 0.65 | J86: S | K86: 6.2 | L86: 3 | M86: 3.5 | N86: 1 | O86: M | P86: T | Q86: I | R86: 0 | S86: T | T86: 0 | U86: V | V86: 0 | W86: LS | X86: M | Y86: 0 | Z86: B | AA86: M | AB86: 0 | AC86: =[2]nganjuk!$L$65 -> 3.5 | AD86: =I86-AC86 -> -2.85
A88: 9037 | B88: 600 | C88: 440 | D88: 5.15 | E88: Kacangan - Cepoko | F88: 1 | G88: 18.0440.001 | H88: Kacangan 1 | I88: 0.2 | J88: S | K88: 18.7 | L88: 3.2 | M88: 3.5 | N88: 3 | O88: G | P88: B | Q88: I | R88: 0 | S88: T | T88: 0 | U88: V | V88: 0 | W88: LS | X88: M | Y88: 0 | Z88: B | AA88: M | AB88: 0 | AC88: =[2]nganjuk!$L$66 -> 11.4 | AD88: =I88-#REF! -> #REF!
B90: 601 | F90: 2 | G90: 18.0440.002 | H90: Kacangan 2 | I90: 0.95 | J90: S | K90: 2.5 | L90: 3 | M90: 3.5 | N90: 1 | O90: P | P90: T | Q90: I | R90: 0 | S90: T | T90: 0 | U90: M | V90: 0 | W90: LS | X90: M | Y90: 0 | Z90: B | AA90: M | AB90: 0 | AD90: =I90-#REF! -> #REF!
B92: 602 | F92: 3 | G92: 18.0440.003 | H92: Bendil | I92: 1.7 | J92: S | K92: 2.6 | L92: 3 | M92: 3 | N92: 1 | O92: E | P92: M | Q92: I | R92: 0 | S92: M | T92: 0 | U92: M | V92: 1 | W92: LS | X92: M | Y92: 0 | Z92: B | AA92: M | AB92: 0 | AD92: =I92-#REF! -> #REF!
B94: 603 | F94: 4 | G94: 18.0440.004 | H94: Kedung Mulyo | I94: 3.45 | J94: S | K94: 4.1 | L94: 3.3 | M94: 3.7 | N94: 1 | O94: M | P94: T | Q94: I | R94: 0 | S94: T | T94: 0 | U94: V | V94: 0 | W94: LS | X94: M | Y94: 0 | Z94: B | AA94: M | AB94: 0 | AD94: =I94-#REF! -> #REF!
B96: 604 | F96: 5 | G96: 18.0440.005 | H96: Kali Sengon | I96: 5.1 | J96: S | K96: 5.1 | L96: 3.3 | M96: 3.3 | N96: 2 | O96: E | P96: M | Q96: I | R96: 0 | S96: M | T96: 0 | U96: M | V96: 0 | W96: LS | X96: M | Y96: 0 | Z96: B | AA96: M | AB96: 0 | AD96: =I96-#REF! -> #REF!
A98: 9047 | B98: 637 | C98: 9092 | D98: 0.45 | E98: Genjeng - Geneng | F98: 1 | G98: 18.9092.001 | H98: Balongrejo | I98: 6.55 | J98: S | K98: 2.5 | L98: 3 | N98: 1 | O98: M | P98: T | Q98: I | R98: 0 | S98: D | T98: 0 | U98: M | V98: 0 | W98: LS | X98: M | Y98: 0 | Z98: B | AA98: M | AB98: 0 | AC98: =[2]nganjuk!$L$81 -> 3.55 | AD98: =I98-AC98 -> 3
A100: 9046 | B100: 638 | C100: 9093 | D100: 1.15 | E100: Tanggungan - Sonopatik | F100: 1 | G100: 18.9093.001 | H100: Sonopatik | I100: 1.1 | J100: S | K100: 2 | L100: 4.6 | M100: 4.4 | N100: 1 | O100: P | P100: T | Q100: I | R100: 0 | S100: T | T100: 0 | U100: M | V100: 0 | W100: LS | X100: M | Y100: 0 | Z100: B | AA100: M | AB100: 0 | AC100: 101.3 | AD100: =I100-AC100 -> -100.2
A102: 9024 | B102: 639 | C102: 9094.2 | D102: 7.86 | E102: Meruntus - Kuncir | F102: 2 | G102: 18.9094.2.002 | H102: Siwalan II | I102: 3.6 | J102: S | K102: 2.5 | L102: 3.1 | M102: 3.3 | N102: 1 | O102: M | P102: T | Q102: I | R102: 0 | S102: T | T102: 0 | U102: V | V102: 0 | W102: LS | X102: M | Y102: 0 | Z102: B | AA102: M | AB102: 0 | AD102: =I102-#REF! -> #REF!
C105: LINTASAN/TIPE PENYEBERANGAN (4) | F105: TIPE BANGUNAN ATAS (8) | I105: ASAL BANGUNAN ATAS (10) | L105: TIPE PONDASI (16) | O105: TIPE KEPALA JEMBATAN/PILAR (19) | T105: BAHAN dan/atau BANGUNAN PELENGKAP (9,12,14,17,20)
C106: J N | D106: : Jalan | F106: B | G106: : Gorong - gorong Kotak | I106: W | J106: : Acrow / Bailey | L106: CA | M106: : Cakar Ayam | T106: K | U106: : Kayu | Y106: O | Z106: : Tanah Biasa
C107: K A | D107: : Kereta api | F107: Y | G107: : Gorong - gorong Pipa | I107: A | J107: : Australia | L107: LS | M107: : Langsung | O107: KEPALA JEMBATAN | T107: S | U107: : Pasangan Bata | Y107: A | Z107: : Aspal
C108: S | D108: : Sungai | F108: T | G108: : Gantung | I108: B | J108: : Belanda Baru | L108: TP | M108: : Tiang Pancang | O108: A | P108: : Kep ( Cap ) | T108: M | U108: : Pasangan Batu | Y108: R | Z108: : Kerikil / Pasir
C109: L | D109: : Lain-lain | F109: W | G109: : Sokongan - Gantungan | I109: D | J109: : Belanda Lama | L109: PB | M109: : Bore Pile | O109: B | P109: : Dinding Penuh | T109: G | U109: : Bronjong dan Sejenisnya | Y109: W | Z109: : Macadam
F110: G | G110: : Gelagar | I110: I | J110: : Indonesia | L110: SU | M110: : Sumuran | T110: H | U110: : Pasangan Batu Kosong | Y110: L | Z110: : Lain - lain
C111: KONDISI (11,13,15,18,21) | F111: M | G111: : Gelagar Komposit | I111: J | J111: : Jepang | L111: TU | M111: : Tiang Ulir | O111: P I L A R | T111: D | U111: : Beton Tidak Bertulang
C112: 0 : | D112: baik sekali | F112: L | G112: : Balok Pelengkung | I112: U | J112: : Kalender Hamilton | L112: BR | M112: : Kawat Bronjong | O112: C | P112: : Kep ( Cap ) | T112: T | U112: : Beton Bertulang
C113: 1 : | D113: rusak ringan, memerlukan pemeliharaan secara rutin | F113: E | G113: : Pelengkung | J113: ( Inggris ) | L113: LL | M113: : Lain - lain | O113: P | P113: : Dinding Penuh | T113: P | U113: : Beton Pratekan
C114: 2 : | D114: rusak, perbaikan berkala | F114: P | G114: : Plat | I114: S | J114: : Austria | O114: S | P114: : Satu Kolom | T114: B | U114: : Baja
C115: 3 : | D115: rusak berat, perbaikan secepatnya dalam kurun waktu 1 tahun | F115: R | G115: : Rangka | J115: ( Semi Permanen ) | O115: D | P115: : Dua Kolom | T115: U | U115: : Lantai Baja Bergelombang
C116: 4 : | D116: kritis, penanganan segera | F116: S | G116: : Jembatan Sementara | I116: P | J116: : Australia | O116: T | P116: : Tiga Kolom atau Penuh | T116: Y | U116: : Pipa Baja Diisi Beton
C117: 5 : | D117: jembtaan runtuh | F117: FX | G117: : Ferry | J117: ( Semi Permanen ) | O117: L | P117: : Lain - Lain | T117: J | U117: : Aluminium
F118: KX | G118: : Lintasan Kereta-api | I118: T | J118: : Australia | T118: E | U118: : Neoprene / Karet
F119: WX | G119: : Lintasan Basah | J119: ( Trans Panel ) | T119: F | U119: : Teflon
F120: U | G120: : Lain - lain | I120: R | J120: : Austria | T120: V | U120: : P V C
J121: ( Permanen ) | T121: X | U121: : Geotextile

Sheet Loceret
C1: IKHTISAR INVENTARISASI JEMBATAN
C2: PROPINSI | E2: : JAWA TIMUR (35)
C3: KABUPATEN | E3: : NGANJUK
C4: KECAMATAN | E4: : LOCERET
C6: No. Ruas | D6: Panjang (km) | E6: Nama Pangkal-Ujung Ruas (K1) | F6: No.Urut | G6: Nomor Jembatan | H6: Nama Jembatan/Sungai (>=2,0 m) | I6: PAL km | J6: Tipe Penye-berangan | K6: Ukuran | O6: Tipe/ Kondisi (Gunakan oe Standar di K10L)
K7: Panjang (m) | L7: Lebar | N7: Jumlah Bentang | O7: Bangunan Atas | S7: Lantai | U7: Sandaran | W7: Pondasi | Z7: Kepala Jemb. & Pilar
B8: No. ID | L8: Jalur | M8: Total | O8: Tipe | P8: Bahan | Q8: Asal | R8: Kond | S8: Bahan | T8: Kond | U8: Bahan | V8: Kond | W8: Tipe | X8: Bahan | Y8: Kond | Z8: Tipe | AA8: Bahan | AB8: Kond
F9: 1 | H9: 2 | I9: 3 | J9: 4 | K9: 5 | L9: 6.1 | M9: 6.2 | N9: 7 | O9: 8 | P9: 9 | Q9: 10 | R9: 11 | S9: 12 | T9: 13 | U9: 14 | V9: 15 | W9: 16 | X9: 17 | Y9: 18 | Z9: 19 | AA9: 20 | AB9: 21
A10: 9066 | B10: 379 | C10: 227 | D10: 1.05 | E10: Kwagean - Dk. Jajar | F10: 1 | G10: 18.0227.001 | H10: Kwagelan | I10: 0.1 | J10: S | K10: 2.5 | L10: 7 | N10: 1 | O10: E | P10: M | Q10: I | R10: 0 | S10: D | T10: 0 | U10: V | V10: 0 | W10: LS | X10: M | Y10: 0 | Z10: B | AA10: M | AB10: 0 | AC10: =[2]nganjuk!$L$104 -> 73.2 | AD10: =I10-#REF! -> #REF!
B12: 380 | F12: 2 | G12: 18.0227.002 | H12: Sukorejo | I12: 1.05 | J12: S | K12: 4.5 | L12: 17.5 | N12: 1 | O12: M | P12: T | Q12: I | R12: 0 | S12: T | T12: 0 | U12: V | V12: 0 | W12: LS | X12: M | Y12: 0 | Z12: B | AA12: M | AB12: 0 | AD12: =I12-#REF! -> #REF!
A14: 9059 | B14: 381 | C14: 228 | D14: 0.85 | E14: Candirejo - Kwagean | F14: 1 | G14: 18.0228.001 | H14: Candirejo | I14: -1.95 | J14: S | K14: 2.8 | L14: 5.1 | N14: 1 | O14: E | P14: M | Q14: I | R14: 0 | S14: M | T14: 0 | U14: M | V14: 0 | W14: LS | X14: M | Y14: 0 | Z14: B | AA14: M | AB14: 0 | AC14: =[2]nganjuk!$L$97 -> 51.25 | AD14: =I14-AC14 -> -53.2
A16: 9067 | B16: 382 | C16: 229 | D16: 1.7 | E16: Sukorejo - Tanjungrejo | F16: 1 | G16: 18.0229.001 | H16: Semeru | I16: 0 | J16: S | K16: 2 | L16: 14.5 | N16: 1 | O16: M | P16: T | Q16: I | R16: 0 | S16: T | T16: 0 | U16: M | V16: 0 | W16: LS | X16: M | Y16: 0 | Z16: B | AA16: M | AB16: 0 | AC16: =[2]nganjuk!$L$105 -> 74.9 | AD16: =AC16-I16 -> 74.9
B18: 383 | F18: 2 | G18: 18.0229.002 | H18: Tanjungrejo | I18: 1.55 | J18: S | K18: 19.5 | L18: 5.7 | M18: 7.7 | N18: 2 | O18: M | P18: T | Q18: I | R18: 0 | S18: T | T18: 0 | U18: V | V18: 0 | W18: LS | X18: M | Y18: 0 | Z18: A | AA18: T | AB18: 0 | AC18: 76.45 | AD18: =AC18-AC16 -> 1.55
A20: 9061 | B20: 384 | C20: 233 | D20: 2.45 | E20: Tanjungrejo - Sekaran | F20: 1 | G20: 18.0233.001 | H20: Sombron | I20: 1.3 | J20: S | K20: 3 | L20: 3.5 | M20: 5.1 | N20: 1 | O20: E | P20: M | Q20: I | R20: 0 | S20: M | T20: 0 | U20: M | V20: 0 | W20: LS | X20: M | Y20: 0 | Z20: B | AA20: M | AB20: 0 | AC20: =[2]nganjuk!$L$99 -> 56 | AD20: =I20-AC20 -> -54.7
A22: 9063 | B22: 385 | C22: 235 | D22: 1.2 | E22: Kwagean - Sekaran | F22: 1 | G22: 18.0235.001 | H22: Loceret | I22: 0.4 | J22: S | K22: 2.5 | L22: 4 | N22: 1 | O22: P | P22: T | Q22: I | R22: 0 | S22: D | T22: 0 | U22: M | V22: 0 | W22: LS | X22: M | Y22: 0 | Z22: B | AA22: M | AB22: 0 | AC22: =[2]nganjuk!$L$101 -> 66.8 | AD22: =I22-AC22 -> -66.4
A24: 9062 | B24: 386 | C24: 236 | D24: 1.55 | E24: Sekaran - Patihan | F24: 1 | G24: 18.0236.001 | H24: Sekaran | I24: 0 | J24: S | K24: 2 | L24: 3.8 | M24: 3.9 | N24: 1 | O24: P | P24: T | Q24: I | R24: 0 | S24: T | T24: 0 | U24: V | V24: 0 | W24: LS | X24: M | Y24: 0 | Z24: B | AA24: M | AB24: 0 | AC24: =[2]nganjuk!$L$100 -> 58.45 | AD24: =I24-#REF! -> #REF!
B26: 387 | F26: 2 | G26: 18.0236.002 | H26: Patihan | I26: 1.25 | J26: S | K26: 5.2 | L26: 4.8 | M26: 5.8 | N26: 1 | O26: M | P26: T | Q26: I | R26: 0 | S26: T | T26: 0 | U26: V | V26: 0 | W26: LS | X26: M | Y26: 0 | Z26: B | AA26: M | AB26: 0 | AD26: =I26-#REF! -> #REF!
A28: 9090 | B28: 388 | C28: 237 | D28: 2.1 | E28: Nglaban - Ngunut | F28: 1 | G28: 18.0237.001 | H28: Nglaban | I28: 0 | J28: S | K28: 5 | L28: 4 | N28: 1 | O28: M | P28: T | Q28: I | R28: 0 | S28: T | T28: 0 | U28: V | V28: 2 | W28: LS | X28: M | Y28: 0 | Z28: B | AA28: M | AB28: 0 | AC28: =[2]nganjuk!$L$138 -> 69.4 | AD28: =I28-#REF! -> #REF!
B30: 389 | F30: 2 | G30: 18.0237.002 | H30: Nglaban | I30: 0.85 | J30: S | K30: 3.5 | L30: 4.2 | N30: 1 | O30: M | P30: T | Q30: I | R30: 0 | S30: D | T30: 0 | U30: V | V30: 0 | W30: LS | X30: M | Y30: 0 | Z30: B | AA30: M | AB30: 0 | AD30: =I30-#REF! -> #REF!
A32: 9093 | B32: 390 | C32: 238 | D32: 1.87 | E32: Kenep - Nglaban | F32: 1 | G32: 18.0238.001 | H32: Kenep | I32: 1.7 | J32: S | K32: 2.5 | L32: 2.6 | N32: 1 | O32: E | P32: M | Q32: I | R32: 0 | S32: D | T32: 0 | U32: M | V32: 0 | W32: LS | X32: M | Y32: 0 | Z32: B | AA32: M | AB32: 0 | AC32: =[2]nganjuk!$L$141 -> 77.2 | AD32: =I32-AC32 -> -75.5
A34: 9091 | B34: 391 | C34: 239 | D34: 0.8 | E34: Kenep - Putuk Rejo | F34: 1 | G34: 18.0239.001 | H34: Kepanjen | I34: 4.25 | J34: S | K34: 4 | L34: 3.8 | N34: 2 | O34: E | P34: M | Q34: I | R34: 0 | S34: D | T34: 0 | U34: V | V34: 0 | W34: LS | X34: M | Y34: 0 | Z34: B | AA34: M | AB34: 0 | AC34: =[2]nganjuk!$L$139 -> 70.85 | AD34: =I34-AC34 -> -66.6
A36: 9073 | B36: 463 | C36: 348.2 | D36: 1.95 | E36: Sugihwaras - Ngepeh | F36: 3 | G36: 18.0348.2.003 | H36: Jbt. Mlandangan 2 | I36: 2.1 | J36: S | K36: 27.5 | L36: 4 | M36: 5.4 | N36: 3 | O36: M | P36: T | Q36: I | R36: 0 | S36: T | T36: 0 | U36: V | V36: 0 | W36: LS | Y36: 0 | Z36: B | AA36: M | AB36: 0
B38: 464 | F38: 4 | G38: 18.0348.2.004 | H38: Jbt. Berbek | I38: 2.48 | J38: S | K38: 3.4 | L38: 6 | M38: 7 | N38: 1 | O38: M | P38: T | Q38: I | R38: 0 | S38: T | T38: 0 | U38: M | V38: 0 | W38: LS | Y38: 0 | Z38: B | AA38: M | AB38: 0
B40: 465 | F40: 5 | G40: 18.0348.2.005 | H40: Jbt. Ngepel | I40: 3.48 | J40: S | K40: 6.5 | L40: 4.4 | N40: 1 | O40: M | P40: T | Q40: I | R40: 0 | S40: T | T40: 0 | U40: V | V40: 0 | W40: LS | Y40: 0 | Z40: B | AA40: M | AB40: 0
A42: 9148 | B42: 471 | C42: 352.2 | D42: 3.4 | E42: Genjeng - Macanan | F42: 2 | G42: 18.0352.2.002 | H42: Jbt.Pule | I42: 7.2 | J42: S | K42: 18.5 | L42: 2.6 | M42: 3 | N42: 3 | O42: G | P42: B | Q42: I | R42: 0 | S42: T | T42: 0 | U42: B | V42: 0 | W42: LS | X42: M | Y42: 0 | Z42: B | AA42: M | AB42: 0 | AD42: =I42-#REF! -> #REF!
A44: 9071 | B44: 481 | C44: 357 | D44: 1.75 | E44: Ngepeh - Loceret | F44: 1 | G44: 18.0357.001 | H44: Jbt. Ngepeh | I44: 0.3 | J44: S | K44: 2.5 | L44: 6 | M44: 6 | N44: 1 | O44: M | P44: T | Q44: I | R44: 0 | S44: T | T44: 0 | U44: M | V44: 0 | W44: LS | Y44: 0 | Z44: B | AA44: M | AB44: 0
B46: 482 | F46: 2 | G46: 18.0357.002 | H46: Jbt. Godean | I46: 1 | J46: S | K46: 3 | L46: 6 | M46: 7 | N46: 1 | O46: E | P46: M | Q46: I | R46: 0 | S46: M | T46: 0 | U46: M | V46: 0 | W46: LS | Y46: 0 | Z46: B | AA46: M | AB46: 0
A48: 9144 | B48: 476 | C48: 355.1 | D48: 4.3 | E48: Bajulan - Macanan | F48: 1 | G48: 18.0355.1.001 | H48: Jbt.Bajulan | I48: 0 | J48: S | K48: 18.2 | L48: 3 | N48: 3 | O48: G | P48: B | Q48: I | R48: 0 | S48: T | T48: 0 | U48: V | V48: 0 | W48: SU | X48: M | Y48: 0 | Z48: B | AA48: M | AB48: 0 | AC48: =[2]nganjuk!$L$228 -> 8.7 | AD48: =I48-#REF! -> #REF!
B50: 477 | F50: 2 | G50: 18.0355.1.002 | H50: Jbt.Bajulan II | I50: 2.1 | J50: S | K50: 2.8 | L50: 3 | N50: 1 | O50: E | P50: M | Q50: I | R50: 0 | S50: D | T50: 0 | U50: M | V50: 0 | W50: LS | X50: M | Y50: 0 | Z50: B | AA50: M | AB50: 0 | AD50: =I50-#REF! -> #REF!
B52: 478 | F52: 3 | G52: 18.0355.1.003 | H52: Jbt.Bajulan III | I52: 3.1 | K52: 5.5 | L52: 4.6 | N52: 2 | O52: Y | P52: M | Q52: I | R52: 0 | S52: D | T52: 0 | U52: M | V52: 0 | W52: LS | X52: M | Y52: 0 | Z52: B | AA52: M | AB52: 0 | AD52: =I52-#REF! -> #REF!
A54: 9070 | B54: 483 | C54: 361 | D54: 1.95 | E54: Loceret - Ngrawan | F54: 1 | G54: 18.0361.001 | H54: Jembatan Nglawak | I54: =AE54-AD54 -> 2 | J54: S | K54: 3 | L54: 6 | M54: 6 | N54: 1 | O54: P | P54: T | Q54: I | R54: 0 | S54: T | T54: 0 | U54: Y | V54: 0 | W54: LS | X54: M | Y54: 0 | Z54: P | AA54: M | AB54: 0 | AD54: ='[1]NGANJUK''Z'!$L$126 -> 952.5 | AE54: 954.5
C57: LINTASAN/TIPE PENYEBERANGAN (4) | F57: TIPE BANGUNAN ATAS (8) | I57: ASAL BANGUNAN ATAS (10) | L57: TIPE PONDASI (16) | O57: TIPE KEPALA JEMBATAN/PILAR (19) | T57: BAHAN dan/atau BANGUNAN PELENGKAP (9,12,14,17,20)
C58: J N | D58: : Jalan | F58: B | G58: : Gorong - gorong Kotak | I58: W | J58: : Acrow / Bailey | L58: CA | M58: : Cakar Ayam | T58: K | U58: : Kayu | Y58: O | Z58: : Tanah Biasa
C59: K A | D59: : Kereta api | F59: Y | G59: : Gorong - gorong Pipa | I59: A | J59: : Australia | L59: LS | M59: : Langsung | O59: KEPALA JEMBATAN | T59: S | U59: : Pasangan Bata | Y59: A | Z59: : Aspal
C60: S | D60: : Sungai | F60: T | G60: : Gantung | I60: B | J60: : Belanda Baru | L60: TP | M60: : Tiang Pancang | O60: A | P60: : Kep ( Cap ) | T60: M | U60: : Pasangan Batu | Y60: R | Z60: : Kerikil / Pasir
C61: L | D61: : Lain-lain | F61: W | G61: : Sokongan - Gantungan | I61: D | J61: : Belanda Lama | L61: PB | M61: : Bore Pile | O61: B | P61: : Dinding Penuh | T61: G | U61: : Bronjong dan Sejenisnya | Y61: W | Z61: : Macadam
F62: G | G62: : Gelagar | I62: I | J62: : Indonesia | L62: SU | M62: : Sumuran | T62: H | U62: : Pasangan Batu Kosong | Y62: L | Z62: : Lain - lain
C63: KONDISI (11,13,15,18,21) | F63: M | G63: : Gelagar Komposit | I63: J | J63: : Jepang | L63: TU | M63: : Tiang Ulir | O63: P I L A R | T63: D | U63: : Beton Tidak Bertulang
C64: 0 : | D64: baik sekali | F64: L | G64: : Balok Pelengkung | I64: U | J64: : Kalender Hamilton | L64: BR | M64: : Kawat Bronjong | O64: C | P64: : Kep ( Cap ) | T64: T | U64: : Beton Bertulang
C65: 1 : | D65: rusak ringan, memerlukan pemeliharaan secara rutin | F65: E | G65: : Pelengkung | J65: ( Inggris ) | L65: LL | M65: : Lain - lain | O65: P | P65: : Dinding Penuh | T65: P | U65: : Beton Pratekan
C66: 2 : | D66: rusak, perbaikan berkala | F66: P | G66: : Plat | I66: S | J66: : Austria | O66: S | P66: : Satu Kolom | T66: B | U66: : Baja
C67: 3 : | D67: rusak berat, perbaikan secepatnya dalam kurun waktu 1 tahun | F67: R | G67: : Rangka | J67: ( Semi Permanen ) | O67: D | P67: : Dua Kolom | T67: U | U67: : Lantai Baja Bergelombang
C68: 4 : | D68: kritis, penanganan segera | F68: S | G68: : Jembatan Sementara | I68: P | J68: : Australia | O68: T | P68: : Tiga Kolom atau Penuh | T68: Y | U68: : Pipa Baja Diisi Beton
C69: 5 : | D69: jembtaan runtuh | F69: FX | G69: : Ferry | J69: ( Semi Permanen ) | O69: L | P69: : Lain - Lain | T69: J | U69: : Aluminium
F70: KX | G70: : Lintasan Kereta-api | I70: T | J70: : Australia | T70: E | U70: : Neoprene / Karet
F71: WX | G71: : Lintasan Basah | J71: ( Trans Panel ) | T71: F | U71: : Teflon
F72: U | G72: : Lain - lain | I72: R | J72: : Austria | T72: V | U72: : P V C
J73: ( Permanen ) | T73: X | U73: : Geotextile
C75: IKHTISAR INVENTARISASI JEMBATAN
C76: PROPINSI | E76: : JAWA TIMUR (35)
C77: KABUPATEN | E77: : NGANJUK
C78: KECAMATAN | E78: : LOCERET
C80: No. Ruas | D80: Panjang (km) | E80: Nama Pangkal-Ujung Ruas (K1) | F80: No.Urut | G80: Nomor Jembatan | H80: Nama Jembatan/Sungai (>=2,0 m) | I80: PAL km | J80: Tipe Penye-berangan | K80: Ukuran | O80: Tipe/ Kondisi (Gunakan oe Standar di K10L)
K81: Panjang (m) | L81: Lebar | N81: Jumlah Bentang | O81: Bangunan Atas | S81: Lantai | U81: Sandaran | W81: Pondasi | Z81: Kepala Jemb. & Pilar
B82: No. ID | L82: Jalur | M82: Total | O82: Tipe | P82: Bahan | Q82: Asal | R82: Kond | S82: Bahan | T82: Kond | U82: Bahan | V82: Kond | W82: Tipe | X82: Bahan | Y82: Kond | Z82: Tipe | AA82: Bahan | AB82: Kond
F83: 1 | H83: 2 | I83: 3 | J83: 4 | K83: 5 | L83: 6.1 | M83: 6.2 | N83: 7 | O83: 8 | P83: 9 | Q83: 10 | R83: 11 | S83: 12 | T83: 13 | U83: 14 | V83: 15 | W83: 16 | X83: 17 | Y83: 18 | Z83: 19 | AA83: 20 | AB83: 21
A84: 9152 | B84: 484 | C84: 362 | D84: 15.8 | E84: Sugihwaras - Magersari | F84: 1 | G84: 18.0362.001 | H84: Jbt.Karangsono | I84: 1 | J84: S | K84: 6.9 | L84: 4.8 | M84: 5.8 | N84: 1 | O84: M | P84: T | Q84: I | R84: 0 | S84: T | T84: 0 | U84: V | V84: 0 | W84: LS | X84: M | Y84: 0 | Z84: B | AA84: M | AB84: 0 | AC84: =[2]nganjuk!$L$243 -> 99.7 | AD84: =I84-#REF! -> #REF!
B86: 485 | F86: 2 | G86: 18.0362.002 | H86: Jbt.Karangsono II | I86: 1 | J86: S | K86: 19.8 | L86: 4.8 | M86: 5.4 | N86: 2 | O86: E | P86: B | Q86: I | R86: 0 | S86: T | T86: 0 | U86: V | V86: 0 | W86: SU | X86: M | Y86: 0 | Z86: B | AA86: M | AB86: 0 | AD86: =I86-#REF! -> #REF!
B88: 486 | F88: 3 | G88: 18.0362.003 | H88: Jbt.Genjeng | I88: 3.4 | J88: S | K88: 6.8 | L88: 6.1 | N88: 1 | O88: E | P88: B | Q88: I | R88: 0 | S88: T | T88: 0 | U88: V | V88: 0 | W88: LS | X88: M | Y88: 0 | Z88: B | AA88: M | AB88: 0 | AD88: =I88-#REF! -> #REF!
B90: 487 | F90: 4 | G90: 18.0362.004 | H90: Jbt.Kali Putih | I90: 7.5 | J90: S | K90: 6.6 | L90: 3.7 | N90: 1 | O90: M | P90: T | Q90: I | R90: 0 | S90: T | T90: 0 | U90: V | V90: 0 | W90: LS | X90: M | Y90: 0 | Z90: B | AA90: M | AB90: 0 | AD90: =I90-#REF! -> #REF!
B92: 488 | F92: 5 | G92: 18.0362.005 | H92: Jbt.Bajulan | I92: 9.8 | J92: S | K92: 3.4 | L92: 6.1 | N92: 1 | O92: M | P92: T | Q92: I | R92: 0 | S92: T | T92: 0 | U92: V | V92: 0 | W92: LS | X92: M | Y92: 0 | Z92: B | AA92: M | AB92: 0 | AD92: =I92-#REF! -> #REF!
B94: 489 | F94: 6 | G94: 18.0362.006 | H94: Jbt.Bajulan II | I94: 11.25 | J94: S | K94: 5.5 | L94: 3.5 | N94: 1 | O94: M | P94: T | Q94: I | R94: 0 | S94: T | T94: 0 | U94: V | V94: 0 | W94: LS | X94: M | Y94: 0 | Z94: B | AA94: M | AB94: 0 | AD94: =I94-#REF! -> #REF!
B96: 490 | F96: 7 | G96: 18.0362.007 | H96: Jbt.Bajulan III | I96: 12.1 | J96: S | K96: 25.6 | L96: 3 | N96: 2 | O96: M | P96: T | Q96: I | R96: 0 | S96: T | T96: 0 | U96: V | V96: 1 | W96: SU | X96: M | Y96: 0 | Z96: B | AA96: M | AB96: 0 | AD96: =I96-#REF! -> #REF!
A98: 9153 | B98: 656 | C98: 363 | D98: 0.15 | E98: Bajulan - Magersari | F98: 1 | G98: 18.0363.001 | H98: Jbt.Rorokuning | I98: 0.05 | J98: S | K98: 13.8 | L98: 3.6 | M98: 4 | N98: 1 | O98: M | P98: T | Q98: I | R98: 0 | S98: T | T98: 0 | U98: V | V98: 1 | W98: SU | X98: M | Y98: 0 | Z98: A | AA98: T | AB98: 0 | AC98: =[2]nganjuk!$L$245 -> 15.6 | AD98: =I98-AC98 -> -15.55
A100: 9155 | B100: 491 | C100: 364.1 | D100: 0.4 | E100: Karangsono - Dk. Karangsono | F100: 1 | G100: 18.0364.1.001 | H100: Jbt.Karangsono | I100: 0.4 | J100: S | K100: 9.5 | L100: 1.5 | N100: 1 | O100: E | P100: B | Q100: I | R100: 0 | S100: D | T100: 0 | U100: B | V100: 1 | W100: SU | X100: M | Y100: 0 | Z100: B | AA100: M | AB100: 0 | AC100: =[2]nganjuk!$L$248 -> 31.1 | AD100: =I100-#REF! -> #REF!
A102: 9154 | B102: 493 | C102: 365 | D102: 0.5 | E102: Karangsono - Dk. Karangsono | F102: 1 | G102: 18.0365.001 | H102: Jbt.Karangsono | I102: 0.4 | J102: S | K102: 16.6 | L102: 3 | M102: 4 | N102: 2 | O102: E | P102: M | Q102: I | R102: 0 | S102: D | T102: 0 | U102: M | V102: 0 | W102: LS | X102: M | Y102: 0 | Z102: B | AA102: M | AB102: 0 | AC102: =[2]nganjuk!$L$247 -> 30.1 | AD102: =I102-AC102 -> -29.7
A104: 9149 | B104: 494 | C104: 366 | D104: 2.8 | E104: Genjeng - Tukul | F104: 1 | G104: 18.0366.001 | H104: Jbt.Genjeng | I104: 0.2 | J104: S | K104: 18.1 | L104: 3 | N104: 3 | O104: G | P104: B | Q104: I | R104: 0 | S104: T | T104: 0 | U104: B | V104: 0 | W104: SU | X104: M | Y104: 0 | Z104: B | AA104: M | AB104: 0 | AC104: =[2]nganjuk!$L$237 -> 57.3 | AD104: =I104-#REF! -> #REF!
B106: 495 | F106: 2 | G106: 18.0366.002 | H106: Jbt.Genjeng II | I106: 0.4 | J106: S | K106: 3.1 | L106: 3 | N106: 1 | O106: M | P106: T | Q106: I | R106: 0 | S106: T | T106: 0 | U106: V | V106: 1 | W106: LS | X106: M | Y106: 0 | Z106: B | AA106: M | AB106: 0 | AD106: =I106-#REF! -> #REF!
B108: 496 | F108: 3 | G108: 18.0366.003 | H108: Jbt.Genjeng III | I108: 0.55 | J108: S | K108: 3.5 | L108: 3 | M108: 3.4 | N108: 1 | O108: M | P108: T | Q108: I | R108: 0 | S108: T | T108: 0 | U108: V | V108: 1 | W108: LS | X108: M | Y108: 0 | Z108: B | AA108: M | AB108: 0 | AD108: =I108-#REF! -> #REF!
A110: 9143 | B110: 503 | C110: 367 | D110: 4.3 | E110: Gabah - Macanan | F110: 1 | G110: 18.0367.001 | H110: Jbt.Sumbernongko | I110: 0.2 | J110: S | K110: 21.2 | L110: 3 | M110: 3.4 | N110: 1 | O110: M | P110: T | Q110: I | R110: 0 | S110: T | T110: 0 | U110: V | V110: 0 | W110: LS | X110: M | Y110: 0 | Z110: A | AA110: T | AB110: 0 | AC110: 100.6 | AD110: =I110-AC110 -> -100.4
A112: 9132 | B112: 497 | C112: 368 | D112: 2.3 | E112: Ngepeh - Bendungrejo | F112: 1 | G112: 18.0368.001 | H112: Jbt.Ngepeh | I112: 0 | J112: S | K112: 3 | L112: 3 | M112: 6.1 | N112: 1 | O112: M | P112: T | Q112: I | R112: 0 | S112: D | T112: 0 | U112: M | V112: 0 | W112: LS | X112: M | Y112: 0 | Z112: B | AA112: M | AB112: 0 | AC112: =[2]nganjuk!$L$201 -> 1.1 | AD112: =I112-#REF! -> #REF!
B114: 498 | F114: 2 | G114: 18.0368.002 | H114: Jbt.Buk Peni | I114: 2.2 | J114: S | K114: 3 | L114: 3 | M114: 4 | N114: 2 | O114: Y | P114: T | Q114: I | R114: 0 | S114: D | T114: 0 | U114: M | V114: 0 | W114: LS | X114: M | Y114: 0 | Z114: B | AA114: M | AB114: 0 | AD114: =I114-#REF! -> #REF!
A116: 9138 | B116: 499 | C116: 369 | D116: 1.1 | E116: Ngepeh - Ngrawan | F116: 1 | G116: 18.0369.001 | H116: Jbt.Ngepeh | I116: 0.25 | J116: S | K116: 9.8 | L116: 5.5 | N116: 1 | O116: E | P116: M | Q116: I | R116: 0 | S116: D | T116: 0 | U116: M | V116: 0 | W116: LS | X116: M | Y116: 0 | Z116: B | AA116: M | AB116: 0 | AC116: =[2]nganjuk!$L$213 -> 31.1 | AD116: =I116-AC116 -> -30.85
A118: 9136 | B118: 500 | C118: 370 | D118: 7.3 | E118: Macanan - Ngepeh | F118: 1 | G118: 18.0370.001 | H118: Jbt.Kali Pare | I118: 3.8 | J118: S | K118: 4.7 | L118: 3 | N118: 1 | O118: M | P118: T | Q118: I | R118: 0 | S118: T | T118: 0 | U118: V | V118: 0 | W118: LS | X118: M | Y118: 0 | Z118: B | AA118: M | AB118: 0 | AC118: =[2]nganjuk!$L$209 -> 20 | AD118: =I118-#REF! -> #REF!
B120: 501 | F120: 2 | G120: 18.0370.002 | H120: Jbt.Karansono | I120: 6.7 | J120: S | K120: 3 | L120: 2.8 | N120: 1 | O120: M | P120: T | Q120: I | R120: 0 | S120: T | T120: 0 | U120: V | V120: 1 | W120: LS | X120: M | Y120: 0 | Z120: B | AA120: M | AB120: 0 | AD120: =I120-#REF! -> #REF!
B122: 502 | F122: 3 | G122: 18.0370.003 | H122: Jbt.Karansono II | I122: 6.8 | J122: S | K122: 24.5 | L122: 2.4 | N122: 3 | O122: E | P122: B | Q122: I | R122: 0 | S122: T | T122: 0 | U122: V | V122: 0 | W122: SU | X122: M | Y122: 0 | Z122: A | AA122: T | AB122: 0 | AD122: =I122-#REF! -> #REF!
A124: 9140 | B124: 504 | C124: 372 | D124: 2.32 | E124: Mojoranu - Ngepeh | F124: 1 | G124: 18.0372.001 | H124: Jbt.Ngepeh | I124: 0.25 | J124: S | K124: 29 | L124: 2.6 | N124: 3 | O124: G | P124: B | Q124: I | R124: 0 | S124: T | T124: 0 | U124: V | V124: 0 | W124: SU | X124: M | Y124: 0 | Z124: B | AA124: M | AB124: 0 | AC124: =[2]nganjuk!$L$216 -> 32.8 | AD124: =I124-#REF! -> #REF!
B126: 505 | F126: 2 | G126: 18.0372.002 | H126: Jbt.Kali Pare | I126: 0.8 | J126: S | K126: 2.5 | L126: 3.5 | N126: 1 | O126: M | P126: T | Q126: I | R126: 0 | S126: T | T126: 0 | U126: V | V126: 0 | W126: LS | X126: M | Y126: 0 | Z126: B | AA126: M | AB126: 0 | AD126: =I126-#REF! -> #REF!
A128: 9142 | B128: 506 | C128: 375 | D128: 5.6 | E128: Nglarangan - Ds. Congol | F128: 1 | G128: 18.0375.001 | H128: Jbt.Bajulan | I128: 2.3 | J128: S | K128: 2.8 | L128: 2.6 | N128: 1 | O128: M | P128: T | Q128: I | R128: 0 | S128: T | T128: 0 | U128: V | V128: 1 | W128: LS | X128: M | Y128: 0 | Z128: B | AA128: M | AB128: 0 | AC128: =[2]nganjuk!$L$222 -> 90.7 | AD128: =I128-AC128 -> -88.4
A130: 9042 | B130: 578 | C130: 414 | D130: 1 | E130: Gejagan - Candirejo | F130: 1 | G130: 18.0414.001 | H130: Kali Gejagan | I130: 0.55 | J130: S | K130: 17.5 | L130: 3 | M130: 3 | N130: 3 | O130: G | P130: B | Q130: I | R130: 0 | S130: D | T130: 1 | U130: B | V130: 1 | W130: LS | X130: M | Y130: 0 | Z130: B | AA130: M | AB130: 0 | AC130: =[2]nganjuk!$L$75 -> 88.5 | AD130: =I130-AC130 -> -87.95
A132: 9040 | B132: 579 | C132: 415.1 | D132: 1.6 | E132: Candirejo - Tempel-Panasan | F132: 1 | G132: 18.0415.1.001 | H132: Candi | I132: 0.65 | J132: S | K132: 22.5 | L132: 6 | M132: 6.6 | N132: 2 | O132: M | P132: T | Q132: I | R132: 0 | S132: T | T132: 0 | U132: V | V132: 0 | W132: LS | X132: M | Y132: 0 | Z132: A | AA132: T | AB132: 0 | AC132: =[2]nganjuk!$L$73 -> 83.85 | AD132: =I132-AC132 -> -83.2
A134: 9050 | B134: 580 | C134: 418 | D134: 1.2 | E134: Loceret - Teken Glagah | F134: 1 | G134: 18.0418.001 | H134: Kali Kanalan | I134: 0.6 | J134: S | K134: 2 | L134: 5 | M134: 5 | N134: 1 | O134: E | P134: M | Q134: I | R134: 0 | S134: M | T134: 0 | U134: M | V134: 0 | W134: LS | X134: M | Y134: 0 | Z134: B | AA134: M | AB134: 0 | AC134: =[2]nganjuk!$L$87 -> 10.6 | AD134: =I134-AC134 -> -10
A136: 9051 | B136: 581 | C136: 419.1 | D136: 1.65 | E136: Teken Glagah - Patranrejo | F136: 1 | G136: 18.0419.1.001 | H136: Kali Kanalan | I136: 0.4 | J136: S | K136: 2 | L136: 5 | M136: 5 | N136: 1 | O136: E | P136: M | Q136: I | R136: 0 | S136: M | T136: 0 | U136: M | V136: 0 | W136: LS | X136: M | Y136: 0 | Z136: B | AA136: M | AB136: 0 | AC136: =[2]nganjuk!$L$88 -> 12.45 | AD136: =I136-#REF! -> #REF!
B138: 582 | F138: 2 | G138: 18.0419.1.002 | H138: Kali Teken Glagahan | I138: 0.65 | J138: S | K138: 18.7 | L138: 3.1 | M138: 3.5 | N138: 2 | O138: G | P138: B | Q138: I | R138: 0 | S138: M | T138: 0 | U138: V | V138: 0 | W138: LS | X138: M | Y138: 0 | Z138: B | AA138: M | AB138: 0 | AD138: =I138-#REF! -> #REF!
C141: LINTASAN/TIPE PENYEBERANGAN (4) | F141: TIPE BANGUNAN ATAS (8) | I141: ASAL BANGUNAN ATAS (10) | L141: TIPE PONDASI (16) | O141: TIPE KEPALA JEMBATAN/PILAR (19) | T141: BAHAN dan/atau BANGUNAN PELENGKAP (9,12,14,17,20)
C142: J N | D142: : Jalan | F142: B | G142: : Gorong - gorong Kotak | I142: W | J142: : Acrow / Bailey | L142: CA | M142: : Cakar Ayam | T142: K | U142: : Kayu | Y142: O | Z142: : Tanah Biasa
C143: K A | D143: : Kereta api | F143: Y | G143: : Gorong - gorong Pipa | I143: A | J143: : Australia | L143: LS | M143: : Langsung | O143: KEPALA JEMBATAN | T143: S | U143: : Pasangan Bata | Y143: A | Z143: : Aspal
C144: S | D144: : Sungai | F144: T | G144: : Gantung | I144: B | J144: : Belanda Baru | L144: TP | M144: : Tiang Pancang | O144: A | P144: : Kep ( Cap ) | T144: M | U144: : Pasangan Batu | Y144: R | Z144: : Kerikil / Pasir
C145: L | D145: : Lain-lain | F145: W | G145: : Sokongan - Gantungan | I145: D | J145: : Belanda Lama | L145: PB | M145: : Bore Pile | O145: B | P145: : Dinding Penuh | T145: G | U145: : Bronjong dan Sejenisnya | Y145: W | Z145: : Macadam
F146: G | G146: : Gelagar | I146: I | J146: : Indonesia | L146: SU | M146: : Sumuran | T146: H | U146: : Pasangan Batu Kosong | Y146: L | Z146: : Lain - lain
C147: KONDISI (11,13,15,18,21) | F147: M | G147: : Gelagar Komposit | I147: J | J147: : Jepang | L147: TU | M147: : Tiang Ulir | O147: P I L A R | T147: D | U147: : Beton Tidak Bertulang
C148: 0 : | D148: baik sekali | F148: L | G148: : Balok Pelengkung | I148: U | J148: : Kalender Hamilton | L148: BR | M148: : Kawat Bronjong | O148: C | P148: : Kep ( Cap ) | T148: T | U148: : Beton Bertulang
C149: 1 : | D149: rusak ringan, memerlukan pemeliharaan secara rutin | F149: E | G149: : Pelengkung | J149: ( Inggris ) | L149: LL | M149: : Lain - lain | O149: P | P149: : Dinding Penuh | T149: P | U149: : Beton Pratekan
C150: 2 : | D150: rusak, perbaikan berkala | F150: P | G150: : Plat | I150: S | J150: : Austria | O150: S | P150: : Satu Kolom | T150: B | U150: : Baja
C151: 3 : | D151: rusak berat, perbaikan secepatnya dalam kurun waktu 1 tahun | F151: R | G151: : Rangka | J151: ( Semi Permanen ) | O151: D | P151: : Dua Kolom | T151: U | U151: : Lantai Baja Bergelombang
C152: 4 : | D152: kritis, penanganan segera | F152: S | G152: : Jembatan Sementara | I152: P | J152: : Australia | O152: T | P152: : Tiga Kolom atau Penuh | T152: Y | U152: : Pipa Baja Diisi Beton
C153: 5 : | D153: jembtaan runtuh | F153: FX | G153: : Ferry | J153: ( Semi Permanen ) | O153: L | P153: : Lain - Lain | T153: J | U153: : Aluminium
F154: KX | G154: : Lintasan Kereta-api | I154: T | J154: : Australia | T154: E | U154: : Neoprene / Karet
F155: WX | G155: : Lintasan Basah | J155: ( Trans Panel ) | T155: F | U155: : Teflon
F156: U | G156: : Lain - lain | I156: R | J156: : Austria | T156: V | U156: : P V C
...

Sheet Ngetos
C1: IKHTISAR INVENTARISASI JEMBATAN
C2: PROPINSI | E2: : JAWA TIMUR (35)
C3: KABUPATEN | E3: : NGANJUK
C4: KECAMATAN | E4: : NGETOS
C6: No. Ruas | D6: Panjang (km) | E6: Nama Pangkal-Ujung Ruas (K1) | F6: No.Urut | G6: Nomor Jembatan | H6: Nama Jembatan/Sungai (>=2,0 m) | I6: PAL km | J6: Tipe Penye-berangan | K6: Ukuran | O6: Tipe/ Kondisi (Gunakan oe Standar di K10L)
K7: Panjang (m) | L7: Lebar | N7: Jumlah Bentang | O7: Bangunan Atas | S7: Lantai | U7: Sandaran | W7: Pondasi | Z7: Kepala Jemb. & Pilar
B8: No. ID | L8: Jalur | M8: Total | O8: Tipe | P8: Bahan | Q8: Asal | R8: Kond | S8: Bahan | T8: Kond | U8: Bahan | V8: Kond | W8: Tipe | X8: Bahan | Y8: Kond | Z8: Tipe | AA8: Bahan | AB8: Kond
F9: 1 | H9: 2 | I9: 3 | J9: 4 | K9: 5 | L9: 6.1 | M9: 6.2 | N9: 7 | O9: 8 | P9: 9 | Q9: 10 | R9: 11 | S9: 12 | T9: 13 | U9: 14 | V9: 15 | W9: 16 | X9: 17 | Y9: 18 | Z9: 19 | AA9: 20 | AB9: 21
A10: 9129 | B10: 522 | C10: 384 | D10: 8,53 | E10: Blongko - Mojoduwur | F10: 1 | G10: 18.0384.001 | H10: Jbt. Mojoduwur | I10: 4.9 | J10: S | K10: 3.4 | L10: 4.3 | N10: 1 | O10: E | P10: M | R10: 0 | S10: D | T10: 0 | U10: V | V10: 0 | W10: LS | X10: M | Y10: 0 | Z10: B | AA10: M | AB10: 0 | AC10: =[2]nganjuk!$L$194 -> 59.1 | AD10: =I10-$AC$10 -> -54.2
B12: 523 | F12: 2 | G12: 18.0384.002 | H12: Jbt. Kali Sumber | I12: 7.5 | J12: S | K12: 4.4 | L12: 4 | N12: 1 | O12: M | P12: T | R12: 0 | S12: T | T12: 0 | U12: V | V12: 0 | W12: LS | Y12: 0 | Z12: B | AA12: M | AB12: 0
B14: 524 | F14: 3 | G14: 18.0384.003 | H14: Jbt. Mojoduwur II | I14: 8.4 | J14: S | K14: 25.8 | L14: 3 | M14: 3.4 | N14: 3 | O14: M | P14: T | R14: 0 | S14: T | T14: 0 | U14: V | V14: 1 | W14: SU | X14: M | Y14: 0 | Z14: B | AA14: M | AB14: 0 | AD14: =I14-$AC$10 -> -50.7
A16: 9130 | B16: 525 | C16: 385 | D16: 1.34 | E16: Kuncir - Sumber | F16: 1 | G16: 180385001 | H16: Jbt. Bamblang | I16: 0.78 | J16: S | K16: 4.2 | L16: 4 | N16: 1 | O16: M | P16: T | R16: 0 | S16: T | T16: 0 | U16: V | V16: 0 | W16: LS | X16: M | Y16: 0 | Z16: B | AA16: M | AB16: 0 | AD16: =I16-#REF! -> #REF!
A18: 9125 | B18: 519 | C18: 386.1 | D18: 12.6 | E18: Kuncir - Klodan | F18: 1 | G18: 18.0386.1.001 | H18: Jbt. Kali Kuncir | I18: 0.017 | J18: S | K18: 16.8 | L18: 4 | M18: 5.5 | N18: 2 | O18: M | P18: T | R18: 1 | S18: T | T18: 0 | U18: V | V18: 2 | W18: LS | X18: M | Y18: 0 | Z18: B | AA18: M | AB18: 0 | AC18: =[2]nganjuk!$L$189 -> 44 | AD18: =I18-$AC$18 -> -43.983
B20: 520 | F20: 2 | G20: 18.0386.1.002 | H20: Jbt. Kuncir | I20: 0.45 | J20: S | K20: 2.7 | L20: 4.6 | N20: 1 | O20: E | P20: M | R20: 0 | S20: D | T20: 0 | U20: M | V20: 0 | W20: LS | X20: M | Y20: 0 | Z20: B | AA20: M | AB20: 0 | AD20: =I20-$AC$18 -> -43.55
A22: 9131 | B22: 526 | F22: 3 | G22: 18.0386.1.003 | H22: Jbt. Kuncir | I22: 0.79 | J22: S | K22: 28 | L22: 4 | N22: 3 | O22: G | P22: B | R22: 0 | S22: T | T22: 0 | U22: V | V22: 0 | W22: LS | X22: M | Y22: 0 | Z22: B | AA22: M | AB22: 0
B24: 527 | F24: 4 | G24: 18.0386.1.004 | H24: Jbt. Jurang Ringin | I24: 4.6 | J24: S | K24: 6 | L24: 4.1 | N24: 1 | O24: M | P24: T | R24: 0 | S24: T | T24: 0 | U24: V | V24: 0 | W24: LS | X24: M | Y24: 0 | Z24: B | AA24: M | AB24: 0
B26: 528 | F26: 5 | G26: 18.0386.1.005 | H26: Jbt. Blongko | I26: 7.9 | J26: S | K26: 4.8 | L26: 5.2 | N26: 1 | O26: M | P26: T | R26: 0 | S26: T | T26: 0 | U26: V | V26: 0 | W26: LS | X26: M | Y26: 0 | Z26: B | AA26: M | AB26: 0
B28: 529 | F28: 6 | G28: 18.0386.1.006 | H28: Jbt. Klodan | I28: 9.2 | J28: S | K28: 15 | L28: 4.3 | N28: 2 | O28: M | P28: T | R28: 0 | S28: T | T28: 0 | U28: V | V28: 0 | W28: LS | X28: M | Y28: 0 | Z28: B | AA28: M | AB28: 0
B30: 530 | F30: 7 | G30: 18.0386.1.007 | H30: Jbt. Klodan II | I30: 11 | J30: S | K30: 15.5 | L30: 4.1 | N30: 2 | O30: M | P30: T | R30: 0 | S30: T | T30: 0 | U30: V | V30: 0 | W30: SU | X30: M | Y30: 0 | Z30: B | AA30: M | AB30: 0
B32: 531 | F32: 8 | G32: 18.0386.1.008 | H32: Jbt. Klodan III | I32: 12.4 | J32: S | K32: 3 | L32: 3.5 | N32: 1 | O32: M | P32: T | R32: 0 | S32: D | T32: 0 | U32: V | V32: 0 | W32: LS | X32: M | Y32: 0 | Z32: B | AA32: M | AB32: 0
A34: 9085 | B34: 538 | C34: 390.1 | D34: 1.75 | E34: Pandansili - Manian | F34: 1 | G34: 18.0390.1.001 | H34: Jbt. Kweden 1 | I34: 0.29 | J34: S | K34: 12.2 | L34: 3.4 | N34: 1 | O34: E | P34: M | R34: 0 | S34: T | T34: 0 | U34: V | V34: 0 | W34: LS | Y34: 0 | Z34: B | AA34: M | AB34: 0
A36: 9083 | B36: 540 | C36: 391 | D36: 0.4 | E36: Kedungbrencah - Tapan | F36: 1 | G36: 18.0391.001 | H36: Jbt. Kuncir 1 | I36: 0.07 | J36: S | K36: 3.9 | L36: 27.7 | N36: 3 | O36: G | P36: B | R36: 0 | S36: D | T36: 0 | U36: V | V36: 0 | W36: LS | Y36: 0 | Z36: B | AA36: M | AB36: 0
A38: 9084 | B38: 541 | C38: 392.1 | D38: 0.47 | E38: Tapan - Jawuh | F38: 1 | G38: 18.0392.1.001 | H38: Jbt. Kweden | I38: 0.15 | J38: S | K38: 2.5 | L38: 3 | M38: 4.6 | N38: 3 | O38: E | P38: M | R38: 0 | S38: M | T38: 0 | U38: M | V38: 0 | W38: LS | Y38: 0 | Z38: B | AA38: M | AB38: 0
C41: LINTASAN/TIPE PENYEBERANGAN (4) | F41: TIPE BANGUNAN ATAS (8) | I41: ASAL BANGUNAN ATAS (10) | L41: TIPE PONDASI (16) | O41: TIPE KEPALA JEMBATAN/PILAR (19) | T41: BAHAN dan/atau BANGUNAN PELENGKAP (9,12,14,17,20)
C42: J N | D42: : Jalan | F42: B | G42: : Gorong - gorong Kotak | I42: W | J42: : Acrow / Bailey | L42: CA | M42: : Cakar Ayam | T42: K | U42: : Kayu
C43: K A | D43: : Kereta api | F43: Y | G43: : Gorong - gorong Pipa | I43: A | J43: : Australia | L43: LS | M43: : Langsung | O43: KEPALA JEMBATAN | T43: S | U43: : Pasangan Bata
C44: S | D44: : Sungai | F44: T | G44: : Gantung | I44: B | J44: : Belanda Baru | L44: TP | M44: : Tiang Pancang | O44: A | P44: : Kep ( Cap ) | T44: M | U44: : Pasangan Batu
C45: L | D45: : Lain-lain | F45: W | G45: : Sokongan - Gantungan | I45: D | J45: : Belanda Lama | L45: PB | M45: : Bore Pile | O45: B | P45: : Dinding Penuh | T45: G | U45: : Bronjong dan Sejenisnya
F46: G | G46: : Gelagar | I46: I | J46: : Indonesia | L46: SU | M46: : Sumuran | T46: H | U46: : Pasangan Batu Kosong
C47: KONDISI (11,13,15,18,21) | F47: M | G47: : Gelagar Komposit | I47: J | J47: : Jepang | L47: TU | M47: : Tiang Ulir | O47: P I L A R | T47: D | U47: : Beton Tidak Bertulang
C48: 0 : | D48: baik sekali | F48: L | G48: : Balok Pelengkung | I48: U | J48: : Kalender Hamilton | L48: BR | M48: : Kawat Bronjong | O48: C | P48: : Kep ( Cap ) | T48: T | U48: : Beton Bertulang
C49: 1 : | D49: rusak ringan, memerlukan pemeliharaan secara rutin | F49: E | G49: : Pelengkung | J49: ( Inggris ) | L49: LL | M49: : Lain - lain | O49: P | P49: : Dinding Penuh | T49: P | U49: : Beton Pratekan
C50: 2 : | D50: rusak, perbaikan berkala | F50: P | G50: : Plat | I50: S | J50: : Austria | O50: S | P50: : Satu Kolom | T50: B | U50: : Baja
C51: 3 : | D51: rusak berat, perbaikan secepatnya dalam kurun waktu 1 tahun | F51: R | G51: : Rangka | J51: ( Semi Permanen ) | O51: D | P51: : Dua Kolom | T51: U | U51: : Lantai Baja Bergelombang
C52: 4 : | D52: kritis, penanganan segera | F52: S | G52: : Jembatan Sementara | I52: P | J52: : Australia | O52: T | P52: : Tiga Kolom atau Penuh | T52: Y | U52: : Pipa Baja Diisi Beton
C53: 5 : | D53: jembtaan runtuh | F53: FX | G53: : Ferry | J53: ( Semi Permanen ) | O53: L | P53: : Lain - Lain | T53: J | U53: : Aluminium
F54: KX | G54: : Lintasan Kereta-api | I54: T | J54: : Australia | T54: E | U54: : Neoprene / Karet
F55: WX | G55: : Lintasan Basah | J55: ( Trans Panel ) | T55: F | U55: : Teflon
F56: U | G56: : Lain - lain | I56: R | J56: : Austria | T56: V | U56: : P V C
J57: ( Permanen ) | T57: X | U57: : Geotextile
T58: O | U58: : Tanah Biasa / Lempung atau Timbunan
T59: A | U59: : Aspal
T60: R | U60: : Kerikil / Pasir
T61: W | U61: : Macadam
T62: L | U62: : Lain - lain

Sheet Sukomoro
C1: IKHTISAR INVENTARISASI JEMBATAN
C2: PROPINSI | E2: : JAWA TIMUR (35)
C3: KABUPATEN | E3: : NGANJUK
C4: KECAMATAN | E4: : SUKOMORO
C6: No. Ruas | D6: Panjang (km) | E6: Nama Pangkal-Ujung Ruas (K1) | F6: No.Urut | G6: Nomor Jembatan | H6: Nama Jembatan/Sungai (>=2,0 m) | I6: PAL km | J6: Tipe Penye-berangan | K6: Ukuran | O6: Tipe/ Kondisi (Gunakan oe Standar di K10L)
K7: Panjang (m) | L7: Lebar | N7: Jumlah Bentang | O7: Bangunan Atas | S7: Lantai | U7: Sandaran | W7: Pondasi | Z7: Kepala Jemb. & Pilar
B8: No. ID | L8: Jalur | M8: Total | O8: Tipe | P8: Bahan | Q8: Asal | R8: Kond | S8: Bahan | T8: Kond | U8: Bahan | V8: Kond | W8: Tipe | X8: Bahan | Y8: Kond | Z8: Tipe | AA8: Bahan | AB8: Kond
F9: 1 | H9: 2 | I9: 3 | J9: 4 | K9: 5 | L9: 6.1 | M9: 6.2 | N9: 7 | O9: 8 | P9: 9 | Q9: 10 | R9: 11 | S9: 12 | T9: 13 | U9: 14 | V9: 15 | W9: 16 | X9: 17 | Y9: 18 | Z9: 19 | AA9: 20 | AB9: 21
A10: 4030 | B10: 19 | C10: 27 | D10: 1.5 | E10: Kedungsoko - Kentong | F10: 1 | G10: 18.0027.001 | H10: Jembatan Kedungsoko | I10: 1.3 | J10: S | K10: 4 | L10: 3.5 | M10: 3.5 | N10: 1 | O10: P | P10: T | Q10: I | R10: 0 | S10: T | T10: 0 | U10: Y | V10: 0 | W10: LS | X10: M | Y10: 0 | Z10: P | AA10: M | AB10: 0
A12: 38 | B12: 20 | C12: 28.1 | D12: 2.2 | E12: Nglundo - Jopatran | F12: 1 | G12: 18.0028.1.001 | H12: Jembatan Kali Nglundo | I12: =AE12-AD12 -> 0 | J12: S | K12: 3 | L12: 4 | M12: 4 | N12: 1 | O12: P | P12: T | Q12: I | R12: 0 | S12: T | T12: 0 | U12: S | V12: 0 | W12: LS | X12: S | Y12: 0 | Z12: P | AA12: M | AB12: 0 | AD12: ='[1]NGANJUK''Z'!$L$212 -> 34 | AE12: 34
B14: 21 | F14: 2 | G14: 18.0028.1.002 | H14: Jembatan Kali Nglundo 2 | I14: =AE14-AD12 -> 0.3 | J14: S | K14: 3 | L14: 3 | M14: 3 | N14: 1 | O14: P | P14: T | Q14: I | R14: 0 | S14: T | T14: 0 | U14: Y | V14: 0 | W14: LS | X14: M | Y14: 0 | Z14: P | AA14: M | AB14: 0 | AE14: 34.3
B16: 22 | F16: 3 | G16: 18.0028.1.003 | H16: Jembatan Kali Nglundo 3 | I16: =AE16-AD12 -> 0.5 | J16: S | K16: 2 | L16: 3 | M16: 3 | N16: 1 | O16: P | P16: T | Q16: I | R16: 0 | S16: T | T16: 0 | U16: Y | V16: 0 | W16: LS | X16: M | Y16: 0 | Z16: P | AA16: M | AB16: 0 | AE16: 34.5
A18: 4028 | B18: 27 | C18: 29 | D18: 1.2 | E18: Bungur - Kajang | F18: 1 | G18: 18.0029.001 | H18: Jembatan Irigasi Bungur | I18: =AE18-AD18 -> 0 | J18: S | K18: 3 | L18: 2.5 | M18: 2.5 | N18: 1 | O18: P | P18: T | Q18: I | R18: 0 | S18: T | T18: 0 | U18: Y | V18: 0 | W18: LS | X18: M | Y18: 0 | Z18: P | AA18: M | AB18: 0 | AD18: ='[1]NGANJUK''Z'!$L$156 -> 130.7 | AE18: 130.7
B20: 28 | F20: 2 | G20: 18.0029.002 | H20: Jembatan Irigasi Bungur 2 | I20: =AE20-AD18 -> 0.2 | J20: S | K20: 2.5 | L20: 2.5 | M20: 3 | N20: 1 | O20: P | P20: T | Q20: I | R20: 0 | S20: T | T20: 0 | U20: Y | V20: 0 | W20: LS | X20: M | Y20: 0 | Z20: P | AA20: M | AB20: 0 | AE20: 130.9
B22: 29 | F22: 3 | G22: 18.0029.003 | H22: Jembatan Irigasi Bungur 3 | I22: =AE22-AD18 -> 0.9 | J22: S | K22: 2 | L22: 4 | M22: 4 | N22: 1 | O22: P | P22: T | Q22: I | R22: 0 | S22: T | T22: 0 | U22: Y | V22: 0 | W22: LS | X22: M | Y22: 0 | Z22: P | AA22: M | AB22: 0 | AE22: 131.6
A24: 37 | B24: 30 | C24: 30 | D24: 2.1 | E24: Ngrami - Sukomoro | F24: 1 | G24: 18.0030.001 | H24: Jembatan Irigasi Ngrami | I24: =AE24-AD24 -> 0 | J24: S | K24: 3.5 | L24: 5 | M24: 5 | N24: 1 | O24: P | P24: T | Q24: I | R24: 0 | S24: T | T24: 0 | U24: Y | V24: 0 | W24: LS | X24: M | Y24: 0 | Z24: P | AA24: M | AB24: 0 | AD24: ='[1]NGANJUK''Z'!$L$211 -> 61.4 | AE24: 61.4
B26: 31 | F26: 2 | G26: 18.0030.002 | H26: Jembatan Irigasi Ngrami 2 | I26: =AE26-AD24 -> 0.4 | J26: S | K26: 5 | L26: 5 | M26: 5 | N26: 1 | O26: P | P26: T | Q26: I | R26: 0 | S26: T | T26: 0 | U26: S | V26: 0 | W26: LS | X26: S | Y26: 0 | Z26: P | AA26: M | AB26: 0 | AE26: 61.8
B28: 32 | F28: 3 | G28: 18.0030.003 | H28: Jembatan Kali Pehserut | I28: =AE28-AD24 -> 1 | J28: S | K28: 23 | L28: 5 | M28: 5 | N28: 2 | O28: M | P28: T | Q28: I | R28: 0 | S28: T | T28: 0 | U28: Y | V28: 0 | W28: LS | X28: M | Y28: 0 | Z28: P | AA28: M | AB28: 0 | AE28: 62.4
B30: 33 | F30: 4 | G30: 18.0030.004 | H30: Jembatan Kali Pehserut 2 | I30: =AE30-AD24 -> 1 | J30: S | K30: 11 | L30: 3.7 | M30: 3.7 | N30: 1 | O30: L | P30: T | Q30: D | R30: 0 | S30: T | T30: 0 | U30: S | V30: 0 | W30: LS | X30: S | Y30: 0 | Z30: P | AA30: M | AB30: 0 | AE30: 62.4
B32: 34 | F32: 5 | G32: 18.0030.005 | H32: Jembatan Sukomoro | I32: =AE32-AD24 -> 1.7 | J32: S | K32: 3 | L32: 5 | M32: 5 | N32: 1 | O32: M | P32: T | Q32: I | R32: 0 | S32: T | T32: 0 | U32: Y | V32: 0 | W32: LS | X32: M | Y32: 0 | Z32: P | AA32: M | AB32: 0 | AE32: 63.1
B34: 35 | F34: 6 | G34: 18.0030.006 | H34: Jembatan Sukomoro 2 | I34: =AE34-AD24 -> 1.8 | J34: S | K34: 5 | L34: 6 | M34: 6 | N34: 1 | O34: M | P34: T | Q34: I | R34: 0 | S34: T | T34: 0 | U34: Y | V34: 0 | W34: LS | X34: M | Y34: 0 | Z34: P | AA34: M | AB34: 0 | AE34: 63.2
A36: 4002 | B36: 36 | C36: 31 | D36: 1 | E36: Kaliulo - Pehserut | F36: 1 | G36: 18.0031.001 | H36: Jembatan Irigasi Pehserut | I36: =AE36-AD36 -> 0.9 | J36: S | K36: 4 | L36: 3 | M36: 3 | N36: 1 | O36: L | P36: T | Q36: I | R36: 0 | S36: T | T36: 0 | U36: Y | V36: 0 | W36: LS | X36: M | Y36: 0 | Z36: P | AA36: M | AB36: 0 | AD36: ='[1]NGANJUK''Z'!$L$129 -> 761.2 | AE36: 762.1
B38: 37 | F38: 2 | G38: 18.0031.002 | H38: Jembatan Irigasi Pehserut | I38: 1 | J38: S | K38: 4 | L38: 3 | M38: 3 | N38: 1 | O38: L | P38: T | Q38: I | R38: 0 | S38: T | T38: 0 | U38: Y | V38: 0 | W38: LS | X38: M | Y38: 0 | Z38: P | AA38: M | AB38: 0
A40: 161 | B40: 39 | C40: 32.1 | D40: 2.4 | E40: Gerung - Werungotok | F40: 1 | G40: 18.0032.1.001 | H40: Jembatan Irigasi Pehserut | I40: =AE40-AD66 -> 1.7 | J40: S | K40: 4 | L40: 14 | M40: 18 | N40: 1 | O40: P | P40: T | Q40: I | R40: 0 | S40: T | T40: 0 | U40: Y | V40: 0 | W40: LS | X40: M | Y40: 0 | Z40: P | AA40: M | AB40: 0 | AE40: 611.3
B42: 40 | F42: 2 | G42: 18.0032.1.002 | H42: Jembatan Irigasi Pehserut 2 | I42: =AE42-AD66 -> 2.7 | J42: S | K42: 4 | L42: 14 | M42: 18 | N42: 1 | O42: P | P42: T | Q42: I | R42: 0 | S42: T | T42: 0 | U42: Y | V42: 0 | W42: LS | X42: M | Y42: 0 | Z42: P | AA42: M | AB42: 0 | AE42: 612.3
B44: 41 | F44: 3 | G44: 18.0032.1.003 | H44: Jembatan Pehserut 2 | I44: =AE44-AD66 -> 2.9 | J44: S | K44: 21 | L44: 14 | M44: 18 | N44: 1 | O44: P | P44: T | Q44: I | R44: 0 | S44: T | T44: 0 | U44: Y | V44: 0 | W44: LS | X44: M | Y44: 0 | Z44: P | AA44: M | AB44: 0 | AE44: 612.5
A46: 4026 | B46: 42 | C46: 33 | D46: 0.7 | E46: Pehserut - Sukomoro | F46: 1 | G46: 18.0033.001 | H46: Jembatan Irigasi Pehserut | I46: =AE46-AD46 -> 0 | J46: S | K46: 4 | L46: 2.5 | M46: 2.5 | N46: 1 | O46: P | P46: T | Q46: I | R46: 0 | S46: T | T46: 0 | U46: Y | V46: 0 | W46: LS | X46: M | Y46: 0 | Z46: P | AA46: M | AB46: 0 | AD46: ='[1]NGANJUK''Z'!$L$154 -> 128.6 | AE46: 128.6
A48: 4027 | B48: 43 | C48: 34 | D48: 0.5 | E48: Sukomoro- Sukomoro | F48: 1 | G48: 18.0034.001 | H48: Jembatan Irigasi Sukomoro | I48: =AE48-AD48 -> 0.5 | J48: S | K48: 4 | L48: 5.5 | M48: 5.5 | N48: 1 | O48: M | P48: T | Q48: I | R48: 0 | S48: T | T48: 0 | U48: Y | V48: 0 | W48: LS | X48: M | Y48: 0 | Z48: P | AA48: M | AB48: 0 | AD48: ='[1]NGANJUK''Z'!$L$155 -> 129.2 | AE48: 129.7
A50: 39 | B50: 44 | C50: 36 | D50: 7.2 | E50: Kedungsoko - Nglundo | F50: 1 | G50: 18.0036.001 | H50: Jembatan Kedungsoko | I50: =AE50-AD50 -> 0 | J50: S | K50: 5 | L50: 3.5 | M50: 3.5 | N50: 1 | O50: P | P50: T | Q50: I | R50: 0 | S50: T | T50: 0 | U50: Y | V50: 0 | W50: LS | X50: M | Y50: 0 | Z50: P | AA50: M | AB50: 0 | AD50: ='[1]NGANJUK''Z'!$L$213 -> 55.7 | AE50: 55.7
B52: 45 | F52: 2 | G52: 18.0036.002 | H52: Jembatan Kedunglimar | I52: 3.9 | J52: S | K52: 2 | L52: 3.5 | M52: 4.5 | N52: 1 | O52: P | P52: T | Q52: I | R52: 0 | S52: T | T52: 0 | U52: Y | V52: 0 | W52: LS | X52: M | Y52: 0 | Z52: P | AA52: M | AB52: 0
A54: 23 | B54: 49 | C54: 40 | D54: 3.5 | E54: Ngrengket - Ngrami | F54: 1 | G54: 18.0040.001 | H54: Jembatan Bagor | I54: =AE54-AD54 -> 2.6 | J54: S | K54: 5 | L54: 3.5 | M54: 6.5 | N54: 1 | O54: L | P54: T | Q54: I | R54: 0 | S54: T | T54: 0 | U54: S | V54: 0 | W54: LS | X54: S | Y54: 0 | Z54: P | AA54: M | AB54: 0 | AD54: ='[1]NGANJUK''Z'!$L$199 -> 285.7 | AE54: 288.3
A56: 4023 | B56: 50 | C56: 42 | D56: 0.8 | E56: Bagorwetan - Sugihan | F56: 1 | G56: 18.0042.001 | H56: Jembatan DAM Bagor Wetan | I56: =AE56-AD56 -> 0.3 | J56: S | K56: 4 | L56: 2.5 | M56: 2.5 | N56: 1 | O56: P | P56: T | Q56: I | R56: 0 | S56: T | T56: 0 | U56: Y | V56: 0 | W56: LS | X56: M | Y56: 0 | Z56: P | AA56: M | AB56: 0 | AD56: ='[1]NGANJUK''Z'!$L$151 -> 120.5 | AE56: 120.8
B58: 51 | F58: 2 | G58: 18.0042.002 | H58: Jembatan Bagor Wetan | I58: 0.6 | J58: S | K58: 4 | L58: 2.5 | M58: 2.5 | N58: 1 | O58: L | P58: T | Q58: I | R58: 0 | S58: T | T58: 0 | U58: S | V58: 0 | W58: LS | X58: S | Y58: 0 | Z58: P | AA58: M | AB58: 0
A60: 35 | B60: 52 | C60: 45.1 | D60: 1.4 | E60: Ngrami - Mlaten | F60: 1 | G60: 18.0045.1.001 | H60: Jembatan Mlaten | I60: =AE60-AD60 -> 1.1 | J60: S | K60: 6 | L60: 3.5 | M60: 3.5 | N60: 1 | O60: M | P60: T | Q60: I | R60: 0 | S60: T | T60: 0 | U60: Y | V60: 0 | W60: LS | X60: M | Y60: 0 | Z60: P | AA60: M | AB60: 0 | AD60: ='[1]NGANJUK''Z'!$L$208 -> 89.2 | AE60: 90.3
A62: 4018 | B62: 54 | C62: 47 | D62: 0.4 | E62: Werungotok Dalam - Werungotok | F62: 1 | G62: 18.0047.001 | H62: Jembatan Brantas | I62: 0.46 | J62: S | K62: 11 | L62: 2.8 | M62: 2.8 | N62: 1 | O62: P | P62: T | Q62: I | R62: 0 | S62: T | T62: 0 | U62: Y | V62: 0 | W62: LS | X62: M | Y62: 0 | Z62: P | AA62: M | AB62: 0
A64: 24 | B64: 55 | C64: 49.1 | D64: 0.9 | E64: Ngrengket - Kendal | F64: 1 | G64: 18.0049.1.001 | H64: Jembatan Ngrengket | I64: 0.47 | J64: S | K64: 5 | L64: 3.5 | M64: 6.5 | N64: 1 | O64: P | P64: T | Q64: I | R64: 0 | S64: T | T64: 0 | U64: Y | V64: 0 | W64: LS | X64: M | Y64: 0 | Z64: P | AA64: M | AB64: 0 | AD64: ='[1]NGANJUK''Z'!$L$200 -> 133.3 | AE64: 136.6
A66: 9034 | B66: 38 | C66: 58.1 | D66: 0.9 | E66: Werungotok - Pehserut | F66: 1 | G66: 18.0058.1.001 | H66: Jembatan Pehserut | I66: =AE66-AD66 -> 0.9 | J66: S | K66: 4.5 | L66: 4.5 | M66: 4.5 | N66: 1 | O66: P | P66: T | Q66: I | R66: 0 | S66: T | T66: 0 | U66: Y | V66: 0 | W66: LS | X66: M | Y66: 0 | Z66: P | AA66: M | AB66: 0 | AD66: ='[1]NGANJUK''Z'!$L$61 -> 609.6 | AE66: 610.5
A68: 4131 | B68: 327 | C68: 163 | D68: 2 | E68: Sumengko - Kapas | F68: 1 | G68: 18.0163.001 | H68: Jbt.Kapas | I68: 0.9 | J68: S | K68: 17 | L68: 5 | M68: 5 | N68: 2 | O68: M | P68: T | R68: 0 | S68: T | T68: 0 | U68: V | V68: 0 | W68: SU | X68: M | Y68: 0 | Z68: B | AA68: M | AB68: 0 | AC68: 1.9 | AD68: =I68-AC68 -> -1
B70: 328 | F70: 2 | G70: 18.0163.002 | H70: Jbt.Kapas II | I70: 1.7 | J70: S | K70: 3.6 | L70: 4 | M70: 4 | N70: 1 | O70: M | P70: T | R70: 0 | S70: T | T70: 0 | U70: M | V70: 0 | W70: LS | X70: M | Y70: 0 | Z70: B | AA70: M | AB70: 0 | AC70: 1.9 | AD70: =I70-AC70 -> -0.2
A72: 9086 | B72: 329 | C72: 164.1 | D72: 2.2 | E72: Sukomoro- Sumengko | F72: 1 | G72: 18.0164.1.001 | H72: Sukomoro | I72: 0.03 | J72: S | K72: 4.2 | L72: 3.6 | M72: 4 | N72: 1 | O72: M | P72: T | R72: 0 | S72: T | T72: 0 | U72: V | V72: 0 | W72: LS | X72: M | Y72: 0 | Z72: B | AA72: M | AB72: 0 | AC72: =[2]nganjuk!$L$134 -> 42.5 | AD72: =I72-$AC$72 -> -42.47
B74: 330 | F74: 2 | G74: 18.0164.1.002 | H74: Sukomoro II | I74: 0.2 | J74: S | K74: 5.3 | L74: 4 | M74: 4 | N74: 1 | O74: G | P74: B | R74: 0 | S74: T | T74: 0 | U74: V | V74: 0 | W74: LS | X74: M | Y74: 0 | Z74: B | AA74: M | AB74: 0 | AD74: =I74-$AC$72 -> -42.3
B76: 331 | F76: 3 | G76: 18.0164.1.003 | H76: Sukomoro III | I76: 1.05 | J76: S | K76: 13.3 | L76: 4.8 | M76: 5.4 | N76: 1 | O76: M | P76: T | R76: 0 | S76: T | T76: 0 | U76: V | V76: 1 | W76: LS | X76: M | Y76: 0 | Z76: B | AA76: M | AB76: 0 | AD76: =I76-$AC$72 -> -41.45
B78: 332 | F78: 4 | G78: 18.0164.1.004 | H78: Sumengko | I78: 2.15 | J78: S | K78: 13.7 | L78: 4 | M78: 4.6 | N78: 1 | O78: G | P78: B | R78: 0 | S78: T | T78: 0 | U78: V | V78: 0 | W78: LS | X78: M | Y78: 0 | Z78: A | AA78: T | AB78: 0 | AD78: =I78-$AC$72 -> -40.35
A80: 9097 | B80: 335 | C80: 165.1 | D80: 2.6 | E80: Bungur - Ganggangmalang | F80: 1 | G80: 18.0165.1.001 | H80: Jbt. Bungur | I80: 0.02 | J80: S | K80: 3.5 | L80: 5.5 | M80: 6 | N80: 1 | O80: M | P80: T | R80: 0 | S80: T | T80: 0 | U80: V | V80: 0 | W80: LS | X80: M | Y80: 0 | Z80: B | AA80: M | AB80: 0 | AC80: =[2]nganjuk!$L$148 -> 79.7 | AD80: =I80-$AC$80 -> -79.68
B82: 336 | F82: 2 | G82: 18.0165.1.002 | H82: Jbt. Bungur II | I82: 0.1 | J82: S | K82: 3.5 | L82: 5.5 | M82: 6 | N82: 1 | O82: M | P82: T | R82: 0 | S82: T | T82: 0 | U82: V | V82: 0 | W82: LS | X82: M | Y82: 0 | Z82: B | AA82: M | AB82: 0 | AD82: =I82-$AC$80 -> -79.6
B84: 337 | F84: 3 | G84: 18.0165.1.003 | H84: Jbt. Bungur III | I84: 0.2 | J84: S | K84: 4.5 | L84: 5.5 | M84: 6 | N84: 1 | O84: M | P84: T | R84: 0 | S84: T | T84: 0 | U84: V | V84: 0 | W84: LS | X84: M | Y84: 0 | Z84: B | AA84: M | AB84: 0 | AD84: =I84-$AC$80 -> -79.5
B86: 338 | F86: 4 | G86: 18.0165.1.004 | H86: Jbt. Butaran | I86: 1.2 | J86: S | K86: 15 | L86: 4 | M86: 5 | N86: 2 | O86: G | P86: B | R86: 0 | S86: T | T86: 0 | U86: V | V86: 0 | W86: LS | X86: M | Y86: 0 | Z86: B | AA86: M | AB86: 0 | AD86: =I86-$AC$80 -> -78.5
B88: 339 | F88: 5 | G88: 18.0165.1.005 | H88: Jbt. Sumengko | I88: 2.05 | J88: S | K88: 2.7 | L88: 3.3 | M88: 4 | N88: 1 | O88: M | P88: T | R88: 0 | S88: T | T88: 0 | U88: V | V88: 2 | W88: LS | X88: M | Y88: 0 | Z88: B | AA88: M | AB88: 1 | AD88: =I88-$AC$80 -> -77.65
B90: 340 | F90: 6 | G90: 18.0165.1.006 | H90: Jbt. Sumengko II | I90: 2.65 | J90: S | K90: 9 | L90: 3 | M90: 3 | N90: 2 | O90: G | P90: B | R90: 0 | S90: T | T90: 0 | U90: V | V90: 0 | W90: LS | X90: M | Y90: 0 | Z90: A | AA90: T | AB90: 0 | AD90: =I90-$AC$80 -> -77.05
A92: 9105 | B92: 343 | C92: 166 | D92: 1.2 | E92: Nglundo - Blitaran | F92: 1 | G92: 18.0166.001 | H92: Jbt. Nglundo I | I92: 0 | J92: S | K92: 3.3 | L92: 4 | M92: 4.8 | N92: 1 | O92: M | P92: T | R92: 0 | S92: T | T92: 0 | U92: V | V92: 0 | W92: LS | X92: M | Y92: 0 | Z92: B | AA92: M | AB92: 0 | AC92: =[2]nganjuk!$L$164 -> 16.1 | AD92: =I92-$AC$92 -> -16.1
B94: 344 | F94: 2 | G94: 18.0166.002 | H94: Jbt. Nglundo II | I94: 0.05 | J94: S | K94: 3.4 | L94: 4 | M94: 4.6 | N94: 1 | O94: M | P94: T | R94: 0 | S94: T | T94: 0 | U94: V | V94: 0 | W94: LS | X94: M | Y94: 0 | Z94: B | AA94: M | AB94: 0 | AD94: =I94-$AC$92 -> -16.05
B96: 345 | F96: 3 | G96: 18.0166.003 | H96: Jbt. Nglundo III | I96: 0.2 | J96: S | K96: 3.5 | L96: 4.5 | M96: 4.5 | N96: 1 | O96: M | P96: T | R96: 0 | S96: T | T96: 0 | U96: V | V96: 0 | W96: LS | X96: M | Y96: 0 | Z96: B | AA96: M | AB96: 0 | AD96: =I96-$AC$92 -> -15.9
A98: 9096 | B98: 346 | C98: 168 | D98: 2.1 | E98: Kapas - Blitaran | F98: 1 | G98: 18.0168.001 | H98: Jbt. Kapas | I98: 1.445 | J98: S | K98: 2.4 | L98: 4 | M98: 4.6 | N98: 1 | O98: M | P98: T | R98: 0 | S98: T | T98: 0 | U98: Y | V98: 0 | W98: LS | X98: M | Y98: 0 | Z98: B | AA98: M | AB98: 0 | AC98: =[2]nganjuk!$L$147 -> 76.555 | AD98: =I98-AC98 -> -75.11
A100: 9102 | B100: 347 | C100: 169.1 | D100: 2.5 | E100: Blitaran - Banjaranyar | F100: 1 | G100: 18.0169.1.001 | H100: Jbt. Banjaranyar | I100: 2.55 | J100: S | K100: 60 | L100: 4.5 | M100: 5.5 | N100: 3 | O100: G | P100: B | R100: 0 | S100: T | T100: 0 | U100: V | V100: 0 | W100: LS | X100: M | Y100: 0 | Z100: A | AA100: T | AB100: 0 | AC100: =[2]nganjuk!$L$156 -> 0.35 | AD100: =I100-$AC$100 -> 2.2
A102: 9095 | B102: 351 | C102: 172.1 | D102: 2 | E102: Sumengko - Koripan | F102: 1 | G102: 18.0172.1.001 | H102: Sumengko | I102: 0 | J102: S | K102: 3.3 | L102: 6 | M102: 6 | N102: 1 | O102: E | P102: M | R102: 0 | S102: D | T102: 0 | U102: M | V102: 1 | W102: LS | X102: M | Y102: 0 | Z102: B | AA102: M | AB102: 0 | AC102: =[2]nganjuk!$L$144 -> 85.1 | AD102: =I102-$AC$102 -> -85.1
A104: 9106 | B104: 353 | C104: 174.1 | D104: 1.4 | E104: Blitaran - Gempolan | F104: 1 | G104: 18.0174.1.001 | H104: Jbt. Blitaran | I104: 0.1 | J104: S | K104: 12 | L104: 3.3 | M104: 3.5 | N104: 1 | O104: G | P104: B | R104: 0 | S104: K | T104: 2 | U104: B | V104: 0 | W104: LS | X104: M | Y104: 0 | Z104: B | AA104: M | AB104: 0 | AC104: =[2]nganjuk!$L$165 -> 17.3 | AD104: =I104-$AC$104 -> -17.2
B106: 354 | F106: 2 | G106: 18.0174.1.002 | H106: Jbt. Kali Patusan | I106: 0.9 | J106: S | K106: 12.1 | L106: 3 | M106: 3 | N106: 1 | O106: G | P106: B | R106: 1 | S106: K | T106: 2 | U106: B | V106: 1 | W106: LS | X106: M | Y106: 0 | Z106: B | AA106: M | AB106: 0 | AD106: =I106-$AC$104 -> -16.4
A108: 9094 | B108: 378 | C108: 226.2 | D108: 1.5 | E108: Sumengko - Bulak | F108: 1 | G108: 18.0226.2.001 | H108: Sumengko | I108: 2.35 | J108: S | K108: 6.1 | L108: 6 | M108: 6 | N108: 2 | O108: E | P108: M | R108: 0 | S108: D | T108: 0 | U108: M | V108: 0 | W108: LS | X108: M | Y108: 0 | Z108: B | AA108: M | AB108: 0 | AC108: =[2]nganjuk!$L$143 -> 82.45 | AD108: =I108-AC108 -> -80.1
A110: 9049 | B110: 46 | C110: 9008 | D110: 0.9 | E110: Bagorwetan - Pehserut | F110: 1 | G110: 18.9008.001 | H110: Jembatan Irigasi Kali Ulo | I110: =AE110-AD110 -> 0.4 | J110: S | K110: 6 | L110: 2.5 | M110: 2.5 | N110: 1 | O110: P | P110: T | Q110: I | R110: 0 | S110: T | T110: 0 | U110: Y | V110: 0 | W110: LS | X110: M | Y110: 0 | Z110: P | AA110: M | AB110: 0 | AD110: ='[1]NGANJUK''Z'!$L$87 -> 760 | AE110: 760.4
B112: 47 | F112: 2 | G112: 18.9008.002 | H112: Jembatan Kali Ulo | I112: =AE112-AD110 -> 0.5 | J112: S | K112: 23.5 | L112: 4 | M112: 4 | N112: 2 | O112: M | P112: T | Q112: I | R112: 0 | S112: T | T112: 0 | U112: Y | V112: 0 | W112: LS | X112: M | Y112: 0 | Z112: B | AA112: M | AB112: 0 | AE112: 760.5
A114: 9050 | B114: 60 | C114: 9010 | D114: 1.5 | E114: Putren - Kedungdowo | F114: 1 | G114: 18.9010.001 | H114: Jembatan Widas | I114: =AE114-AD114 -> 1.1 | J114: S | K114: 62 | L114: 3 | M114: 3 | N114: 2 | O114: M | P114: T | Q114: I | R114: 0 | S114: T | T114: 0 | U114: Y | V114: 0 | W114: LS | X114: M | Y114: 0 | Z114: P | AA114: M | AB114: 0 | AD114: ='[1]NGANJUK''Z'!$L$88 -> 767.8 | AE114: 768.9
B116: 61 | F116: 2 | G116: 18.9010.002 | H116: Jembatan Putren | I116: =AE116-AD114 -> 1.3 | J116: S | K116: 4 | L116: 3 | M116: 3 | N116: 1 | O116: P | P116: T | Q116: I | R116: 0 | S116: T | T116: 0 | U116: Y | V116: 0 | W116: LS | X116: M | Y116: 0 | Z116: P | AA116: M | AB116: 0 | AE116: 769.1
C119: LINTASAN/TIPE PENYEBERANGAN (4) | F119: TIPE BANGUNAN ATAS (8) | I119: ASAL BANGUNAN ATAS (10) | L119: TIPE PONDASI (16) | O119: TIPE KEPALA JEMBATAN/PILAR (19) | T119: BAHAN dan/atau BANGUNAN PELENGKAP (9,12,14,17,20)
C120: J N | D120: : Jalan | F120: B | G120: : Gorong - gorong Kotak | I120: W | J120: : Acrow / Bailey | L120: CA | M120: : Cakar Ayam | T120: K | U120: : Kayu
C121: K A | D121: : Kereta api | F121: Y | G121: : Gorong - gorong Pipa | I121: A | J121: : Australia | L121: LS | M121: : Langsung | O121: KEPALA JEMBATAN | T121: S | U121: : Pasangan Bata
C122: S | D122: : Sungai | F122: T | G122: : Gantung | I122: B | J122: : Belanda Baru | L122: TP | M122: : Tiang Pancang | O122: A | P122: : Kep ( Cap ) | T122: M | U122: : Pasangan Batu
C123: L | D123: : Lain-lain | F123: W | G123: : Sokongan - Gantungan | I123: D | J123: : Belanda Lama | L123: PB | M123: : Bore Pile | O123: B | P123: : Dinding Penuh | T123: G | U123: : Bronjong dan Sejenisnya
F124: G | G124: : Gelagar | I124: I | J124: : Indonesia | L124: SU | M124: : Sumuran | T124: H | U124: : Pasangan Batu Kosong
C125: KONDISI (11,13,15,18,21) | F125: M | G125: : Gelagar Komposit | I125: J | J125: : Jepang | L125: TU | M125: : Tiang Ulir | O125: P I L A R | T125: D | U125: : Beton Tidak Bertulang
C126: 0 : | D126: baik sekali | F126: L | G126: : Balok Pelengkung | I126: U | J126: : Kalender Hamilton | L126: BR | M126: : Kawat Bronjong | O126: C | P126: : Kep ( Cap ) | T126: T | U126: : Beton Bertulang
C127: 1 : | D127: rusak ringan, memerlukan pemeliharaan secara rutin | F127: E | G127: : Pelengkung | J127: ( Inggris ) | L127: LL | M127: : Lain - lain | O127: P | P127: : Dinding Penuh | T127: P | U127: : Beton Pratekan
C128: 2 : | D128: rusak, perbaikan berkala | F128: P | G128: : Plat | I128: S | J128: : Austria | O128: S | P128: : Satu Kolom | T128: B | U128: : Baja
C129: 3 : | D129: rusak berat, perbaikan secepatnya dalam kurun waktu 1 tahun | F129: R | G129: : Rangka | J129: ( Semi Permanen ) | O129: D | P129: : Dua Kolom | T129: U | U129: : Lantai Baja Bergelombang
C130: 4 : | D130: kritis, penanganan segera | F130: S | G130: : Jembatan Sementara | I130: P | J130: : Australia | O130: T | P130: : Tiga Kolom atau Penuh | T130: Y | U130: : Pipa Baja Diisi Beton
C131: 5 : | D131: jembtaan runtuh | F131: FX | G131: : Ferry | J131: ( Semi Permanen ) | O131: L | P131: : Lain - Lain | T131: J | U131: : Aluminium
F132: KX | G132: : Lintasan Kereta-api | I132: T | J132: : Australia | T132: E | U132: : Neoprene / Karet
F133: WX | G133: : Lintasan Basah | J133: ( Trans Panel ) | T133: F | U133: : Teflon
F134: U | G134: : Lain - lain | I134: R | J134: : Austria | T134: V | U134: : P V C
J135: ( Permanen ) | T135: X | U135: : Geotextile
T136: O | U136: : Tanah Biasa / Lempung atau Timbunan
T137: A | U137: : Aspal
T138: R | U138: : Kerikil / Pasir
T139: W | U139: : Macadam
T140: L | U140: : Lain - lain

Sheet Pace
C1: IKHTISAR INVENTARISASI JEMBATAN
C2: PROPINSI | E2: : JAWA TIMUR (35)
C3: KABUPATEN | E3: : NGANJUK
C4: KECAMATAN | E4: : PACE
C6: No. Ruas | D6: Panjang (km) | E6: Nama Pangkal-Ujung Ruas (K1) | F6: No.Urut | G6: Nomor Jembatan | H6: Nama Jembatan/Sungai (>=2,0 m) | I6: PAL km | J6: Tipe Penye-berangan | K6: Ukuran | O6: Tipe/ Kondisi (Gunakan oe Standar di K10L)
K7: Panjang (m) | L7: Lebar | N7: Jumlah Bentang | O7: Bangunan Atas | S7: Lantai | U7: Sandaran | W7: Pondasi | Z7: Kepala Jemb. & Pilar
B8: No. ID | L8: Jalur | M8: Total | O8: Tipe | P8: Bahan | Q8: Asal | R8: Kond | S8: Bahan | T8: Kond | U8: Bahan | V8: Kond | W8: Tipe | X8: Bahan | Y8: Kond | Z8: Tipe | AA8: Bahan | AB8: Kond
F9: 1 | H9: 2 | I9: 3 | J9: 4 | K9: 5 | L9: 6.1 | M9: 6.2 | N9: 7 | O9: 8 | P9: 9 | Q9: 10 | R9: 11 | S9: 12 | T9: 13 | U9: 14 | V9: 15 | W9: 16 | X9: 17 | Y9: 18 | Z9: 19 | AA9: 20 | AB9: 21
