Workbook

Sheet 30. Siswa Negeri Swasta
A1: Provinsi | B1: Kabupaten | C1: Tahun | D1: Kode Referensi Wilayah | E1: Kecamatan | F1: PAUD | H1: SPS | J1: TPA | L1: KB | N1: TK | P1: SD | R1: SMP | T1: Pendidikan Kesetaraan | V1: Total | W1: Satuan
F2: Negeri | G2: Swasta | H2: Negeri | I2: Swasta | J2: Negeri | K2: Swasta | L2: Negeri | M2: Swasta | N2: Negeri | O2: Swasta | P2: Negeri | Q2: Swasta | R2: Negeri | S2: Swasta | T2: Negeri | U2: Swasta
A3: Jawa Timur | B3: Nganjuk | C3: 2025 | D3: 35.18.01 | E3: Kecamatan Sawahan | F3: =SUM(H3,J3,L3,N3) -> 0 | G3: =SUM(I3,K3,M3,O3) -> 1002 | H3: 0 | I3: ='[1]29. Siswa Jenis Kelamin (2)'!E15+'[1]29. Siswa Jenis Kelamin (2)'!F15 -> 12 | J3: 0 | K3: ='[1]29. Siswa Jenis Kelamin (2)'!G15+'[1]29. Siswa Jenis Kelamin (2)'!H15 -> 0 | L3: 0 | M3: ='[1]29. Siswa Jenis Kelamin (2)'!I15+'[1]29. Siswa Jenis Kelamin (2)'!J15 -> 308 | N3: 0 | O3: ='[1]29. Siswa Jenis Kelamin (2)'!K15+'[1]29. Siswa Jenis Kelamin (2)'!L15-'30. Siswa Negeri Swasta'!N3 -> 682 | P3: 2328 | Q3: ='[1]29. Siswa Jenis Kelamin (2)'!M15+'[1]29. Siswa Jenis Kelamin (2)'!N15-'30. Siswa Negeri Swasta'!P3 -> 130 | R3: 789 | S3: ='[1]29. Siswa Jenis Kelamin (2)'!O15+'[1]29. Siswa Jenis Kelamin (2)'!P15-'30. Siswa Negeri Swasta'!R3 -> 78 | T3: 0 | U3: ='[1]29. Siswa Jenis Kelamin (2)'!Q15+'[1]29. Siswa Jenis Kelamin (2)'!R15-'30. Siswa Negeri Swasta'!T3 -> 0 | V3: =SUM(H3:U3) -> 4327 | W3: Siswa
A4: Jawa Timur | B4: Nganjuk | C4: 2025 | D4: 35.18.02 | E4: Kecamatan Ngetos | F4: =SUM(H4,J4,L4,N4) -> 0 | G4: =SUM(I4,K4,M4,O4) -> 1072 | H4: 0 | I4: ='[1]29. Siswa Jenis Kelamin (2)'!E16+'[1]29. Siswa Jenis Kelamin (2)'!F16 -> 0 | J4: 0 | K4: ='[1]29. Siswa Jenis Kelamin (2)'!G16+'[1]29. Siswa Jenis Kelamin (2)'!H16 -> 0 | L4: 0 | M4: ='[1]29. Siswa Jenis Kelamin (2)'!I16+'[1]29. Siswa Jenis Kelamin (2)'!J16 -> 289 | N4: 0 | O4: ='[1]29. Siswa Jenis Kelamin (2)'!K16+'[1]29. Siswa Jenis Kelamin (2)'!L16-'30. Siswa Negeri Swasta'!N4 -> 783 | P4: 2553 | Q4: ='[1]29. Siswa Jenis Kelamin (2)'!M16+'[1]29. Siswa Jenis Kelamin (2)'!N16-'30. Siswa Negeri Swasta'!P4 -> 67 | R4: 657 | S4: ='[1]29. Siswa Jenis Kelamin (2)'!O16+'[1]29. Siswa Jenis Kelamin (2)'!P16-'30. Siswa Negeri Swasta'!R4 -> 0 | T4: 0 | U4: ='[1]29. Siswa Jenis Kelamin (2)'!Q16+'[1]29. Siswa Jenis Kelamin (2)'!R16-'30. Siswa Negeri Swasta'!T4 -> 220 | V4: =SUM(H4:U4) -> 4569 | W4: Siswa
A5: Jawa Timur | B5: Nganjuk | C5: 2025 | D5: 35.18.03 | E5: Kecamatan Berbek | F5: =SUM(H5,J5,L5,N5) -> 0 | G5: =SUM(I5,K5,M5,O5) -> 1213 | H5: 0 | I5: ='[1]29. Siswa Jenis Kelamin (2)'!E17+'[1]29. Siswa Jenis Kelamin (2)'!F17 -> 0 | J5: 0 | K5: ='[1]29. Siswa Jenis Kelamin (2)'!G17+'[1]29. Siswa Jenis Kelamin (2)'!H17 -> 0 | L5: 0 | M5: ='[1]29. Siswa Jenis Kelamin (2)'!I17+'[1]29. Siswa Jenis Kelamin (2)'!J17 -> 240 | N5: 0 | O5: ='[1]29. Siswa Jenis Kelamin (2)'!K17+'[1]29. Siswa Jenis Kelamin (2)'!L17-'30. Siswa Negeri Swasta'!N5 -> 973 | P5: 3285 | Q5: ='[1]29. Siswa Jenis Kelamin (2)'!M17+'[1]29. Siswa Jenis Kelamin (2)'!N17-'30. Siswa Negeri Swasta'!P5 -> 89 | R5: 1217 | S5: ='[1]29. Siswa Jenis Kelamin (2)'!O17+'[1]29. Siswa Jenis Kelamin (2)'!P17-'30. Siswa Negeri Swasta'!R5 -> 120 | T5: 0 | U5: ='[1]29. Siswa Jenis Kelamin (2)'!Q17+'[1]29. Siswa Jenis Kelamin (2)'!R17-'30. Siswa Negeri Swasta'!T5 -> 0 | V5: =SUM(H5:U5) -> 5924 | W5: Siswa
A6: Jawa Timur | B6: Nganjuk | C6: 2025 | D6: 35.18.04 | E6: Kecamatan Loceret | F6: =SUM(H6,J6,L6,N6) -> 0 | G6: =SUM(I6,K6,M6,O6) -> 2251 | H6: 0 | I6: ='[1]29. Siswa Jenis Kelamin (2)'!E18+'[1]29. Siswa Jenis Kelamin (2)'!F18 -> 13 | J6: 0 | K6: ='[1]29. Siswa Jenis Kelamin (2)'!G18+'[1]29. Siswa Jenis Kelamin (2)'!H18 -> 0 | L6: 0 | M6: ='[1]29. Siswa Jenis Kelamin (2)'!I18+'[1]29. Siswa Jenis Kelamin (2)'!J18 -> 662 | N6: 0 | O6: ='[1]29. Siswa Jenis Kelamin (2)'!K18+'[1]29. Siswa Jenis Kelamin (2)'!L18-'30. Siswa Negeri Swasta'!N6 -> 1576 | P6: 3824 | Q6: ='[1]29. Siswa Jenis Kelamin (2)'!M18+'[1]29. Siswa Jenis Kelamin (2)'!N18-'30. Siswa Negeri Swasta'!P6 -> 1117 | R6: 1237 | S6: ='[1]29. Siswa Jenis Kelamin (2)'!O18+'[1]29. Siswa Jenis Kelamin (2)'!P18-'30. Siswa Negeri Swasta'!R6 -> 1707 | T6: 0 | U6: ='[1]29. Siswa Jenis Kelamin (2)'!Q18+'[1]29. Siswa Jenis Kelamin (2)'!R18-'30. Siswa Negeri Swasta'!T6 -> 46 | V6: =SUM(H6:U6) -> 10182 | W6: Siswa
A7: Jawa Timur | B7: Nganjuk | C7: 2025 | D7: 35.18.05 | E7: Kecamatan Pace | F7: =SUM(H7,J7,L7,N7) -> 0 | G7: =SUM(I7,K7,M7,O7) -> 1469 | H7: 0 | I7: ='[1]29. Siswa Jenis Kelamin (2)'!E19+'[1]29. Siswa Jenis Kelamin (2)'!F19 -> 88 | J7: 0 | K7: ='[1]29. Siswa Jenis Kelamin (2)'!G19+'[1]29. Siswa Jenis Kelamin (2)'!H19 -> 0 | L7: 0 | M7: ='[1]29. Siswa Jenis Kelamin (2)'!I19+'[1]29. Siswa Jenis Kelamin (2)'!J19 -> 422 | N7: 0 | O7: ='[1]29. Siswa Jenis Kelamin (2)'!K19+'[1]29. Siswa Jenis Kelamin (2)'!L19-'30. Siswa Negeri Swasta'!N7 -> 959 | P7: 3529 | Q7: ='[1]29. Siswa Jenis Kelamin (2)'!M19+'[1]29. Siswa Jenis Kelamin (2)'!N19-'30. Siswa Negeri Swasta'!P7 -> 90 | R7: 1488 | S7: ='[1]29. Siswa Jenis Kelamin (2)'!O19+'[1]29. Siswa Jenis Kelamin (2)'!P19-'30. Siswa Negeri Swasta'!R7 -> 82 | T7: 0 | U7: ='[1]29. Siswa Jenis Kelamin (2)'!Q19+'[1]29. Siswa Jenis Kelamin (2)'!R19-'30. Siswa Negeri Swasta'!T7 -> 0 | V7: =SUM(H7:U7) -> 6658 | W7: Siswa
A8: Jawa Timur | B8: Nganjuk | C8: 2025 | D8: 35.18.06 | E8: Kecamatan Prambon | F8: =SUM(H8,J8,L8,N8) -> 46 | G8: =SUM(I8,K8,M8,O8) -> 1625 | H8: 0 | I8: ='[1]29. Siswa Jenis Kelamin (2)'!E20+'[1]29. Siswa Jenis Kelamin (2)'!F20 -> 35 | J8: 0 | K8: ='[1]29. Siswa Jenis Kelamin (2)'!G20+'[1]29. Siswa Jenis Kelamin (2)'!H20 -> 0 | L8: 0 | M8: ='[1]29. Siswa Jenis Kelamin (2)'!I20+'[1]29. Siswa Jenis Kelamin (2)'!J20 -> 439 | N8: 46 | O8: ='[1]29. Siswa Jenis Kelamin (2)'!K20+'[1]29. Siswa Jenis Kelamin (2)'!L20-'30. Siswa Negeri Swasta'!N8 -> 1151 | P8: 3593 | Q8: ='[1]29. Siswa Jenis Kelamin (2)'!M20+'[1]29. Siswa Jenis Kelamin (2)'!N20-'30. Siswa Negeri Swasta'!P8 -> 48 | R8: 1666 | S8: ='[1]29. Siswa Jenis Kelamin (2)'!O20+'[1]29. Siswa Jenis Kelamin (2)'!P20-'30. Siswa Negeri Swasta'!R8 -> 192 | T8: 0 | U8: ='[1]29. Siswa Jenis Kelamin (2)'!Q20+'[1]29. Siswa Jenis Kelamin (2)'!R20-'30. Siswa Negeri Swasta'!T8 -> 0 | V8: =SUM(H8:U8) -> 7170 | W8: Siswa
A9: Jawa Timur | B9: Nganjuk | C9: 2025 | D9: 35.18.07 | E9: Kecamatan Ngronggot | F9: =SUM(H9,J9,L9,N9) -> 0 | G9: =SUM(I9,K9,M9,O9) -> 1426 | H9: 0 | I9: ='[1]29. Siswa Jenis Kelamin (2)'!E21+'[1]29. Siswa Jenis Kelamin (2)'!F21 -> 0 | J9: 0 | K9: ='[1]29. Siswa Jenis Kelamin (2)'!G21+'[1]29. Siswa Jenis Kelamin (2)'!H21 -> 0 | L9: 0 | M9: ='[1]29. Siswa Jenis Kelamin (2)'!I21+'[1]29. Siswa Jenis Kelamin (2)'!J21 -> 447 | N9: 0 | O9: ='[1]29. Siswa Jenis Kelamin (2)'!K21+'[1]29. Siswa Jenis Kelamin (2)'!L21-'30. Siswa Negeri Swasta'!N9 -> 979 | P9: 3076 | Q9: ='[1]29. Siswa Jenis Kelamin (2)'!M21+'[1]29. Siswa Jenis Kelamin (2)'!N21-'30. Siswa Negeri Swasta'!P9 -> 47 | R9: 1429 | S9: ='[1]29. Siswa Jenis Kelamin (2)'!O21+'[1]29. Siswa Jenis Kelamin (2)'!P21-'30. Siswa Negeri Swasta'!R9 -> 66 | T9: 0 | U9: ='[1]29. Siswa Jenis Kelamin (2)'!Q21+'[1]29. Siswa Jenis Kelamin (2)'!R21-'30. Siswa Negeri Swasta'!T9 -> 166 | V9: =SUM(H9:U9) -> 6210 | W9: Siswa
A10: Jawa Timur | B10: Nganjuk | C10: 2025 | D10: 35.18.08 | E10: Kecamatan Kertosono | F10: =SUM(H10,J10,L10,N10) -> 0 | G10: =SUM(I10,K10,M10,O10) -> 1886 | H10: 0 | I10: ='[1]29. Siswa Jenis Kelamin (2)'!E22+'[1]29. Siswa Jenis Kelamin (2)'!F22 -> 0 | J10: 0 | K10: ='[1]29. Siswa Jenis Kelamin (2)'!G22+'[1]29. Siswa Jenis Kelamin (2)'!H22 -> 0 | L10: 0 | M10: ='[1]29. Siswa Jenis Kelamin (2)'!I22+'[1]29. Siswa Jenis Kelamin (2)'!J22 -> 561 | N10: 0 | O10: ='[1]29. Siswa Jenis Kelamin (2)'!K22+'[1]29. Siswa Jenis Kelamin (2)'!L22-'30. Siswa Negeri Swasta'!N10 -> 1325 | P10: 3382 | Q10: ='[1]29. Siswa Jenis Kelamin (2)'!M22+'[1]29. Siswa Jenis Kelamin (2)'!N22-'30. Siswa Negeri Swasta'!P10 -> 382 | R10: 3100 | S10: ='[1]29. Siswa Jenis Kelamin (2)'!O22+'[1]29. Siswa Jenis Kelamin (2)'!P22-'30. Siswa Negeri Swasta'!R10 -> 265 | T10: 0 | U10: ='[1]29. Siswa Jenis Kelamin (2)'!Q22+'[1]29. Siswa Jenis Kelamin (2)'!R22-'30. Siswa Negeri Swasta'!T10 -> 0 | V10: =SUM(H10:U10) -> 9015 | W10: Siswa
A11: Jawa Timur | B11: Nganjuk | C11: 2025 | D11: 35.18.09 | E11: Kecamatan Patianrowo | F11: =SUM(H11,J11,L11,N11) -> 0 | G11: =SUM(I11,K11,M11,O11) -> 1315 | H11: 0 | I11: ='[1]29. Siswa Jenis Kelamin (2)'!E23+'[1]29. Siswa Jenis Kelamin (2)'!F23 -> 22 | J11: 0 | K11: ='[1]29. Siswa Jenis Kelamin (2)'!G23+'[1]29. Siswa Jenis Kelamin (2)'!H23 -> 0 | L11: 0 | M11: ='[1]29. Siswa Jenis Kelamin (2)'!I23+'[1]29. Siswa Jenis Kelamin (2)'!J23 -> 424 | N11: 0 | O11: ='[1]29. Siswa Jenis Kelamin (2)'!K23+'[1]29. Siswa Jenis Kelamin (2)'!L23-'30. Siswa Negeri Swasta'!N11 -> 869 | P11: 2227 | Q11: ='[1]29. Siswa Jenis Kelamin (2)'!M23+'[1]29. Siswa Jenis Kelamin (2)'!N23-'30. Siswa Negeri Swasta'!P11 -> 0 | R11: 1055 | S11: ='[1]29. Siswa Jenis Kelamin (2)'!O23+'[1]29. Siswa Jenis Kelamin (2)'!P23-'30. Siswa Negeri Swasta'!R11 -> 47 | T11: 0 | U11: ='[1]29. Siswa Jenis Kelamin (2)'!Q23+'[1]29. Siswa Jenis Kelamin (2)'!R23-'30. Siswa Negeri Swasta'!T11 -> 0 | V11: =SUM(H11:U11) -> 4644 | W11: Siswa
A12: Jawa Timur | B12: Nganjuk | C12: 2025 | D12: 35.18.10 | E12: Kecamatan Baron | F12: =SUM(H12,J12,L12,N12) -> 45 | G12: =SUM(I12,K12,M12,O12) -> 1213 | H12: 0 | I12: ='[1]29. Siswa Jenis Kelamin (2)'!E24+'[1]29. Siswa Jenis Kelamin (2)'!F24 -> 23 | J12: 0 | K12: ='[1]29. Siswa Jenis Kelamin (2)'!G24+'[1]29. Siswa Jenis Kelamin (2)'!H24 -> 46 | L12: 0 | M12: ='[1]29. Siswa Jenis Kelamin (2)'!I24+'[1]29. Siswa Jenis Kelamin (2)'!J24 -> 528 | N12: 45 | O12: ='[1]29. Siswa Jenis Kelamin (2)'!K24+'[1]29. Siswa Jenis Kelamin (2)'!L24-'30. Siswa Negeri Swasta'!N12 -> 616 | P12: 2270 | Q12: ='[1]29. Siswa Jenis Kelamin (2)'!M24+'[1]29. Siswa Jenis Kelamin (2)'!N24-'30. Siswa Negeri Swasta'!P12 -> 199 | R12: 1137 | S12: ='[1]29. Siswa Jenis Kelamin (2)'!O24+'[1]29. Siswa Jenis Kelamin (2)'!P24-'30. Siswa Negeri Swasta'!R12 -> 450 | T12: 0 | U12: ='[1]29. Siswa Jenis Kelamin (2)'!Q24+'[1]29. Siswa Jenis Kelamin (2)'!R24-'30. Siswa Negeri Swasta'!T12 -> 634 | V12: =SUM(H12:U12) -> 5948 | W12: Siswa
A13: Jawa Timur | B13: Nganjuk | C13: 2025 | D13: 35.18.11 | E13: Kecamatan Tanjunganom | F13: =SUM(H13,J13,L13,N13) -> 0 | G13: =SUM(I13,K13,M13,O13) -> 2458 | H13: 0 | I13: ='[1]29. Siswa Jenis Kelamin (2)'!E25+'[1]29. Siswa Jenis Kelamin (2)'!F25 -> 41 | J13: 0 | K13: ='[1]29. Siswa Jenis Kelamin (2)'!G25+'[1]29. Siswa Jenis Kelamin (2)'!H25 -> 0 | L13: 0 | M13: ='[1]29. Siswa Jenis Kelamin (2)'!I25+'[1]29. Siswa Jenis Kelamin (2)'!J25 -> 741 | N13: 0 | O13: ='[1]29. Siswa Jenis Kelamin (2)'!K25+'[1]29. Siswa Jenis Kelamin (2)'!L25-'30. Siswa Negeri Swasta'!N13 -> 1676 | P13: 5833 | Q13: ='[1]29. Siswa Jenis Kelamin (2)'!M25+'[1]29. Siswa Jenis Kelamin (2)'!N25-'30. Siswa Negeri Swasta'!P13 -> 784 | R13: 2330 | S13: ='[1]29. Siswa Jenis Kelamin (2)'!O25+'[1]29. Siswa Jenis Kelamin (2)'!P25-'30. Siswa Negeri Swasta'!R13 -> 727 | T13: 0 | U13: ='[1]29. Siswa Jenis Kelamin (2)'!Q25+'[1]29. Siswa Jenis Kelamin (2)'!R25-'30. Siswa Negeri Swasta'!T13 -> 86 | V13: =SUM(H13:U13) -> 12218 | W13: Siswa
A14: Jawa Timur | B14: Nganjuk | C14: 2025 | D14: 35.18.12 | E14: Kecamatan Sukomoro | F14: =SUM(H14,J14,L14,N14) -> 0 | G14: =SUM(I14,K14,M14,O14) -> 1138 | H14: 0 | I14: ='[1]29. Siswa Jenis Kelamin (2)'!E26+'[1]29. Siswa Jenis Kelamin (2)'!F26 -> 36 | J14: 0 | K14: ='[1]29. Siswa Jenis Kelamin (2)'!G26+'[1]29. Siswa Jenis Kelamin (2)'!H26 -> 0 | L14: 0 | M14: ='[1]29. Siswa Jenis Kelamin (2)'!I26+'[1]29. Siswa Jenis Kelamin (2)'!J26 -> 282 | N14: 0 | O14: ='[1]29. Siswa Jenis Kelamin (2)'!K26+'[1]29. Siswa Jenis Kelamin (2)'!L26-'30. Siswa Negeri Swasta'!N14 -> 820 | P14: 2519 | Q14: ='[1]29. Siswa Jenis Kelamin (2)'!M26+'[1]29. Siswa Jenis Kelamin (2)'!N26-'30. Siswa Negeri Swasta'!P14 -> 25 | R14: 869 | S14: ='[1]29. Siswa Jenis Kelamin (2)'!O26+'[1]29. Siswa Jenis Kelamin (2)'!P26-'30. Siswa Negeri Swasta'!R14 -> 93 | T14: 0 | U14: ='[1]29. Siswa Jenis Kelamin (2)'!Q26+'[1]29. Siswa Jenis Kelamin (2)'!R26-'30. Siswa Negeri Swasta'!T14 -> 0 | V14: =SUM(H14:U14) -> 4644 | W14: Siswa
... A16: Jawa Timur | B16: Nganjuk | C16: 2025 | D16: 35.18.14 | E16: Kecamatan Bagor | F16: =SUM(H16,J16,L16,N16) -> 0 | G16: =SUM(I16,K16,M16,O16) -> 1704 | H16: 0 | I16: ='[1]29. Siswa Jenis Kelamin (2)'!E28+'[1]29. Siswa Jenis Kelamin (2)'!F28 -> 63 | J16: 0 | K16: ='[1]29. Siswa Jenis Kelamin (2)'!G28+'[1]29. Siswa Jenis Kelamin (2)'!H28 -> 0 | L16: 0 | M16: ='[1]29. Siswa Jenis Kelamin (2)'!I28+'[1]29. Siswa Jenis Kelamin (2)'!J28 -> 418 | N16: 0 | O16: ='[1]29. Siswa Jenis Kelamin (2)'!K28+'[1]29. Siswa Jenis Kelamin (2)'!L28-'30. Siswa Negeri Swasta'!N16 -> 1223 | P16: 3103 | Q16: ='[1]29. Siswa Jenis Kelamin (2)'!M28+'[1]29. Siswa Jenis Kelamin (2)'!N28-'30. Siswa Negeri Swasta'!P16 -> 204 | R16: 1072 | S16: ='[1]29. Siswa Jenis Kelamin (2)'!O28+'[1]29. Siswa Jenis Kelamin (2)'!P28-'30. Siswa Negeri Swasta'!R16 -> 0 | T16: 0 | U16: ='[1]29. Siswa Jenis Kelamin (2)'!Q28+'[1]29. Siswa Jenis Kelamin (2)'!R28-'30. Siswa Negeri Swasta'!T16 -> 36 | V16: =SUM(H16:U16) -> 6119 | W16: Siswa
A17: Jawa Timur | B17: Nganjuk | C17: 2025 | D17: 1.4710069 | E17: Kecamatan Wilangan | F17: =SUM(H17,J17,L17,N17) -> 0 | G17: =SUM(I17,K17,M17,O17) -> 728 | H17: 0 | I17: ='[1]29. Siswa Jenis Kelamin (2)'!E31+'[1]29. Siswa Jenis Kelamin (2)'!F31 -> 0 | J17: 0 | K17: ='[1]29. Siswa Jenis Kelamin (2)'!G31+'[1]29. Siswa Jenis Kelamin (2)'!H31 -> 0 | L17: 0 | M17: ='[1]29. Siswa Jenis Kelamin (2)'!I31+'[1]29. Siswa Jenis Kelamin (2)'!J31 -> 253 | N17: 0 | O17: ='[1]29. Siswa Jenis Kelamin (2)'!K31+'[1]29. Siswa Jenis Kelamin (2)'!L31-'30. Siswa Negeri Swasta'!N17 -> 475 | P17: 1713 | Q17: ='[1]29. Siswa Jenis Kelamin (2)'!M31+'[1]29. Siswa Jenis Kelamin (2)'!N31-'30. Siswa Negeri Swasta'!P17 -> 0 | R17: 688 | S17: ='[1]29. Siswa Jenis Kelamin (2)'!O31+'[1]29. Siswa Jenis Kelamin (2)'!P31-'30. Siswa Negeri Swasta'!R17 -> 0 | T17: 0 | U17: ='[1]29. Siswa Jenis Kelamin (2)'!Q31+'[1]29. Siswa Jenis Kelamin (2)'!R31-'30. Siswa Negeri Swasta'!T17 -> 0 | V17: =SUM(H17:U17) -> 3129 | W17: Siswa
A18: Jawa Timur | B18: Nganjuk | C18: 2025 | D18: 35.18.16 | E18: Kecamatan Rejoso | F18: =SUM(H18,J18,L18,N18) -> 35 | G18: =SUM(I18,K18,M18,O18) -> 2062 | H18: 0 | I18: ='[1]29. Siswa Jenis Kelamin (2)'!E32+'[1]29. Siswa Jenis Kelamin (2)'!F32 -> 0 | J18: 0 | K18: ='[1]29. Siswa Jenis Kelamin (2)'!G32+'[1]29. Siswa Jenis Kelamin (2)'!H32 -> 16 | L18: 0 | M18: ='[1]29. Siswa Jenis Kelamin (2)'!I32+'[1]29. Siswa Jenis Kelamin (2)'!J32 -> 628 | N18: 35 | O18: ='[1]29. Siswa Jenis Kelamin (2)'!K32+'[1]29. Siswa Jenis Kelamin (2)'!L32-'30. Siswa Negeri Swasta'!N18 -> 1418 | P18: 4322 | Q18: ='[1]29. Siswa Jenis Kelamin (2)'!M32+'[1]29. Siswa Jenis Kelamin (2)'!N32-'30. Siswa Negeri Swasta'!P18 -> 138 | R18: 1758 | S18: ='[1]29. Siswa Jenis Kelamin (2)'!O32+'[1]29. Siswa Jenis Kelamin (2)'!P32-'30. Siswa Negeri Swasta'!R18 -> 0 | T18: 0 | U18: ='[1]29. Siswa Jenis Kelamin (2)'!Q32+'[1]29. Siswa Jenis Kelamin (2)'!R32-'30. Siswa Negeri Swasta'!T18 -> 0 | V18: =SUM(H18:U18) -> 8315 | W18: Siswa
A19: Jawa Timur | B19: Nganjuk | C19: 2025 | D19: 35.18.17 | E19: Kecamatan Gondang | F19: =SUM(H19,J19,L19,N19) -> 0 | G19: =SUM(I19,K19,M19,O19) -> 1645 | H19: 0 | I19: ='[1]29. Siswa Jenis Kelamin (2)'!E33+'[1]29. Siswa Jenis Kelamin (2)'!F33 -> 48 | J19: 0 | K19: ='[1]29. Siswa Jenis Kelamin (2)'!G33+'[1]29. Siswa Jenis Kelamin (2)'!H33 -> 0 | L19: 0 | M19: ='[1]29. Siswa Jenis Kelamin (2)'!I33+'[1]29. Siswa Jenis Kelamin (2)'!J33 -> 372 | N19: 0 | O19: ='[1]29. Siswa Jenis Kelamin (2)'!K33+'[1]29. Siswa Jenis Kelamin (2)'!L33-'30. Siswa Negeri Swasta'!N19 -> 1225 | P19: 3289 | Q19: ='[1]29. Siswa Jenis Kelamin (2)'!M33+'[1]29. Siswa Jenis Kelamin (2)'!N33-'30. Siswa Negeri Swasta'!P19 -> 330 | R19: 1421 | S19: ='[1]29. Siswa Jenis Kelamin (2)'!O33+'[1]29. Siswa Jenis Kelamin (2)'!P33-'30. Siswa Negeri Swasta'!R19 -> 101 | T19: 0 | U19: ='[1]29. Siswa Jenis Kelamin (2)'!Q33+'[1]29. Siswa Jenis Kelamin (2)'!R33-'30. Siswa Negeri Swasta'!T19 -> 0 | V19: =SUM(H19:U19) -> 6786 | W19: Siswa
A20: Jawa Timur | B20: Nganjuk | C20: 2025 | D20: 35.18.18 | E20: Kecamatan Ngluyu | F20: =SUM(H20,J20,L20,N20) -> 0 | G20: =SUM(I20,K20,M20,O20) -> 326 | H20: 0 | I20: ='[1]29. Siswa Jenis Kelamin (2)'!E34+'[1]29. Siswa Jenis Kelamin (2)'!F34 -> 0 | J20: 0 | K20: ='[1]29. Siswa Jenis Kelamin (2)'!G34+'[1]29. Siswa Jenis Kelamin (2)'!H34 -> 0 | L20: 0 | M20: ='[1]29. Siswa Jenis Kelamin (2)'!I34+'[1]29. Siswa Jenis Kelamin (2)'!J34 -> 97 | N20: 0 | O20: ='[1]29. Siswa Jenis Kelamin (2)'!K34+'[1]29. Siswa Jenis Kelamin (2)'!L34-'30. Siswa Negeri Swasta'!N20 -> 229 | P20: 684 | Q20: ='[1]29. Siswa Jenis Kelamin (2)'!M34+'[1]29. Siswa Jenis Kelamin (2)'!N34-'30. Siswa Negeri Swasta'!P20 -> 0 | R20: 311 | S20: ='[1]29. Siswa Jenis Kelamin (2)'!O34+'[1]29. Siswa Jenis Kelamin (2)'!P34-'30. Siswa Negeri Swasta'!R20 -> 0 | T20: 0 | U20: ='[1]29. Siswa Jenis Kelamin (2)'!Q34+'[1]29. Siswa Jenis Kelamin (2)'!R34-'30. Siswa Negeri Swasta'!T20 -> 0 | V20: =SUM(H20:U20) -> 1321 | W20: Siswa
A21: Jawa Timur | B21: Nganjuk | C21: 2025 | D21: 35.18.19 | E21: Kecamatan Lengkong | F21: =SUM(H21,J21,L21,N21) -> 0 | G21: =SUM(I21,K21,M21,O21) -> 1047 | H21: 0 | I21: ='[1]29. Siswa Jenis Kelamin (2)'!E35+'[1]29. Siswa Jenis Kelamin (2)'!F35 -> 0 | J21: 0 | K21: ='[1]29. Siswa Jenis Kelamin (2)'!G35+'[1]29. Siswa Jenis Kelamin (2)'!H35 -> 0 | L21: 0 | M21: ='[1]29. Siswa Jenis Kelamin (2)'!I35+'[1]29. Siswa Jenis Kelamin (2)'!J35 -> 405 | N21: 0 | O21: ='[1]29. Siswa Jenis Kelamin (2)'!K35+'[1]29. Siswa Jenis Kelamin (2)'!L35-'30. Siswa Negeri Swasta'!N21 -> 642 | P21: 2081 | Q21: ='[1]29. Siswa Jenis Kelamin (2)'!M35+'[1]29. Siswa Jenis Kelamin (2)'!N35-'30. Siswa Negeri Swasta'!P21 -> 0 | R21: 1047 | S21: ='[1]29. Siswa Jenis Kelamin (2)'!O35+'[1]29. Siswa Jenis Kelamin (2)'!P35-'30. Siswa Negeri Swasta'!R21 -> 0 | T21: 0 | U21: ='[1]29. Siswa Jenis Kelamin (2)'!Q35+'[1]29. Siswa Jenis Kelamin (2)'!R35-'30. Siswa Negeri Swasta'!T21 -> 140 | V21: =SUM(H21:U21) -> 4315 | W21: Siswa
A22: Jawa Timur | B22: Nganjuk | C22: 2025 | D22: 35.18.20 | E22: Kecamatan Jatikalen | F22: =SUM(H22,J22,L22,N22) -> 0 | G22: =SUM(I22,K22,M22,O22) -> 533 | H22: 0 | I22: ='[1]29. Siswa Jenis Kelamin (2)'!E36+'[1]29. Siswa Jenis Kelamin (2)'!F36 -> 15 | J22: 0 | K22: ='[1]29. Siswa Jenis Kelamin (2)'!G36+'[1]29. Siswa Jenis Kelamin (2)'!H36 -> 0 | L22: 0 | M22: ='[1]29. Siswa Jenis Kelamin (2)'!I36+'[1]29. Siswa Jenis Kelamin (2)'!J36 -> 205 | N22: 0 | O22: ='[1]29. Siswa Jenis Kelamin (2)'!K36+'[1]29. Siswa Jenis Kelamin (2)'!L36-'30. Siswa Negeri Swasta'!N22 -> 313 | P22: 1113 | Q22: ='[1]29. Siswa Jenis Kelamin (2)'!M36+'[1]29. Siswa Jenis Kelamin (2)'!N36-'30. Siswa Negeri Swasta'!P22 -> 0 | R22: 424 | S22: ='[1]29. Siswa Jenis Kelamin (2)'!O36+'[1]29. Siswa Jenis Kelamin (2)'!P36-'30. Siswa Negeri Swasta'!R22 -> 0 | T22: 0 | U22: ='[1]29. Siswa Jenis Kelamin (2)'!Q36+'[1]29. Siswa Jenis Kelamin (2)'!R36-'30. Siswa Negeri Swasta'!T22 -> 37 | V22: =SUM(H22:U22) -> 2107 | W22: Siswa
A23: Jumlah | F23: =SUM(F3:F22) -> 204 | G23: =SUM(G3:G22) -> 28717 | H23: =SUM(H3:H22) -> 0 | I23: =SUM(I3:I22) -> 396 | J23: =SUM(J3:J22) -> 0 | K23: =SUM(K3:K22) -> 231 | L23: =SUM(L3:L22) -> 0 | M23: =SUM(M3:M22) -> 8349 | ... U23: =SUM(U3:U22) -> 1426 | V23: =SUM(H23:U23) -> 130810
